BEGIN:VCALENDAR
VERSION:2.0
PRODID:-//Kentucky Motorsports Magazine / KYMOTOMAG - ECPv6.15.20//NONSGML v1.0//EN
CALSCALE:GREGORIAN
METHOD:PUBLISH
X-ORIGINAL-URL:https://kymotomag.com
X-WR-CALDESC:Events for Kentucky Motorsports Magazine / KYMOTOMAG
REFRESH-INTERVAL;VALUE=DURATION:PT1H
X-Robots-Tag:noindex
X-PUBLISHED-TTL:PT1H
BEGIN:VTIMEZONE
TZID:America/Kentucky/Louisville
BEGIN:DAYLIGHT
TZOFFSETFROM:-0500
TZOFFSETTO:-0400
TZNAME:EDT
DTSTART:20250309T070000
END:DAYLIGHT
BEGIN:STANDARD
TZOFFSETFROM:-0400
TZOFFSETTO:-0500
TZNAME:EST
DTSTART:20251102T060000
END:STANDARD
BEGIN:DAYLIGHT
TZOFFSETFROM:-0500
TZOFFSETTO:-0400
TZNAME:EDT
DTSTART:20260308T070000
END:DAYLIGHT
BEGIN:STANDARD
TZOFFSETFROM:-0400
TZOFFSETTO:-0500
TZNAME:EST
DTSTART:20261101T060000
END:STANDARD
BEGIN:DAYLIGHT
TZOFFSETFROM:-0500
TZOFFSETTO:-0400
TZNAME:EDT
DTSTART:20270314T070000
END:DAYLIGHT
BEGIN:STANDARD
TZOFFSETFROM:-0400
TZOFFSETTO:-0500
TZNAME:EST
DTSTART:20271107T060000
END:STANDARD
END:VTIMEZONE
BEGIN:VEVENT
DTSTART;VALUE=DATE:20260326
DTEND;VALUE=DATE:20260329
DTSTAMP:20260420T031449
CREATED:20250617T013759Z
LAST-MODIFIED:20250617T013759Z
UID:3087-1774483200-1774742399@kymotomag.com
SUMMARY:Mid America Trucking Show
DESCRIPTION:
URL:https://kymotomag.com/event/mid-america-trucking-show/
LOCATION:Louisville\, KY\, United States
ATTACH;FMTTYPE=image/webp:https://kymotomag.com/wp-content/uploads/2025/06/midamerica_trucking_show_logo.webp
END:VEVENT
BEGIN:VEVENT
DTSTART;VALUE=DATE:20260326
DTEND;VALUE=DATE:20260329
DTSTAMP:20260420T031449
CREATED:20250825T015122Z
LAST-MODIFIED:20250825T015122Z
UID:3807-1774483200-1774742399@kymotomag.com
SUMMARY:Mid America Trucking Show
DESCRIPTION:
URL:https://kymotomag.com/event/mid-america-trucking-show-2/
LOCATION:Kentucky Expo Center\, 937 Phillips Lane\, Louisville\, KY\, 40209\, United States
ATTACH;FMTTYPE=image/webp:https://kymotomag.com/wp-content/uploads/2025/06/midamerica_trucking_show_logo.webp
END:VEVENT
END:VCALENDAR