BEGIN:VCALENDAR
VERSION:2.0
PRODID:-//Kentucky Motorsports Magazine / KYMOTOMAG - ECPv6.15.20//NONSGML v1.0//EN
CALSCALE:GREGORIAN
METHOD:PUBLISH
X-WR-CALNAME:Kentucky Motorsports Magazine / KYMOTOMAG
X-ORIGINAL-URL:https://kymotomag.com
X-WR-CALDESC:Events for Kentucky Motorsports Magazine / KYMOTOMAG
REFRESH-INTERVAL;VALUE=DURATION:PT1H
X-Robots-Tag:noindex
X-PUBLISHED-TTL:PT1H
BEGIN:VTIMEZONE
TZID:America/Kentucky/Louisville
BEGIN:DAYLIGHT
TZOFFSETFROM:-0500
TZOFFSETTO:-0400
TZNAME:EDT
DTSTART:20240310T070000
END:DAYLIGHT
BEGIN:STANDARD
TZOFFSETFROM:-0400
TZOFFSETTO:-0500
TZNAME:EST
DTSTART:20241103T060000
END:STANDARD
BEGIN:DAYLIGHT
TZOFFSETFROM:-0500
TZOFFSETTO:-0400
TZNAME:EDT
DTSTART:20250309T070000
END:DAYLIGHT
BEGIN:STANDARD
TZOFFSETFROM:-0400
TZOFFSETTO:-0500
TZNAME:EST
DTSTART:20251102T060000
END:STANDARD
BEGIN:DAYLIGHT
TZOFFSETFROM:-0500
TZOFFSETTO:-0400
TZNAME:EDT
DTSTART:20260308T070000
END:DAYLIGHT
BEGIN:STANDARD
TZOFFSETFROM:-0400
TZOFFSETTO:-0500
TZNAME:EST
DTSTART:20261101T060000
END:STANDARD
END:VTIMEZONE
BEGIN:VEVENT
DTSTART;TZID=America/Kentucky/Louisville:20250625T170000
DTEND;TZID=America/Kentucky/Louisville:20250625T200000
DTSTAMP:20260422T192904
CREATED:20250625T231210Z
LAST-MODIFIED:20250625T231346Z
UID:3297-1750870800-1750881600@kymotomag.com
SUMMARY:El Toro Weekly Cruise In
DESCRIPTION:
URL:https://kymotomag.com/event/el-toro-weekly-cruise-in/
LOCATION:Walton\, KY\, United States
ATTACH;FMTTYPE=image/jpeg:https://kymotomag.com/wp-content/uploads/2025/06/El-Toro.jpg
END:VEVENT
BEGIN:VEVENT
DTSTART;VALUE=DATE:20250803
DTEND;VALUE=DATE:20250804
DTSTAMP:20260422T192904
CREATED:20250728T002635Z
LAST-MODIFIED:20250728T002635Z
UID:3627-1754179200-1754265599@kymotomag.com
SUMMARY:Mini Stock Mania
DESCRIPTION:
URL:https://kymotomag.com/event/mini-stock-mania/
LOCATION:Windy Hollow Speedway\, 4731 Windy Hollow Road\, Owensboro\, United States
ATTACH;FMTTYPE=image/jpeg:https://kymotomag.com/wp-content/uploads/2025/07/08_03_Mini_Stock.jpg
END:VEVENT
BEGIN:VEVENT
DTSTART;VALUE=DATE:20250803
DTEND;VALUE=DATE:20250804
DTSTAMP:20260422T192904
CREATED:20250728T001309Z
LAST-MODIFIED:20250728T001309Z
UID:3610-1754179200-1754265599@kymotomag.com
SUMMARY:Night Hawgs Poker Run
DESCRIPTION:
URL:https://kymotomag.com/event/night-hawgs-poker-run/
LOCATION:Louisville\, KY\, United States
CATEGORIES:Motorcycle
ATTACH;FMTTYPE=image/jpeg:https://kymotomag.com/wp-content/uploads/2025/07/08_03_Night_Hawgs.jpg
END:VEVENT
BEGIN:VEVENT
DTSTART;VALUE=DATE:20250731
DTEND;VALUE=DATE:20250801
DTSTAMP:20260422T192904
CREATED:20241020T234458Z
LAST-MODIFIED:20250730T005156Z
UID:1817-1753920000-1754006399@kymotomag.com
SUMMARY:Street Rod Nationals
DESCRIPTION:
URL:https://kymotomag.com/event/street-rod-nationals-2/
LOCATION:Kentucky Expo Center\, 937 Phillips Lane\, Louisville\, KY\, 40209\, United States
ATTACH;FMTTYPE=image/jpeg:https://kymotomag.com/wp-content/uploads/2024/10/SRN.jpg
END:VEVENT
BEGIN:VEVENT
DTSTART;TZID=America/Kentucky/Louisville:20250510T180000
DTEND;TZID=America/Kentucky/Louisville:20250510T200000
DTSTAMP:20260422T192904
CREATED:20250503T144048Z
LAST-MODIFIED:20250503T144149Z
UID:2109-1746900000-1746907200@kymotomag.com
SUMMARY:Wheels and Reels Cruise Night
DESCRIPTION:Located at the Movie Tavern\, 150 Langley Drive..(Brannon Crossing)\, Nicholasville\, KY\, 40356 from 6-8 PM and Hosted by Kickin’ Grass Landscapes.\n\nThis is the All New \, Night Car Show….Now meeting on the 2nd Saturday of Month… April through October.\nThis is a People’s Choice Awards.\nThis is also a Free Event with Give-a-ways each Month …and…. Food and Bar inside the Movie Tavern.
URL:https://kymotomag.com/event/wheels-and-reels-cruise-night/
LOCATION:Movie Tavern\, 150 Langley Drive\, Nicholasville\, 40356\, United States
CATEGORIES:Cruise Night
ATTACH;FMTTYPE=image/jpeg:https://kymotomag.com/wp-content/uploads/2025/05/Wheels_Reels_Cruise.jpg
END:VEVENT
BEGIN:VEVENT
DTSTART;TZID=America/Kentucky/Louisville:20250607T173000
DTEND;TZID=America/Kentucky/Louisville:20250607T200000
DTSTAMP:20260422T192904
CREATED:20250605T005538Z
LAST-MODIFIED:20250618T025107Z
UID:2709-1749317400-1749326400@kymotomag.com
SUMMARY:Classic Cruise
DESCRIPTION:
URL:https://kymotomag.com/event/classic-cruise/
LOCATION:Louisville\, KY\, United States
ATTACH;FMTTYPE=image/jpeg:https://kymotomag.com/wp-content/uploads/2025/06/classic.jpg
END:VEVENT
BEGIN:VEVENT
DTSTART;TZID=America/Kentucky/Louisville:20250802T170000
DTEND;TZID=America/Kentucky/Louisville:20250802T220000
DTSTAMP:20260422T192904
CREATED:20250728T001929Z
LAST-MODIFIED:20250728T001929Z
UID:3618-1754154000-1754172000@kymotomag.com
SUMMARY:Cars & a Bar
DESCRIPTION:
URL:https://kymotomag.com/event/cars-a-bar/
LOCATION:Louisville\, KY\, United States
ATTACH;FMTTYPE=image/jpeg:https://kymotomag.com/wp-content/uploads/2025/07/08_02_Cars_Bar.jpg
END:VEVENT
BEGIN:VEVENT
DTSTART;TZID=America/Kentucky/Louisville:20250802T170000
DTEND;TZID=America/Kentucky/Louisville:20250802T210000
DTSTAMP:20260422T192904
CREATED:20250728T001724Z
LAST-MODIFIED:20250728T001724Z
UID:3616-1754154000-1754168400@kymotomag.com
SUMMARY:Hot Rod Week at Mike Linnig's
DESCRIPTION:
URL:https://kymotomag.com/event/hot-rod-week-at-mike-linnigs-2/
LOCATION:Louisville\, KY\, United States
ATTACH;FMTTYPE=image/jpeg:https://kymotomag.com/wp-content/uploads/2025/07/Mike_Linnigs.jpg
END:VEVENT
BEGIN:VEVENT
DTSTART;TZID=America/Kentucky/Louisville:20250510T170000
DTEND;TZID=America/Kentucky/Louisville:20250510T200000
DTSTAMP:20260422T192904
CREATED:20250503T143059Z
LAST-MODIFIED:20250503T143059Z
UID:2101-1746896400-1746907200@kymotomag.com
SUMMARY:Old Bridge General Store Cruise Night
DESCRIPTION:
URL:https://kymotomag.com/event/old-bridge-general-store-cruise-night/
LOCATION:Old Bridge General Store\, 101 Dory Drive\, Salvisa\, United States
CATEGORIES:Cruise Night
ATTACH;FMTTYPE=image/jpeg:https://kymotomag.com/wp-content/uploads/2025/05/Cruise-Night.jpg
END:VEVENT
BEGIN:VEVENT
DTSTART;TZID=America/Kentucky/Louisville:20250705T160000
DTEND;TZID=America/Kentucky/Louisville:20250705T200000
DTSTAMP:20260422T192904
CREATED:20250705T002730Z
LAST-MODIFIED:20250705T002829Z
UID:3425-1751731200-1751745600@kymotomag.com
SUMMARY:Jenkins Cruise In
DESCRIPTION:Jenkins Cruise In is held on the first Saturday of the month May through October at 4 pm in the park downtown Jenkins KY. Free admission. No entry fee.
URL:https://kymotomag.com/event/jenkins-cruise-in-2/
LOCATION:Jenkins\, KY\, United States
ATTACH;FMTTYPE=image/jpeg:https://kymotomag.com/wp-content/uploads/2025/07/jenkins.jpg
END:VEVENT
BEGIN:VEVENT
DTSTART;TZID=America/Kentucky/Louisville:20250802T110000
DTEND;TZID=America/Kentucky/Louisville:20250802T150000
DTSTAMP:20260422T192904
CREATED:20250630T011956Z
LAST-MODIFIED:20250630T011956Z
UID:3385-1754132400-1754146800@kymotomag.com
SUMMARY:2nd Annual Duck Cancer Jeep Invasion
DESCRIPTION:2nd Annual Duck Cancer Jeep InvasionDanville\, KY!!!\nProceeds will benefit Boyle-Mercer Relay for Life\nIt will be a fun day of fundraising for a cure with food\, music\, vendors\, and awards!!!\n\nLocation:\nDanville Cinemas 8\n1001 Ben Ali Drive\nDanville\, KY
URL:https://kymotomag.com/event/2nd-annual-duck-cancer-jeep-invasion/
LOCATION:Danville\, KY\, Danville\, United States
ATTACH;FMTTYPE=image/jpeg:https://kymotomag.com/wp-content/uploads/2025/06/duck-jeep.jpg
END:VEVENT
BEGIN:VEVENT
DTSTART;TZID=America/Kentucky/Louisville:20250802T110000
DTEND;TZID=America/Kentucky/Louisville:20250802T140000
DTSTAMP:20260422T192904
CREATED:20250726T135446Z
LAST-MODIFIED:20250726T135446Z
UID:3576-1754132400-1754143200@kymotomag.com
SUMMARY:Green River Pentecostal Church Annual Car Show
DESCRIPTION:Location: \nGreen River Pentecostal Church \n7337 KY Highway 698 \nHustonville\, KY
URL:https://kymotomag.com/event/green-river-pentecostal-church-annual-car-show/
LOCATION:Hustonville\, KY\, United States
ATTACH;FMTTYPE=image/jpeg:https://kymotomag.com/wp-content/uploads/2025/07/Green-River.jpg
END:VEVENT
BEGIN:VEVENT
DTSTART;TZID=America/Kentucky/Louisville:20250802T100000
DTEND;TZID=America/Kentucky/Louisville:20250802T140000
DTSTAMP:20260422T192904
CREATED:20250723T005349Z
LAST-MODIFIED:20250723T005349Z
UID:3547-1754128800-1754143200@kymotomag.com
SUMMARY:Glory Days Car Club - For The Kids Charity Car Show
DESCRIPTION:
URL:https://kymotomag.com/event/glory-days-car-club-for-the-kids-charity-car-show/
LOCATION:Lancaster\, KY\, United States
ATTACH;FMTTYPE=image/jpeg:https://kymotomag.com/wp-content/uploads/2025/07/08-02_Glory_Days.jpg
END:VEVENT
BEGIN:VEVENT
DTSTART;TZID=America/Kentucky/Louisville:20250802T100000
DTEND;TZID=America/Kentucky/Louisville:20250802T120000
DTSTAMP:20260422T192904
CREATED:20250630T004202Z
LAST-MODIFIED:20250630T004202Z
UID:3365-1754128800-1754136000@kymotomag.com
SUMMARY:Legends Car Show
DESCRIPTION:Show dedicated to legendary names of the past. \nRegistration $10.00 or a bag of dog/cat food \nAll proceeds go to Pulaski Co Animals in need. \nLocation \n3375 KY-80 \nSomerset\, KY  42501
URL:https://kymotomag.com/event/legends-car-show/
LOCATION:Somerset\, KY
ATTACH;FMTTYPE=image/jpeg:https://kymotomag.com/wp-content/uploads/2025/06/Legends.jpg
END:VEVENT
BEGIN:VEVENT
DTSTART;TZID=America/Kentucky/Louisville:20250802T090000
DTEND;TZID=America/Kentucky/Louisville:20250802T150000
DTSTAMP:20260422T192904
CREATED:20250605T011416Z
LAST-MODIFIED:20250605T011416Z
UID:2722-1754125200-1754146800@kymotomag.com
SUMMARY:2nd Annual Regal Rexnord Car Show
DESCRIPTION:
URL:https://kymotomag.com/event/2nd-annual-regal-rexnord-car-show-2/
LOCATION:Morehead\, KY\, United States
ATTACH;FMTTYPE=image/png:https://kymotomag.com/wp-content/uploads/2025/06/Regal.png
END:VEVENT
BEGIN:VEVENT
DTSTART;TZID=America/Kentucky/Louisville:20250802T090000
DTEND;TZID=America/Kentucky/Louisville:20250802T140000
DTSTAMP:20260422T192904
CREATED:20250619T223536Z
LAST-MODIFIED:20250619T223536Z
UID:3176-1754125200-1754143200@kymotomag.com
SUMMARY:Cruisin' For Cancer 5K & Car Show
DESCRIPTION:
URL:https://kymotomag.com/event/cruisin-for-cancer-5k-car-show/
LOCATION:John Hardin High School\, 384 W A Jenkins Road\, Elizabethtown\, United States
ATTACH;FMTTYPE=image/jpeg:https://kymotomag.com/wp-content/uploads/2025/06/Cruisin-for-cancer.jpg
END:VEVENT
BEGIN:VEVENT
DTSTART;TZID=America/Kentucky/Louisville:20250802T090000
DTEND;TZID=America/Kentucky/Louisville:20250802T140000
DTSTAMP:20260422T192904
CREATED:20250610T232658Z
LAST-MODIFIED:20250610T232658Z
UID:2905-1754125200-1754143200@kymotomag.com
SUMMARY:Classic Cars Meet Modern Art
DESCRIPTION:
URL:https://kymotomag.com/event/classic-cars-meet-modern-art/
LOCATION:Florence\, KY\, Florence\, United States
ATTACH;FMTTYPE=image/jpeg:https://kymotomag.com/wp-content/uploads/2025/06/florence.jpg
END:VEVENT
BEGIN:VEVENT
DTSTART;TZID=America/Kentucky/Louisville:20250802T090000
DTEND;TZID=America/Kentucky/Louisville:20250802T110000
DTSTAMP:20260422T192904
CREATED:20250728T002341Z
LAST-MODIFIED:20250728T002341Z
UID:3624-1754125200-1754132400@kymotomag.com
SUMMARY:FSCC August Gathering
DESCRIPTION:
URL:https://kymotomag.com/event/fscc-august-gathering/
LOCATION:Lexington\, KY\, United States
ATTACH;FMTTYPE=image/jpeg:https://kymotomag.com/wp-content/uploads/2025/07/08_02_FSCC_Gathering.jpg
END:VEVENT
BEGIN:VEVENT
DTSTART;TZID=America/Kentucky/Louisville:20250607T090000
DTEND;TZID=America/Kentucky/Louisville:20250607T110000
DTSTAMP:20260422T192904
CREATED:20250507T014844Z
LAST-MODIFIED:20250507T014844Z
UID:2292-1749286800-1749294000@kymotomag.com
SUMMARY:First Saturday Cars & Coffee
DESCRIPTION:For over a decade this first Saturday monthly event has been the go to for all gear heads in Central KY. This event is a family friendly\, safe gathering with all makes and models of vehicles welcome. Come out between the hours of 9:00 and 11:00am on the first Saturday of every month to the Blue Grass Regional Marketplace located at 4561 Iron Works Pike\, Lexington\, KY
URL:https://kymotomag.com/event/first-saturday-cars-coffee/
LOCATION:Bluegrass Stockyards\, 4561 Iron Works Pike\, Lexington\, KY\, 40511\, United States
ATTACH;FMTTYPE=image/webp:https://kymotomag.com/wp-content/uploads/2024/01/BG-Cars-and-Coffee.webp
END:VEVENT
BEGIN:VEVENT
DTSTART;TZID=America/Kentucky/Louisville:20250607T090000
DTEND;TZID=America/Kentucky/Louisville:20250607T110000
DTSTAMP:20260422T192904
CREATED:20250507T014620Z
LAST-MODIFIED:20250507T014620Z
UID:2289-1749286800-1749294000@kymotomag.com
SUMMARY:Lexington Cars & Coffee
DESCRIPTION:
URL:https://kymotomag.com/event/lexington-cars-coffee-3/
LOCATION:Southland Church\, 2349 Richmond Road\, Lexington\, KY\, 40502\, United States
CATEGORIES:Cars & Coffee
ATTACH;FMTTYPE=image/gif:https://kymotomag.com/wp-content/uploads/2023/12/Cars_Coffee.gif
END:VEVENT
BEGIN:VEVENT
DTSTART;TZID=America/Kentucky/Louisville:20250802T080000
DTEND;TZID=America/Kentucky/Louisville:20250802T170000
DTSTAMP:20260422T192904
CREATED:20250508T210148Z
LAST-MODIFIED:20250728T020139Z
UID:2340-1754121600-1754154000@kymotomag.com
SUMMARY:Bluegrass Corvette Cruise-In
DESCRIPTION:Save the date! Bluegrass Corvette Cruise-In is back Saturday\, August 2nd 10 AM – 2 PM.  This event is FREE and will feature The Bluegrass Corvette Club – BGCC Group’s incredible cars\, delicious food & beverages\, local vendors\, live music\, giveaways and more!\n\n\nStay tuned for updates on our socials as we roll closer to the big day.\n\n\n\nMarriott Lexington Griffin Gate Golf Resort & Spa\n\n1800 Newtown Pike\, Lexington\, KY 40511
URL:https://kymotomag.com/event/bluegrass-corvette-cruise-in/
LOCATION:Lexington\, Lexington\, KY\, United States
CATEGORIES:Cruise-In
ATTACH;FMTTYPE=image/jpeg:https://kymotomag.com/wp-content/uploads/2025/05/08_02_2025_Corvette_Cruise_In.jpg
END:VEVENT
BEGIN:VEVENT
DTSTART;TZID=America/Kentucky/Louisville:20250802T080000
DTEND;TZID=America/Kentucky/Louisville:20250802T140000
DTSTAMP:20260422T192904
CREATED:20250723T004803Z
LAST-MODIFIED:20250723T004803Z
UID:3544-1754121600-1754143200@kymotomag.com
SUMMARY:Show N Go Car Club Car Show
DESCRIPTION:
URL:https://kymotomag.com/event/show-n-go-car-club-car-show/
LOCATION:Madisonville\, KY\, United States
ATTACH;FMTTYPE=image/jpeg:https://kymotomag.com/wp-content/uploads/2025/07/Aud_2_Show_n_Go.jpg
END:VEVENT
BEGIN:VEVENT
DTSTART;TZID=America/Kentucky/Louisville:20250607T080000
DTEND;TZID=America/Kentucky/Louisville:20250607T110000
DTSTAMP:20260422T192904
CREATED:20250605T004138Z
LAST-MODIFIED:20250605T004427Z
UID:2700-1749283200-1749294000@kymotomag.com
SUMMARY:Cave City Cars & Coffee
DESCRIPTION:
URL:https://kymotomag.com/event/cave-city-cars-coffee/
LOCATION:Cave City\, KY\, United States
ATTACH;FMTTYPE=image/jpeg:https://kymotomag.com/wp-content/uploads/2025/06/cave-city.jpg
END:VEVENT
BEGIN:VEVENT
DTSTART;TZID=America/Kentucky/Louisville:20250802T080000
DTEND;TZID=America/Kentucky/Louisville:20250802T103000
DTSTAMP:20260422T192904
CREATED:20250617T020237Z
LAST-MODIFIED:20250617T020237Z
UID:3096-1754121600-1754130600@kymotomag.com
SUMMARY:Jeeps & Java
DESCRIPTION:
URL:https://kymotomag.com/event/jeeps-java/
LOCATION:Louisville\, KY\, United States
ATTACH;FMTTYPE=image/jpeg:https://kymotomag.com/wp-content/uploads/2025/06/Jeeps_Java.jpg
END:VEVENT
BEGIN:VEVENT
DTSTART;VALUE=DATE:20250802
DTEND;VALUE=DATE:20250803
DTSTAMP:20260422T192904
CREATED:20250729T001244Z
LAST-MODIFIED:20250729T001244Z
UID:3664-1754092800-1754179199@kymotomag.com
SUMMARY:NCM Drift Day
DESCRIPTION:Have you ever wanted to drift or are you a seasoned pro\, this open drift day is for you!  Come out and enjoy the east track and see what the sinkhole is all about.  We will be running a single drift line and a tandem drift line all day.\nPre-registration is $100\, day-of registrations will be $150 and not guaranteed to be admitted depending on car counts.\nRide alongs will be permitted at an additional fee. Garage rental available.\nIf you have any questions\, please reach out to ashley.white@motorsportspark.org. \nFree admission fee for spectators\, $40 ride along fee
URL:https://kymotomag.com/event/ncm-drift-day/
LOCATION:NCM Motorsports Park\, 505 Kimberlee A Fast Drive\, Bowling Green\, KY\, 42103\, United States
ATTACH;FMTTYPE=image/jpeg:https://kymotomag.com/wp-content/uploads/2025/07/ncm-logo.jpg
END:VEVENT
BEGIN:VEVENT
DTSTART;VALUE=DATE:20250802
DTEND;VALUE=DATE:20250803
DTSTAMP:20260422T192904
CREATED:20250728T003419Z
LAST-MODIFIED:20250728T003419Z
UID:3636-1754092800-1754179199@kymotomag.com
SUMMARY:Freedom Run 2025
DESCRIPTION:
URL:https://kymotomag.com/event/freedom-run-2025/
LOCATION:Lexington\, KY\, United States
CATEGORIES:Motorcycle
ATTACH;FMTTYPE=image/jpeg:https://kymotomag.com/wp-content/uploads/2025/07/08_02_Freedom_Run.jpg
END:VEVENT
BEGIN:VEVENT
DTSTART;VALUE=DATE:20250731
DTEND;VALUE=DATE:20250801
DTSTAMP:20260422T192905
CREATED:20241020T234458Z
LAST-MODIFIED:20250730T005156Z
UID:1817-1753920000-1754006399@kymotomag.com
SUMMARY:Street Rod Nationals
DESCRIPTION:
URL:https://kymotomag.com/event/street-rod-nationals-2/
LOCATION:Kentucky Expo Center\, 937 Phillips Lane\, Louisville\, KY\, 40209\, United States
ATTACH;FMTTYPE=image/jpeg:https://kymotomag.com/wp-content/uploads/2024/10/SRN.jpg
END:VEVENT
BEGIN:VEVENT
DTSTART;TZID=America/Kentucky/Louisville:20250509T170000
DTEND;TZID=America/Kentucky/Louisville:20250509T203000
DTSTAMP:20260422T192905
CREATED:20250503T141312Z
LAST-MODIFIED:20250503T141438Z
UID:2091-1746810000-1746822600@kymotomag.com
SUMMARY:Southland Shopping Center Cruise Night
DESCRIPTION:Located in the Southland Shopping Center\, 396 and 398 Southland Drive\, Lexington\, KY 40503 (In front of GoodYear Tires and Critchfield Meats)….from 5:00 until Dark…and Hosted by Rodders\, Inc.\n\nGoodYear and Critchfield Both Ask the Cruisers to Park by the Southland Drive side of the Parking Lot as to Allow Customers to Park in Front of the Buildings.\n\nThis is an Informal Meet and Greet cruise. A Variety of Restaurants Close…Plenty of Parking. Come Out to See Old Friends and Make New Ones.
URL:https://kymotomag.com/event/southland-shopping-center-cruise-night/
LOCATION:Southland Shopping Center\, 396 Southland Drive\, Lexington\, United States
CATEGORIES:Cruise Night
ATTACH;FMTTYPE=image/jpeg:https://kymotomag.com/wp-content/uploads/2025/05/Cruise-Night.jpg
END:VEVENT
BEGIN:VEVENT
DTSTART;VALUE=DATE:20250613
DTEND;VALUE=DATE:20250614
DTSTAMP:20260422T192905
CREATED:20250611T190533Z
LAST-MODIFIED:20250611T190829Z
UID:2977-1749772800-1749859199@kymotomag.com
SUMMARY:Friday Bike Night at Vintage 99 Motorcycle Museum
DESCRIPTION:Join us for the first Bike Night of the 2025 season at Vintage 99 in proud partnership with Bluegrass Harley-Davidson. Whether you ride a vintage beauty or a modern legend\, this evening is all about celebrating the spirit of the open road.\nEnjoy an evening of cold drinks\, live music\, cornhole\, and camaraderie among fellow motorcycle enthusiasts. It’s the perfect time to reunite with your riding community\, show off your bikes\, and kick off the season in style.\nDrink specials will be flowing all night\, and the atmosphere will be fueled by throttle\, friendship\, and unmistakable Harley-Davidson pride.\nAll makes and models welcome.\nDoors open at 6pm!\n\n10205r Taylorsville Rd.\, Jeffersontown\, KY 40299
URL:https://kymotomag.com/event/friday-bike-night-at-vintage-99-motorcycle-museum/
LOCATION:Jeffersontown\, KY\, United States
CATEGORIES:Cruise Night,Motorcycle
ATTACH;FMTTYPE=image/jpeg:https://kymotomag.com/wp-content/uploads/2025/06/Vintage_99.jpg
END:VEVENT
BEGIN:VEVENT
DTSTART;VALUE=DATE:20250404
DTEND;VALUE=DATE:20250405
DTSTAMP:20260422T192905
CREATED:20241021T013720Z
LAST-MODIFIED:20250104T164637Z
UID:1862-1743724800-1743811199@kymotomag.com
SUMMARY:Liberty Friday Night Cruisers Car Show
DESCRIPTION:Liberty Friday Night Cruisers comes to downtown Liberty around the Courthouse Square every first Friday of April-October! Vendors and cars will be covering the streets from 6-9p EST.
URL:https://kymotomag.com/event/liberty-friday-night-cruisers-car-show/
LOCATION:Downtown Liberty\, 137 Courthouse Square\, Liberty\, 42539\, United States
ATTACH;FMTTYPE=image/png:https://kymotomag.com/wp-content/uploads/2024/10/Liberty-Friday-Night-Cruise.png
END:VEVENT
END:VCALENDAR