BEGIN:VCALENDAR
VERSION:2.0
PRODID:-//Kentucky Motorsports Magazine / KYMOTOMAG - ECPv6.15.20//NONSGML v1.0//EN
CALSCALE:GREGORIAN
METHOD:PUBLISH
X-WR-CALNAME:Kentucky Motorsports Magazine / KYMOTOMAG
X-ORIGINAL-URL:https://kymotomag.com
X-WR-CALDESC:Events for Kentucky Motorsports Magazine / KYMOTOMAG
REFRESH-INTERVAL;VALUE=DURATION:PT1H
X-Robots-Tag:noindex
X-PUBLISHED-TTL:PT1H
BEGIN:VTIMEZONE
TZID:America/Kentucky/Louisville
BEGIN:DAYLIGHT
TZOFFSETFROM:-0500
TZOFFSETTO:-0400
TZNAME:EDT
DTSTART:20240310T070000
END:DAYLIGHT
BEGIN:STANDARD
TZOFFSETFROM:-0400
TZOFFSETTO:-0500
TZNAME:EST
DTSTART:20241103T060000
END:STANDARD
BEGIN:DAYLIGHT
TZOFFSETFROM:-0500
TZOFFSETTO:-0400
TZNAME:EDT
DTSTART:20250309T070000
END:DAYLIGHT
BEGIN:STANDARD
TZOFFSETFROM:-0400
TZOFFSETTO:-0500
TZNAME:EST
DTSTART:20251102T060000
END:STANDARD
BEGIN:DAYLIGHT
TZOFFSETFROM:-0500
TZOFFSETTO:-0400
TZNAME:EDT
DTSTART:20260308T070000
END:DAYLIGHT
BEGIN:STANDARD
TZOFFSETFROM:-0400
TZOFFSETTO:-0500
TZNAME:EST
DTSTART:20261101T060000
END:STANDARD
END:VTIMEZONE
BEGIN:VEVENT
DTSTART;TZID=America/Kentucky/Louisville:20250620T170000
DTEND;TZID=America/Kentucky/Louisville:20250620T203000
DTSTAMP:20260422T175928
CREATED:20250619T222823Z
LAST-MODIFIED:20250619T222823Z
UID:3171-1750438800-1750451400@kymotomag.com
SUMMARY:The Gate City Cruise-In
DESCRIPTION:
URL:https://kymotomag.com/event/the-gate-city-cruise-in/
LOCATION:Catlettsburg\, KY
ATTACH;FMTTYPE=image/jpeg:https://kymotomag.com/wp-content/uploads/2025/06/Catlettsburg.jpg
END:VEVENT
BEGIN:VEVENT
DTSTART;TZID=America/Kentucky/Louisville:20250509T170000
DTEND;TZID=America/Kentucky/Louisville:20250509T203000
DTSTAMP:20260422T175928
CREATED:20250503T141312Z
LAST-MODIFIED:20250503T141438Z
UID:2091-1746810000-1746822600@kymotomag.com
SUMMARY:Southland Shopping Center Cruise Night
DESCRIPTION:Located in the Southland Shopping Center\, 396 and 398 Southland Drive\, Lexington\, KY 40503 (In front of GoodYear Tires and Critchfield Meats)….from 5:00 until Dark…and Hosted by Rodders\, Inc.\n\nGoodYear and Critchfield Both Ask the Cruisers to Park by the Southland Drive side of the Parking Lot as to Allow Customers to Park in Front of the Buildings.\n\nThis is an Informal Meet and Greet cruise. A Variety of Restaurants Close…Plenty of Parking. Come Out to See Old Friends and Make New Ones.
URL:https://kymotomag.com/event/southland-shopping-center-cruise-night/
LOCATION:Southland Shopping Center\, 396 Southland Drive\, Lexington\, United States
CATEGORIES:Cruise Night
ATTACH;FMTTYPE=image/jpeg:https://kymotomag.com/wp-content/uploads/2025/05/Cruise-Night.jpg
END:VEVENT
BEGIN:VEVENT
DTSTART;TZID=America/Kentucky/Louisville:20250516T170000
DTEND;TZID=America/Kentucky/Louisville:20250516T200000
DTSTAMP:20260422T175928
CREATED:20250503T150334Z
LAST-MODIFIED:20250503T150334Z
UID:2132-1747414800-1747425600@kymotomag.com
SUMMARY:Stanford Wilderness Road Car Cruise-In
DESCRIPTION:Located in Beautiful Downtown\, 102 East Main Street\, Stanford\, KY\, 40484 from 5:00 – 8:00PM. Hosted by the Masons of the Lincoln Lodge #60 F& A.M.\n\n\nThe Stanford Wilderness Road Car Cruise-In will be held in Downtown Stanford\, KY on the 3rd Friday of each month\, April through October.\n\nEveryone is Welcome. Dash plaques for the First 50 Registered.  Food available for Purchase.\n\nFor more information please contact Joe Gilliland\, bk11@roadrunner.com or call at 606 510-3865
URL:https://kymotomag.com/event/stanford-wilderness-road-car-cruise-in/
LOCATION:Downtown Stanford\, 102 East main Street\, Stanford\, United States
CATEGORIES:Cruise Night
ATTACH;FMTTYPE=image/jpeg:https://kymotomag.com/wp-content/uploads/2025/05/Stanford_Wilderness_Cruisein.jpg
END:VEVENT
BEGIN:VEVENT
DTSTART;TZID=America/Kentucky/Louisville:20250815T160000
DTEND;TZID=America/Kentucky/Louisville:20250815T230000
DTSTAMP:20260422T175928
CREATED:20250723T003611Z
LAST-MODIFIED:20250723T003611Z
UID:3534-1755273600-1755298800@kymotomag.com
SUMMARY:North VS South Showdown
DESCRIPTION:
URL:https://kymotomag.com/event/north-vs-south-showdown/
LOCATION:Kentucky Dragway\, 718 11th Street\, Clay City\, KY\, 40312\, United States
CATEGORIES:Drag Racing
ATTACH;FMTTYPE=image/jpeg:https://kymotomag.com/wp-content/uploads/2025/07/N_vs_S.jpg
END:VEVENT
BEGIN:VEVENT
DTSTART;VALUE=DATE:20250815
DTEND;VALUE=DATE:20250818
DTSTAMP:20260422T175928
CREATED:20250728T003203Z
LAST-MODIFIED:20250728T003203Z
UID:3633-1755216000-1755475199@kymotomag.com
SUMMARY:VERGE Quick Outlaw Series
DESCRIPTION:
URL:https://kymotomag.com/event/verge-quick-outlaw-series/
LOCATION:Beech Bend Raceway Park\, 798 Beech Bend Road\, Richardsville\, KY\, 42101\, United States
ATTACH;FMTTYPE=image/jpeg:https://kymotomag.com/wp-content/uploads/2025/07/08_Verge.jpg
END:VEVENT
BEGIN:VEVENT
DTSTART;VALUE=DATE:20250613
DTEND;VALUE=DATE:20250614
DTSTAMP:20260422T175928
CREATED:20250611T190533Z
LAST-MODIFIED:20250611T190829Z
UID:2977-1749772800-1749859199@kymotomag.com
SUMMARY:Friday Bike Night at Vintage 99 Motorcycle Museum
DESCRIPTION:Join us for the first Bike Night of the 2025 season at Vintage 99 in proud partnership with Bluegrass Harley-Davidson. Whether you ride a vintage beauty or a modern legend\, this evening is all about celebrating the spirit of the open road.\nEnjoy an evening of cold drinks\, live music\, cornhole\, and camaraderie among fellow motorcycle enthusiasts. It’s the perfect time to reunite with your riding community\, show off your bikes\, and kick off the season in style.\nDrink specials will be flowing all night\, and the atmosphere will be fueled by throttle\, friendship\, and unmistakable Harley-Davidson pride.\nAll makes and models welcome.\nDoors open at 6pm!\n\n10205r Taylorsville Rd.\, Jeffersontown\, KY 40299
URL:https://kymotomag.com/event/friday-bike-night-at-vintage-99-motorcycle-museum/
LOCATION:Jeffersontown\, KY\, United States
CATEGORIES:Cruise Night,Motorcycle
ATTACH;FMTTYPE=image/jpeg:https://kymotomag.com/wp-content/uploads/2025/06/Vintage_99.jpg
END:VEVENT
BEGIN:VEVENT
DTSTART;TZID=America/Kentucky/Louisville:20250612T170000
DTEND;TZID=America/Kentucky/Louisville:20250612T200000
DTSTAMP:20260422T175928
CREATED:20250611T002916Z
LAST-MODIFIED:20250611T002916Z
UID:2942-1749747600-1749758400@kymotomag.com
SUMMARY:Joe Brett's Ice Cream Cruise In
DESCRIPTION:
URL:https://kymotomag.com/event/joe-bretts-ice-cream-cruise-in/
LOCATION:Winchester\, KY\, Winchester\, United States
ATTACH;FMTTYPE=image/jpeg:https://kymotomag.com/wp-content/uploads/2025/06/Brett-Ice-Cream.jpg
END:VEVENT
BEGIN:VEVENT
DTSTART;TZID=America/Kentucky/Louisville:20250625T170000
DTEND;TZID=America/Kentucky/Louisville:20250625T200000
DTSTAMP:20260422T175928
CREATED:20250625T231210Z
LAST-MODIFIED:20250625T231346Z
UID:3297-1750870800-1750881600@kymotomag.com
SUMMARY:El Toro Weekly Cruise In
DESCRIPTION:
URL:https://kymotomag.com/event/el-toro-weekly-cruise-in/
LOCATION:Walton\, KY\, United States
ATTACH;FMTTYPE=image/jpeg:https://kymotomag.com/wp-content/uploads/2025/06/El-Toro.jpg
END:VEVENT
BEGIN:VEVENT
DTSTART;TZID=America/Kentucky/Louisville:20250810T203000
DTEND;TZID=America/Kentucky/Louisville:20250810T223000
DTSTAMP:20260422T175928
CREATED:20250729T003112Z
LAST-MODIFIED:20250729T003112Z
UID:3674-1754857800-1754865000@kymotomag.com
SUMMARY:Scooter's Meet
DESCRIPTION:
URL:https://kymotomag.com/event/scooters-meet/
LOCATION:Georgetown\, KY\, Georgetown\, United States
ATTACH;FMTTYPE=image/jpeg:https://kymotomag.com/wp-content/uploads/2025/07/08_10_scooters.jpg
END:VEVENT
BEGIN:VEVENT
DTSTART;TZID=America/Kentucky/Louisville:20250810T120000
DTEND;TZID=America/Kentucky/Louisville:20250810T160000
DTSTAMP:20260422T175928
CREATED:20250705T003408Z
LAST-MODIFIED:20250705T003408Z
UID:3429-1754827200-1754841600@kymotomag.com
SUMMARY:Eubank Father's Day Car Show
DESCRIPTION:Location: \nEubank Park \n390 Highway 70 \nEubank\, KY  42567
URL:https://kymotomag.com/event/eubank-fathers-day-car-show/
LOCATION:Eubank\, KY\, United States
ATTACH;FMTTYPE=image/png:https://kymotomag.com/wp-content/uploads/2025/07/Eubank.png
END:VEVENT
BEGIN:VEVENT
DTSTART;TZID=America/Kentucky/Louisville:20250810T120000
DTEND;TZID=America/Kentucky/Louisville:20250810T160000
DTSTAMP:20260422T175928
CREATED:20250511T135340Z
LAST-MODIFIED:20250615T004722Z
UID:2393-1754827200-1754841600@kymotomag.com
SUMMARY:6th Annual Eubank Father's Day Car Show
DESCRIPTION:
URL:https://kymotomag.com/event/6th-annual-eubank-fathers-day-car-show/
LOCATION:Eubank Park\, 390 Highway 70\, Eubank\, KY\, 42567\, United States
ATTACH;FMTTYPE=image/png:https://kymotomag.com/wp-content/uploads/2025/05/Eubank-up.png
END:VEVENT
BEGIN:VEVENT
DTSTART;TZID=America/Kentucky/Louisville:20250809T170000
DTEND;TZID=America/Kentucky/Louisville:20250809T220000
DTSTAMP:20260422T175928
CREATED:20250617T012904Z
LAST-MODIFIED:20250617T013008Z
UID:3081-1754758800-1754776800@kymotomag.com
SUMMARY:Import Expo
DESCRIPTION:
URL:https://kymotomag.com/event/import-expo/
LOCATION:Kentucky International Convention Center\, 221 S Fourth Street\, Louisville\, KY\, 40202\, United States
CATEGORIES:Import
ATTACH;FMTTYPE=image/jpeg:https://kymotomag.com/wp-content/uploads/2025/06/Import_Expo.jpg
END:VEVENT
BEGIN:VEVENT
DTSTART;TZID=America/Kentucky/Louisville:20250614T170000
DTEND;TZID=America/Kentucky/Louisville:20250614T210000
DTSTAMP:20260422T175928
CREATED:20250610T234430Z
LAST-MODIFIED:20250610T235248Z
UID:2912-1749920400-1749934800@kymotomag.com
SUMMARY:2025 "I Love Tacos" Cruise Season
DESCRIPTION:
URL:https://kymotomag.com/event/2025-i-love-tacos-cruise-season/
LOCATION:Louisville\, KY\, United States
ATTACH;FMTTYPE=image/jpeg:https://kymotomag.com/wp-content/uploads/2025/06/cadillac.jpg
END:VEVENT
BEGIN:VEVENT
DTSTART;TZID=America/Kentucky/Louisville:20250614T170000
DTEND;TZID=America/Kentucky/Louisville:20250614T203000
DTSTAMP:20260422T175928
CREATED:20250611T185733Z
LAST-MODIFIED:20250611T185928Z
UID:2972-1749920400-1749933000@kymotomag.com
SUMMARY:Eminence Cruise Night
DESCRIPTION:Monthly event on the second Saturday of the month. \nCVS\n4894 N Main St\,\nEminence\, KY 40019
URL:https://kymotomag.com/event/eminence-cruise-night-2/
LOCATION:Eminence\, KY\, United States
CATEGORIES:Cruise Night
ATTACH;FMTTYPE=image/png:https://kymotomag.com/wp-content/uploads/2025/06/Eminence_Cruise_Night.png
END:VEVENT
BEGIN:VEVENT
DTSTART;TZID=America/Kentucky/Louisville:20250510T170000
DTEND;TZID=America/Kentucky/Louisville:20250510T200000
DTSTAMP:20260422T175928
CREATED:20250508T202914Z
LAST-MODIFIED:20250508T202914Z
UID:2300-1746896400-1746907200@kymotomag.com
SUMMARY:Summer Nights Cruise-In
DESCRIPTION:
URL:https://kymotomag.com/event/summer-nights-cruise-in/
LOCATION:Russellville\, KY\, Russellville\, United States
CATEGORIES:Cruise-In
ATTACH;FMTTYPE=image/jpeg:https://kymotomag.com/wp-content/uploads/2025/05/Summer_Nights_Russellville.jpg
END:VEVENT
BEGIN:VEVENT
DTSTART;TZID=America/Kentucky/Louisville:20250809T170000
DTEND;TZID=America/Kentucky/Louisville:20250809T190000
DTSTAMP:20260422T175928
CREATED:20250803T142748Z
LAST-MODIFIED:20250803T142748Z
UID:3696-1754758800-1754766000@kymotomag.com
SUMMARY:End of Summer Cruise In & Morgantown Cruise
DESCRIPTION:Location: \n116 E Ohio Street \nMorgantown\, KY  42261
URL:https://kymotomag.com/event/end-of-summer-cruise-in-morgantown-cruise/
LOCATION:Morgantown\, KY\, United States
ATTACH;FMTTYPE=image/jpeg:https://kymotomag.com/wp-content/uploads/2025/08/Morgantown.jpg
END:VEVENT
BEGIN:VEVENT
DTSTART;TZID=America/Kentucky/Louisville:20250614T160000
DTEND;TZID=America/Kentucky/Louisville:20250614T210000
DTSTAMP:20260422T175928
CREATED:20250610T233801Z
LAST-MODIFIED:20250610T233801Z
UID:2908-1749916800-1749934800@kymotomag.com
SUMMARY:Central Kentucky Rods and Machines
DESCRIPTION:
URL:https://kymotomag.com/event/central-kentucky-rods-and-machines/
LOCATION:ELIZABETHTOWN\, KY\, United States
ATTACH;FMTTYPE=image/jpeg:https://kymotomag.com/wp-content/uploads/2025/06/Central-KY-Rods.jpg
END:VEVENT
BEGIN:VEVENT
DTSTART;TZID=America/Kentucky/Louisville:20250809T110000
DTEND;TZID=America/Kentucky/Louisville:20250809T160000
DTSTAMP:20260422T175928
CREATED:20250723T012923Z
LAST-MODIFIED:20250723T012923Z
UID:3568-1754737200-1754755200@kymotomag.com
SUMMARY:Story Unfinish Car SHow
DESCRIPTION:
URL:https://kymotomag.com/event/story-unfinish-car-show/
LOCATION:Stanton\, KY
ATTACH;FMTTYPE=image/jpeg:https://kymotomag.com/wp-content/uploads/2025/07/08_Story.jpg
END:VEVENT
BEGIN:VEVENT
DTSTART;TZID=America/Kentucky/Louisville:20250809T100000
DTEND;TZID=America/Kentucky/Louisville:20250809T150000
DTSTAMP:20260422T175928
CREATED:20250728T000615Z
LAST-MODIFIED:20250728T000615Z
UID:3604-1754733600-1754751600@kymotomag.com
SUMMARY:Robinson - Plumb Lodge # 266 Annual Car Show
DESCRIPTION:
URL:https://kymotomag.com/event/robinson-plumb-lodge-266-annual-car-show/
LOCATION:Louisville\, KY\, United States
ATTACH;FMTTYPE=image/jpeg:https://kymotomag.com/wp-content/uploads/2025/07/08_09_Plumb-Lodge.jpg
END:VEVENT
BEGIN:VEVENT
DTSTART;TZID=America/Kentucky/Louisville:20250510T100000
DTEND;TZID=America/Kentucky/Louisville:20250510T140000
DTSTAMP:20260422T175928
CREATED:20250508T205843Z
LAST-MODIFIED:20250508T205843Z
UID:2335-1746871200-1746885600@kymotomag.com
SUMMARY:Cumberland Valley Cruise-In
DESCRIPTION:
URL:https://kymotomag.com/event/cumberland-valley-cruise-in/
LOCATION:Corbin\, KY\, Corbin\, United States
ATTACH;FMTTYPE=image/jpeg:https://kymotomag.com/wp-content/uploads/2025/05/2025_Cumberland_Cruise_In.jpg
END:VEVENT
BEGIN:VEVENT
DTSTART;TZID=America/Kentucky/Louisville:20250614T090000
DTEND;TZID=America/Kentucky/Louisville:20250614T110000
DTSTAMP:20260422T175928
CREATED:20250611T004329Z
LAST-MODIFIED:20250611T004358Z
UID:2950-1749891600-1749898800@kymotomag.com
SUMMARY:The Morning Cruise
DESCRIPTION:
URL:https://kymotomag.com/event/the-morning-cruise-2/
LOCATION:Danville\, KY\, Danville\, United States
ATTACH;FMTTYPE=image/jpeg:https://kymotomag.com/wp-content/uploads/2025/06/The-Morning-Cruise.jpg
END:VEVENT
BEGIN:VEVENT
DTSTART;TZID=America/Kentucky/Louisville:20250809T083000
DTEND;TZID=America/Kentucky/Louisville:20250809T120000
DTSTAMP:20260422T175928
CREATED:20250514T003140Z
LAST-MODIFIED:20250514T003140Z
UID:2415-1754728200-1754740800@kymotomag.com
SUMMARY:Ft Thomas Corvette Club 24th Annual Car Show
DESCRIPTION:Benefiting the Alzheimer’s Association
URL:https://kymotomag.com/event/ft-thomas-corvette-club-24th-annual-car-show/
LOCATION:Newport\, KY\, United States
ATTACH;FMTTYPE=image/jpeg:https://kymotomag.com/wp-content/uploads/2025/05/ft-thomas-corvette-club.jpg
END:VEVENT
BEGIN:VEVENT
DTSTART;TZID=America/Kentucky/Louisville:20250614T083000
DTEND;TZID=America/Kentucky/Louisville:20250614T103000
DTSTAMP:20260422T175928
CREATED:20250611T005903Z
LAST-MODIFIED:20250611T005903Z
UID:2957-1749889800-1749897000@kymotomag.com
SUMMARY:Fly-In / Drive-In Breakfast
DESCRIPTION:
URL:https://kymotomag.com/event/fly-in-drive-in-breakfast-8/
LOCATION:Bardstown\, KY
ATTACH;FMTTYPE=image/png:https://kymotomag.com/wp-content/uploads/2025/06/Fly-In-Drive-In.png
END:VEVENT
BEGIN:VEVENT
DTSTART;TZID=America/Kentucky/Louisville:20250809T080000
DTEND;TZID=America/Kentucky/Louisville:20250809T110000
DTSTAMP:20260422T175928
CREATED:20250705T004352Z
LAST-MODIFIED:20250705T004352Z
UID:3433-1754726400-1754737200@kymotomag.com
SUMMARY:Cows and Cars
DESCRIPTION:Spread the word! Chick-fil-A Turfland is hosting the 1st annual Cows and Cars. We are located at 2025 Harrodsburg Road in Lexington. There will be giveaways for categories and just for showing up! All makes and models are welcome so come bring your car\, enjoy some breakfast\, and get your photo woth the Chick-fil-a cow! Scan the QR code to preregister your vehicle. Feel free to message or comment for more details.
URL:https://kymotomag.com/event/cows-and-cars/
LOCATION:Lexington\, KY\, United States
ATTACH;FMTTYPE=image/jpeg:https://kymotomag.com/wp-content/uploads/2025/07/Cars-and-Cows.jpg
END:VEVENT
BEGIN:VEVENT
DTSTART;TZID=America/Kentucky/Louisville:20250613T170000
DTEND;TZID=America/Kentucky/Louisville:20250613T210000
DTSTAMP:20260422T175928
CREATED:20250605T010318Z
LAST-MODIFIED:20250605T010318Z
UID:2713-1749834000-1749848400@kymotomag.com
SUMMARY:Classic Car & Truck Cruise In
DESCRIPTION:
URL:https://kymotomag.com/event/classic-car-truck-cruise-in/
LOCATION:West Liberty\, KY\, United States
ATTACH;FMTTYPE=image/png:https://kymotomag.com/wp-content/uploads/2025/06/west-liberty.png
END:VEVENT
BEGIN:VEVENT
DTSTART;TZID=America/Kentucky/Louisville:20250613T170000
DTEND;TZID=America/Kentucky/Louisville:20250613T210000
DTSTAMP:20260422T175928
CREATED:20250602T114423Z
LAST-MODIFIED:20250602T114424Z
UID:2694-1749834000-1749848400@kymotomag.com
SUMMARY:Hardee's Cruise Night
DESCRIPTION:
URL:https://kymotomag.com/event/hardees-cruise-night-2/
LOCATION:Hardee’s – Nicholasville\, 903 S Main Street\, Nicholasville\, 40356\, United States
CATEGORIES:Cruise Night
ATTACH;FMTTYPE=image/jpeg:https://kymotomag.com/wp-content/uploads/2025/05/Hardees_Cruise_Night.jpg
END:VEVENT
BEGIN:VEVENT
DTSTART;TZID=America/Kentucky/Louisville:20250509T170000
DTEND;TZID=America/Kentucky/Louisville:20250509T203000
DTSTAMP:20260422T175928
CREATED:20250503T141312Z
LAST-MODIFIED:20250503T141438Z
UID:2091-1746810000-1746822600@kymotomag.com
SUMMARY:Southland Shopping Center Cruise Night
DESCRIPTION:Located in the Southland Shopping Center\, 396 and 398 Southland Drive\, Lexington\, KY 40503 (In front of GoodYear Tires and Critchfield Meats)….from 5:00 until Dark…and Hosted by Rodders\, Inc.\n\nGoodYear and Critchfield Both Ask the Cruisers to Park by the Southland Drive side of the Parking Lot as to Allow Customers to Park in Front of the Buildings.\n\nThis is an Informal Meet and Greet cruise. A Variety of Restaurants Close…Plenty of Parking. Come Out to See Old Friends and Make New Ones.
URL:https://kymotomag.com/event/southland-shopping-center-cruise-night/
LOCATION:Southland Shopping Center\, 396 Southland Drive\, Lexington\, United States
CATEGORIES:Cruise Night
ATTACH;FMTTYPE=image/jpeg:https://kymotomag.com/wp-content/uploads/2025/05/Cruise-Night.jpg
END:VEVENT
BEGIN:VEVENT
DTSTART;TZID=America/Kentucky/Louisville:20250725T170000
DTEND;TZID=America/Kentucky/Louisville:20250725T200000
DTSTAMP:20260422T175928
CREATED:20250611T002312Z
LAST-MODIFIED:20250611T002312Z
UID:2938-1753462800-1753473600@kymotomag.com
SUMMARY:Burgers Shakes Cruise Night
DESCRIPTION:
URL:https://kymotomag.com/event/burgers-shakes-cruise-night-4/
LOCATION:Burgers Shakes\, 219 East New Circle Road\, Lexington\, United States
CATEGORIES:Cruise Night
ATTACH;FMTTYPE=image/jpeg:https://kymotomag.com/wp-content/uploads/2025/05/2025_Burgers_Shakes_Cruise_Night.jpg
END:VEVENT
BEGIN:VEVENT
DTSTART;TZID=America/Kentucky/Louisville:20250613T170000
DTEND;TZID=America/Kentucky/Louisville:20250613T210000
DTSTAMP:20260422T175928
CREATED:20250613T020322Z
LAST-MODIFIED:20250613T020428Z
UID:3001-1749834000-1749848400@kymotomag.com
SUMMARY:Shopville Community Cruise In
DESCRIPTION:
URL:https://kymotomag.com/event/shopville-community-cruise-in/
LOCATION:Shopville Park\, 6400 Grundy Rd\, Somerset\, 42503\, United States
ATTACH;FMTTYPE=image/png:https://kymotomag.com/wp-content/uploads/2025/06/shopville-com.png
END:VEVENT
BEGIN:VEVENT
DTSTART;VALUE=DATE:20250613
DTEND;VALUE=DATE:20250614
DTSTAMP:20260422T175928
CREATED:20250611T190533Z
LAST-MODIFIED:20250611T190829Z
UID:2977-1749772800-1749859199@kymotomag.com
SUMMARY:Friday Bike Night at Vintage 99 Motorcycle Museum
DESCRIPTION:Join us for the first Bike Night of the 2025 season at Vintage 99 in proud partnership with Bluegrass Harley-Davidson. Whether you ride a vintage beauty or a modern legend\, this evening is all about celebrating the spirit of the open road.\nEnjoy an evening of cold drinks\, live music\, cornhole\, and camaraderie among fellow motorcycle enthusiasts. It’s the perfect time to reunite with your riding community\, show off your bikes\, and kick off the season in style.\nDrink specials will be flowing all night\, and the atmosphere will be fueled by throttle\, friendship\, and unmistakable Harley-Davidson pride.\nAll makes and models welcome.\nDoors open at 6pm!\n\n10205r Taylorsville Rd.\, Jeffersontown\, KY 40299
URL:https://kymotomag.com/event/friday-bike-night-at-vintage-99-motorcycle-museum/
LOCATION:Jeffersontown\, KY\, United States
CATEGORIES:Cruise Night,Motorcycle
ATTACH;FMTTYPE=image/jpeg:https://kymotomag.com/wp-content/uploads/2025/06/Vintage_99.jpg
END:VEVENT
END:VCALENDAR