BEGIN:VCALENDAR
VERSION:2.0
PRODID:-//Kentucky Motorsports Magazine / KYMOTOMAG - ECPv6.15.20//NONSGML v1.0//EN
CALSCALE:GREGORIAN
METHOD:PUBLISH
X-WR-CALNAME:Kentucky Motorsports Magazine / KYMOTOMAG
X-ORIGINAL-URL:https://kymotomag.com
X-WR-CALDESC:Events for Kentucky Motorsports Magazine / KYMOTOMAG
REFRESH-INTERVAL;VALUE=DURATION:PT1H
X-Robots-Tag:noindex
X-PUBLISHED-TTL:PT1H
BEGIN:VTIMEZONE
TZID:America/Kentucky/Louisville
BEGIN:DAYLIGHT
TZOFFSETFROM:-0500
TZOFFSETTO:-0400
TZNAME:EDT
DTSTART:20240310T070000
END:DAYLIGHT
BEGIN:STANDARD
TZOFFSETFROM:-0400
TZOFFSETTO:-0500
TZNAME:EST
DTSTART:20241103T060000
END:STANDARD
BEGIN:DAYLIGHT
TZOFFSETFROM:-0500
TZOFFSETTO:-0400
TZNAME:EDT
DTSTART:20250309T070000
END:DAYLIGHT
BEGIN:STANDARD
TZOFFSETFROM:-0400
TZOFFSETTO:-0500
TZNAME:EST
DTSTART:20251102T060000
END:STANDARD
BEGIN:DAYLIGHT
TZOFFSETFROM:-0500
TZOFFSETTO:-0400
TZNAME:EDT
DTSTART:20260308T070000
END:DAYLIGHT
BEGIN:STANDARD
TZOFFSETFROM:-0400
TZOFFSETTO:-0500
TZNAME:EST
DTSTART:20261101T060000
END:STANDARD
END:VTIMEZONE
BEGIN:VEVENT
DTSTART;TZID=America/Kentucky/Louisville:20250913T120000
DTEND;TZID=America/Kentucky/Louisville:20250913T160000
DTSTAMP:20260422T131353
CREATED:20250719T020214Z
LAST-MODIFIED:20250719T020214Z
UID:3524-1757764800-1757779200@kymotomag.com
SUMMARY:Historic Double Header Event
DESCRIPTION:From the CRUISING DOWN ON THE FARM cruise in event staff presentsHISTORIC DOUBLE HEADER EVENT\n2 EVENTS\, 2 DAYS\, 2 DIFFERENT LOCATIONS WITHIN 24 HOURS\nSeptember 12th AND 13th 2025\nFriday September 12th\nCRUISING THE 501 MOTORSPORTS COMPLEX 5 to 8251 Jonathan Fork Rd\, Liberty\, KY 42539\nOpen to anything with wheels – top 5 vehicles \, top 3 Amish buggies\, 50 dash plaques\, 50/50\, DJ Saturday\nSeptember 13thA BLAST FROM THE PAST {flashback} 12{noon} to 43161 Alum Springs Rd\, Junction City\, KY 40440\nTHIS EVENT IS OPENED TO ALL VEHICLES. BUT TO BE ABLE TO WIN THE TOP 5 \, THE VEHICLE MUST BE 1979 AND BACK.The reason we did that is\, so any vehicle that goes to event 1 tge 501 event Friday evening can come to event 2 and get the special dash plaque.SORRY NO 2 WHEEL MOTORCYCLES\nTOP 5 PLAQUES\, 50 DASH PLAQUES\, 50/50\, DJ\,\nGREAT CLEAN FAMILY & FRIENDS EVENT ::NO ALCOHOL OR DRUGS ALLOWED:\nCome on out to this historic double header event and help us make historyDUE TO THE RISING COST OF STUFF \, THERE WILL BE A $10 ENTRY FEE FOR EACH EVENT.
URL:https://kymotomag.com/event/historic-double-header-event-2/
LOCATION:Junction City\, KY\, Junction City\, United States
ATTACH;FMTTYPE=image/jpeg:https://kymotomag.com/wp-content/uploads/2025/07/header-1.jpg
END:VEVENT
BEGIN:VEVENT
DTSTART;TZID=America/Kentucky/Louisville:20250913T100000
DTEND;TZID=America/Kentucky/Louisville:20250913T150000
DTSTAMP:20260422T131353
CREATED:20250716T002508Z
LAST-MODIFIED:20250716T002508Z
UID:3504-1757757600-1757775600@kymotomag.com
SUMMARY:The Patriot Show
DESCRIPTION:Location: \nFrederick Douglass High School
URL:https://kymotomag.com/event/the-patriot-show/
LOCATION:Lexington\, KY\, United States
ATTACH;FMTTYPE=image/jpeg:https://kymotomag.com/wp-content/uploads/2025/07/Patriot.jpg
END:VEVENT
BEGIN:VEVENT
DTSTART;TZID=America/Kentucky/Louisville:20250510T100000
DTEND;TZID=America/Kentucky/Louisville:20250510T140000
DTSTAMP:20260422T131353
CREATED:20250508T205843Z
LAST-MODIFIED:20250508T205843Z
UID:2335-1746871200-1746885600@kymotomag.com
SUMMARY:Cumberland Valley Cruise-In
DESCRIPTION:
URL:https://kymotomag.com/event/cumberland-valley-cruise-in/
LOCATION:Corbin\, KY\, Corbin\, United States
ATTACH;FMTTYPE=image/jpeg:https://kymotomag.com/wp-content/uploads/2025/05/2025_Cumberland_Cruise_In.jpg
END:VEVENT
BEGIN:VEVENT
DTSTART;TZID=America/Kentucky/Louisville:20250614T090000
DTEND;TZID=America/Kentucky/Louisville:20250614T110000
DTSTAMP:20260422T131353
CREATED:20250611T004329Z
LAST-MODIFIED:20250611T004358Z
UID:2950-1749891600-1749898800@kymotomag.com
SUMMARY:The Morning Cruise
DESCRIPTION:
URL:https://kymotomag.com/event/the-morning-cruise-2/
LOCATION:Danville\, KY\, Danville\, United States
ATTACH;FMTTYPE=image/jpeg:https://kymotomag.com/wp-content/uploads/2025/06/The-Morning-Cruise.jpg
END:VEVENT
BEGIN:VEVENT
DTSTART;TZID=America/Kentucky/Louisville:20250614T083000
DTEND;TZID=America/Kentucky/Louisville:20250614T103000
DTSTAMP:20260422T131353
CREATED:20250611T005903Z
LAST-MODIFIED:20250611T005903Z
UID:2957-1749889800-1749897000@kymotomag.com
SUMMARY:Fly-In / Drive-In Breakfast
DESCRIPTION:
URL:https://kymotomag.com/event/fly-in-drive-in-breakfast-8/
LOCATION:Bardstown\, KY
ATTACH;FMTTYPE=image/png:https://kymotomag.com/wp-content/uploads/2025/06/Fly-In-Drive-In.png
END:VEVENT
BEGIN:VEVENT
DTSTART;TZID=America/Kentucky/Louisville:20250912T183000
DTEND;TZID=America/Kentucky/Louisville:20250912T200000
DTSTAMP:20260422T131353
CREATED:20250825T015617Z
LAST-MODIFIED:20250825T015617Z
UID:3812-1757701800-1757707200@kymotomag.com
SUMMARY:Wheels of Time Classic Car Cruise-In
DESCRIPTION:
URL:https://kymotomag.com/event/wheels-of-time-classic-car-cruise-in/
LOCATION:Lawrenceburg\, KY\, Lawrenceburg\, United States
ATTACH;FMTTYPE=image/jpeg:https://kymotomag.com/wp-content/uploads/2025/08/lawrenceburg-logo.jpg
END:VEVENT
BEGIN:VEVENT
DTSTART;TZID=America/Kentucky/Louisville:20250912T173000
DTEND;TZID=America/Kentucky/Louisville:20250912T200000
DTSTAMP:20260422T131353
CREATED:20250825T012959Z
LAST-MODIFIED:20250825T012959Z
UID:3790-1757698200-1757707200@kymotomag.com
SUMMARY:Viking Bike Night
DESCRIPTION:Friday\, September 12\, 2025\n5:30 PM  8:00 PM\nMan O’ War Harley-Davidson (map)\n\n\n\n\n\n\n\n\nUnleash your inner warrior and ride into battle at Viking Bike Night! \nMan O’ War Harley-Davidson is taking over the lot with a night full of badass bikes\, Norse-inspired contests\, and epic good times. \nBest Beard Competition – Let those whiskers fly and compete for Viking glory! \nBest Viking Tattoo Contest – Ink that tells a story? Show it off and win big! \nFood Truck: Nacho Average BBQ – Feast like a true Viking with mouthwatering BBQ.\nDrinks + Entertainment – Enjoy cold brews\, live tunes\, and surprises all night. \nDon’t miss your chance to party like it’s Valhalla. Ride out\, suit up\, and join the horde at Man O’ War Harley!
URL:https://kymotomag.com/event/viking-bike-night/
LOCATION:Man O War Harley Davidson\, 2073 Bryant Rd\, Lexington\, 40509\, United States
ATTACH;FMTTYPE=image/webp:https://kymotomag.com/wp-content/uploads/2025/08/VikingBikeNight.webp
END:VEVENT
BEGIN:VEVENT
DTSTART;TZID=America/Kentucky/Louisville:20250613T170000
DTEND;TZID=America/Kentucky/Louisville:20250613T210000
DTSTAMP:20260422T131353
CREATED:20250605T010318Z
LAST-MODIFIED:20250605T010318Z
UID:2713-1749834000-1749848400@kymotomag.com
SUMMARY:Classic Car & Truck Cruise In
DESCRIPTION:
URL:https://kymotomag.com/event/classic-car-truck-cruise-in/
LOCATION:West Liberty\, KY\, United States
ATTACH;FMTTYPE=image/png:https://kymotomag.com/wp-content/uploads/2025/06/west-liberty.png
END:VEVENT
BEGIN:VEVENT
DTSTART;TZID=America/Kentucky/Louisville:20250912T170000
DTEND;TZID=America/Kentucky/Louisville:20250912T210000
DTSTAMP:20260422T131353
CREATED:20250602T115232Z
LAST-MODIFIED:20250602T115232Z
UID:2696-1757696400-1757710800@kymotomag.com
SUMMARY:Hardee's Cruise Night
DESCRIPTION:
URL:https://kymotomag.com/event/hardees-cruise-night-2-2/
LOCATION:Hardee’s – Nicholasville\, 903 S Main Street\, Nicholasville\, 40356\, United States
CATEGORIES:Cruise Night
ATTACH;FMTTYPE=image/jpeg:https://kymotomag.com/wp-content/uploads/2025/05/Hardees_Cruise_Night.jpg
END:VEVENT
BEGIN:VEVENT
DTSTART;TZID=America/Kentucky/Louisville:20250509T170000
DTEND;TZID=America/Kentucky/Louisville:20250509T203000
DTSTAMP:20260422T131353
CREATED:20250503T141312Z
LAST-MODIFIED:20250503T141438Z
UID:2091-1746810000-1746822600@kymotomag.com
SUMMARY:Southland Shopping Center Cruise Night
DESCRIPTION:Located in the Southland Shopping Center\, 396 and 398 Southland Drive\, Lexington\, KY 40503 (In front of GoodYear Tires and Critchfield Meats)….from 5:00 until Dark…and Hosted by Rodders\, Inc.\n\nGoodYear and Critchfield Both Ask the Cruisers to Park by the Southland Drive side of the Parking Lot as to Allow Customers to Park in Front of the Buildings.\n\nThis is an Informal Meet and Greet cruise. A Variety of Restaurants Close…Plenty of Parking. Come Out to See Old Friends and Make New Ones.
URL:https://kymotomag.com/event/southland-shopping-center-cruise-night/
LOCATION:Southland Shopping Center\, 396 Southland Drive\, Lexington\, United States
CATEGORIES:Cruise Night
ATTACH;FMTTYPE=image/jpeg:https://kymotomag.com/wp-content/uploads/2025/05/Cruise-Night.jpg
END:VEVENT
BEGIN:VEVENT
DTSTART;TZID=America/Kentucky/Louisville:20250912T170000
DTEND;TZID=America/Kentucky/Louisville:20250912T200000
DTSTAMP:20260422T131353
CREATED:20250719T020040Z
LAST-MODIFIED:20250719T020040Z
UID:3520-1757696400-1757707200@kymotomag.com
SUMMARY:Historic Double Header Event
DESCRIPTION:From the CRUISING DOWN ON THE FARM cruise in event staff presentsHISTORIC DOUBLE HEADER EVENT\n2 EVENTS\, 2 DAYS\, 2 DIFFERENT LOCATIONS WITHIN 24 HOURS\nSeptember 12th AND 13th 2025\nFriday September 12th\nCRUISING THE 501 MOTORSPORTS COMPLEX 5 to 8251 Jonathan Fork Rd\, Liberty\, KY 42539\nOpen to anything with wheels – top 5 vehicles \, top 3 Amish buggies\, 50 dash plaques\, 50/50\, DJ Saturday\nSeptember 13thA BLAST FROM THE PAST {flashback} 12{noon} to 43161 Alum Springs Rd\, Junction City\, KY 40440\nTHIS EVENT IS OPENED TO ALL VEHICLES. BUT TO BE ABLE TO WIN THE TOP 5 \, THE VEHICLE MUST BE 1979 AND BACK.The reason we did that is\, so any vehicle that goes to event 1 tge 501 event Friday evening can come to event 2 and get the special dash plaque.SORRY NO 2 WHEEL MOTORCYCLES\nTOP 5 PLAQUES\, 50 DASH PLAQUES\, 50/50\, DJ\,\nGREAT CLEAN FAMILY & FRIENDS EVENT ::NO ALCOHOL OR DRUGS ALLOWED:\nCome on out to this historic double header event and help us make historyDUE TO THE RISING COST OF STUFF \, THERE WILL BE A $10 ENTRY FEE FOR EACH EVENT.
URL:https://kymotomag.com/event/historic-double-header-event/
LOCATION:Liberty\, KY\, United States
ATTACH;FMTTYPE=image/jpeg:https://kymotomag.com/wp-content/uploads/2025/07/header.jpg
END:VEVENT
BEGIN:VEVENT
DTSTART;TZID=America/Kentucky/Louisville:20250912T170000
DTEND;TZID=America/Kentucky/Louisville:20250912T200000
DTSTAMP:20260422T131353
CREATED:20250611T002420Z
LAST-MODIFIED:20250611T002420Z
UID:2940-1757696400-1757707200@kymotomag.com
SUMMARY:Burgers Shakes Cruise Night
DESCRIPTION:
URL:https://kymotomag.com/event/burgers-shakes-cruise-night-4-2/
LOCATION:Burgers Shakes\, 219 East New Circle Road\, Lexington\, United States
CATEGORIES:Cruise Night
ATTACH;FMTTYPE=image/jpeg:https://kymotomag.com/wp-content/uploads/2025/05/2025_Burgers_Shakes_Cruise_Night.jpg
END:VEVENT
BEGIN:VEVENT
DTSTART;TZID=America/Kentucky/Louisville:20250613T170000
DTEND;TZID=America/Kentucky/Louisville:20250613T210000
DTSTAMP:20260422T131353
CREATED:20250613T020322Z
LAST-MODIFIED:20250613T020428Z
UID:3001-1749834000-1749848400@kymotomag.com
SUMMARY:Shopville Community Cruise In
DESCRIPTION:
URL:https://kymotomag.com/event/shopville-community-cruise-in/
LOCATION:Shopville Park\, 6400 Grundy Rd\, Somerset\, 42503\, United States
ATTACH;FMTTYPE=image/png:https://kymotomag.com/wp-content/uploads/2025/06/shopville-com.png
END:VEVENT
BEGIN:VEVENT
DTSTART;VALUE=DATE:20250912
DTEND;VALUE=DATE:20250915
DTSTAMP:20260422T131353
CREATED:20250510T213844Z
LAST-MODIFIED:20250510T214208Z
UID:2358-1757635200-1757894399@kymotomag.com
SUMMARY:Trash Panda’s Invade Kentucky
DESCRIPTION:Join the annual Gambler 500 clean-up event with a twist of fun and adventure! Bring your off-road capable vehicles and dive into a weekend full of community\, environmental action\, and thrilling activities. \nEvent Highlights:  \n– Friday: Load in and camp setup. Get settled and ready for the adventure ahead! \n– Saturday: Participate in the clean-up to keep Kentucky beautiful. \n– Saturday Night: Enjoy fun-filled shenanigans and connect with fellow adventurers. \n– Sunday Morning: Group breakfast to fuel up before the send-off.
URL:https://kymotomag.com/event/trash-pandas-invade-kentucky/
LOCATION:Jackson County\, KY\, Jackson County\, United States
CATEGORIES:Off-Road
ATTACH;FMTTYPE=image/jpeg:https://kymotomag.com/wp-content/uploads/2025/05/09_Trash_Panda.jpg
END:VEVENT
BEGIN:VEVENT
DTSTART;VALUE=DATE:20250912
DTEND;VALUE=DATE:20250915
DTSTAMP:20260422T131353
CREATED:20250104T171858Z
LAST-MODIFIED:20250104T171858Z
UID:1963-1757635200-1757894399@kymotomag.com
SUMMARY:Holley MoParty
DESCRIPTION:What’s that sound?! You’re hearing hundreds of Mopar powered vehicles getting ready to invade Beech Bend Raceway this September. That’s right\, Holley’s 6th annual MoParty™ presented by Classic Car Liquidators returns to Beech Bend Raceway this September 12-14\, 2025. Numerous event segments tailored for Mopar enthusiasts abound including autocross\, 3S Challenge\, drag racing and more! Other events like a dyno challenge\, burnout competition and car show will take place\, making this one of the wildest Mopar parties ever held. The event is open to any ride utilizing a Mopar engine\, including AMC. For more information on specific events\, or to make reservations to get in on the fun\, check out the rest of our site!  You won’t want to miss Holley’s MoParty!
URL:https://kymotomag.com/event/holley-moparty/
LOCATION:Beech Bend Raceway Park\, 798 Beech Bend Road\, Richardsville\, KY\, 42101\, United States
ATTACH;FMTTYPE=image/jpeg:https://kymotomag.com/wp-content/uploads/2025/01/Holley_MoParty.jpg
END:VEVENT
BEGIN:VEVENT
DTSTART;VALUE=DATE:20250613
DTEND;VALUE=DATE:20250614
DTSTAMP:20260422T131353
CREATED:20250611T190533Z
LAST-MODIFIED:20250611T190829Z
UID:2977-1749772800-1749859199@kymotomag.com
SUMMARY:Friday Bike Night at Vintage 99 Motorcycle Museum
DESCRIPTION:Join us for the first Bike Night of the 2025 season at Vintage 99 in proud partnership with Bluegrass Harley-Davidson. Whether you ride a vintage beauty or a modern legend\, this evening is all about celebrating the spirit of the open road.\nEnjoy an evening of cold drinks\, live music\, cornhole\, and camaraderie among fellow motorcycle enthusiasts. It’s the perfect time to reunite with your riding community\, show off your bikes\, and kick off the season in style.\nDrink specials will be flowing all night\, and the atmosphere will be fueled by throttle\, friendship\, and unmistakable Harley-Davidson pride.\nAll makes and models welcome.\nDoors open at 6pm!\n\n10205r Taylorsville Rd.\, Jeffersontown\, KY 40299
URL:https://kymotomag.com/event/friday-bike-night-at-vintage-99-motorcycle-museum/
LOCATION:Jeffersontown\, KY\, United States
CATEGORIES:Cruise Night,Motorcycle
ATTACH;FMTTYPE=image/jpeg:https://kymotomag.com/wp-content/uploads/2025/06/Vintage_99.jpg
END:VEVENT
BEGIN:VEVENT
DTSTART;TZID=America/Kentucky/Louisville:20250612T170000
DTEND;TZID=America/Kentucky/Louisville:20250612T200000
DTSTAMP:20260422T131353
CREATED:20250611T002916Z
LAST-MODIFIED:20250611T002916Z
UID:2942-1749747600-1749758400@kymotomag.com
SUMMARY:Joe Brett's Ice Cream Cruise In
DESCRIPTION:
URL:https://kymotomag.com/event/joe-bretts-ice-cream-cruise-in/
LOCATION:Winchester\, KY\, Winchester\, United States
ATTACH;FMTTYPE=image/jpeg:https://kymotomag.com/wp-content/uploads/2025/06/Brett-Ice-Cream.jpg
END:VEVENT
BEGIN:VEVENT
DTSTART;TZID=America/Kentucky/Louisville:20250625T170000
DTEND;TZID=America/Kentucky/Louisville:20250625T200000
DTSTAMP:20260422T131353
CREATED:20250625T231210Z
LAST-MODIFIED:20250625T231346Z
UID:3297-1750870800-1750881600@kymotomag.com
SUMMARY:El Toro Weekly Cruise In
DESCRIPTION:
URL:https://kymotomag.com/event/el-toro-weekly-cruise-in/
LOCATION:Walton\, KY\, United States
ATTACH;FMTTYPE=image/jpeg:https://kymotomag.com/wp-content/uploads/2025/06/El-Toro.jpg
END:VEVENT
BEGIN:VEVENT
DTSTART;TZID=America/Kentucky/Louisville:20250907T143000
DTEND;TZID=America/Kentucky/Louisville:20250907T190000
DTSTAMP:20260422T131353
CREATED:20250822T165456Z
LAST-MODIFIED:20250822T165456Z
UID:3780-1757255400-1757271600@kymotomag.com
SUMMARY:Riot Rose Productions Presents: Revival Rumble-Classic Cars and Rock n Roll!
DESCRIPTION:Riot Rose Productions Presents:Revival Rumble- Classic Cars and Rock n Roll!Featuring:CarsVendors\nMusic byJon Q PublicDan Van CechtenHighway Avenue\n\nLocation:\nThe Southgate House Revival\n111 E 6th Street\nNewport\, KY  41071
URL:https://kymotomag.com/event/riot-rose-productions-presents-revival-rumble-classic-cars-and-rock-n-roll/
LOCATION:Newport\, KY\, United States
ATTACH;FMTTYPE=image/png:https://kymotomag.com/wp-content/uploads/2025/08/rr.png
END:VEVENT
BEGIN:VEVENT
DTSTART;TZID=America/Kentucky/Louisville:20250907T140000
DTEND;TZID=America/Kentucky/Louisville:20250907T180000
DTSTAMP:20260422T131353
CREATED:20250822T152440Z
LAST-MODIFIED:20250822T152440Z
UID:3729-1757253600-1757268000@kymotomag.com
SUMMARY:Trevor's Benefit Car Show
DESCRIPTION:Location: \nEast Jessamine Middle School \n901 Union Mill Road \nNicholasville\, KY  40356
URL:https://kymotomag.com/event/trevors-benefit-car-show/
LOCATION:Nicholasville\, KY\, Nicholasville\, United States
ATTACH;FMTTYPE=image/jpeg:https://kymotomag.com/wp-content/uploads/2025/08/Trevor.jpg
END:VEVENT
BEGIN:VEVENT
DTSTART;TZID=America/Kentucky/Louisville:20250907T140000
DTEND;TZID=America/Kentucky/Louisville:20250907T170000
DTSTAMP:20260422T131353
CREATED:20250723T010749Z
LAST-MODIFIED:20250723T010749Z
UID:3556-1757253600-1757264400@kymotomag.com
SUMMARY:First Baptist Church Classic & Custom Car Show
DESCRIPTION:
URL:https://kymotomag.com/event/first-baptist-church-classic-custom-car-show/
LOCATION:Liberty\, KY\, United States
ATTACH;FMTTYPE=image/jpeg:https://kymotomag.com/wp-content/uploads/2025/07/09_02Baptist_Car_Show.jpg
END:VEVENT
BEGIN:VEVENT
DTSTART;TZID=America/Kentucky/Louisville:20250907T120000
DTEND;TZID=America/Kentucky/Louisville:20250907T170000
DTSTAMP:20260422T131353
CREATED:20250706T151952Z
LAST-MODIFIED:20250706T152100Z
UID:3454-1757246400-1757264400@kymotomag.com
SUMMARY:Mosaic Hot Rod Festival
DESCRIPTION:Come join us with a family friendly Sunday at Mosaic UMC – Louisville September 7 th from noon to 5:00 P.M. Cars\, Music\, Food\, and fun for the whole family!\nWe know some would like to see more cars\, trucks\, and motorcycles. So\, We are also looking for vendors to fill a gym size space. (A 10′ x 10′ is $30 and $10 for a table) First come\, First serve until spaces are gone!! Send me a message to register as a vendor.\nLocation: \n8008 St. Andrews Church Road \nLouisville\, KY  40258
URL:https://kymotomag.com/event/mosaic-hot-rod-festival/
LOCATION:Louisville\, KY\, United States
ATTACH;FMTTYPE=image/png:https://kymotomag.com/wp-content/uploads/2025/07/Mosaic.png
END:VEVENT
BEGIN:VEVENT
DTSTART;TZID=America/Kentucky/Louisville:20250607T173000
DTEND;TZID=America/Kentucky/Louisville:20250607T200000
DTSTAMP:20260422T131353
CREATED:20250605T005538Z
LAST-MODIFIED:20250618T025107Z
UID:2709-1749317400-1749326400@kymotomag.com
SUMMARY:Classic Cruise
DESCRIPTION:
URL:https://kymotomag.com/event/classic-cruise/
LOCATION:Louisville\, KY\, United States
ATTACH;FMTTYPE=image/jpeg:https://kymotomag.com/wp-content/uploads/2025/06/classic.jpg
END:VEVENT
BEGIN:VEVENT
DTSTART;TZID=America/Kentucky/Louisville:20250705T160000
DTEND;TZID=America/Kentucky/Louisville:20250705T200000
DTSTAMP:20260422T131353
CREATED:20250705T002730Z
LAST-MODIFIED:20250705T002829Z
UID:3425-1751731200-1751745600@kymotomag.com
SUMMARY:Jenkins Cruise In
DESCRIPTION:Jenkins Cruise In is held on the first Saturday of the month May through October at 4 pm in the park downtown Jenkins KY. Free admission. No entry fee.
URL:https://kymotomag.com/event/jenkins-cruise-in-2/
LOCATION:Jenkins\, KY\, United States
ATTACH;FMTTYPE=image/jpeg:https://kymotomag.com/wp-content/uploads/2025/07/jenkins.jpg
END:VEVENT
BEGIN:VEVENT
DTSTART;TZID=America/Kentucky/Louisville:20250906T130000
DTEND;TZID=America/Kentucky/Louisville:20250906T170000
DTSTAMP:20260422T131353
CREATED:20250822T163655Z
LAST-MODIFIED:20250822T163655Z
UID:3766-1757163600-1757178000@kymotomag.com
SUMMARY:1st Annual Farmer's Daughter Scholarship Fund Cruise-In & Vendor Event
DESCRIPTION:Location: \nBrodhead Depot Park
URL:https://kymotomag.com/event/1st-annual-farmers-daughter-scholarship-fund-cruise-in-vendor-event/
LOCATION:Brodhead\, KY\, United States
ATTACH;FMTTYPE=image/jpeg:https://kymotomag.com/wp-content/uploads/2025/08/Farmers.jpg
END:VEVENT
BEGIN:VEVENT
DTSTART;TZID=America/Kentucky/Louisville:20250906T110000
DTEND;TZID=America/Kentucky/Louisville:20250906T140000
DTSTAMP:20260422T131353
CREATED:20250822T161836Z
LAST-MODIFIED:20250822T161836Z
UID:3753-1757156400-1757167200@kymotomag.com
SUMMARY:Cruise In Super Quik
DESCRIPTION:Location: \n12761 US RT 60 \nAshland\, KY  41102
URL:https://kymotomag.com/event/cruise-in-super-quik/
LOCATION:Ashland\, KY\, Ashland\, United States
ATTACH;FMTTYPE=image/jpeg:https://kymotomag.com/wp-content/uploads/2025/08/Lucy.jpg
END:VEVENT
BEGIN:VEVENT
DTSTART;TZID=America/Kentucky/Louisville:20250906T090000
DTEND;TZID=America/Kentucky/Louisville:20250906T160000
DTSTAMP:20260422T131353
CREATED:20250630T003706Z
LAST-MODIFIED:20250630T003706Z
UID:3362-1757149200-1757174400@kymotomag.com
SUMMARY:V Dub Derby 2025
DESCRIPTION:Registration Fee: $25 per car\nFree show shirt if registered by August 10.\nFree swap meet for vendors\, free admission for spectators.\nAll air-cooled and water-cooled VW\, Porsche\, and Audi are welcome. Registration can be completed online at the show website or in person the day of show. The show includes awards\, a live DJ\, silent auction\, door prizes\, food vendors\, and much more. To register or find out more information\, visit the show site. Proceeds from the show are donated to St. Joseph Children’s Home.\n\nLocation\nSt. Joseph Children’s Home\n2823 Frankfort Ave\nLouisville\, KY
URL:https://kymotomag.com/event/v-dub-derby-2025/
LOCATION:Louisville\, KY\, United States
ATTACH;FMTTYPE=image/jpeg:https://kymotomag.com/wp-content/uploads/2025/06/v-dub.jpg
END:VEVENT
BEGIN:VEVENT
DTSTART;TZID=America/Kentucky/Louisville:20250607T090000
DTEND;TZID=America/Kentucky/Louisville:20250607T110000
DTSTAMP:20260422T131353
CREATED:20250507T014844Z
LAST-MODIFIED:20250507T014844Z
UID:2292-1749286800-1749294000@kymotomag.com
SUMMARY:First Saturday Cars & Coffee
DESCRIPTION:For over a decade this first Saturday monthly event has been the go to for all gear heads in Central KY. This event is a family friendly\, safe gathering with all makes and models of vehicles welcome. Come out between the hours of 9:00 and 11:00am on the first Saturday of every month to the Blue Grass Regional Marketplace located at 4561 Iron Works Pike\, Lexington\, KY
URL:https://kymotomag.com/event/first-saturday-cars-coffee/
LOCATION:Bluegrass Stockyards\, 4561 Iron Works Pike\, Lexington\, KY\, 40511\, United States
ATTACH;FMTTYPE=image/webp:https://kymotomag.com/wp-content/uploads/2024/01/BG-Cars-and-Coffee.webp
END:VEVENT
BEGIN:VEVENT
DTSTART;TZID=America/Kentucky/Louisville:20250607T090000
DTEND;TZID=America/Kentucky/Louisville:20250607T110000
DTSTAMP:20260422T131353
CREATED:20250507T014620Z
LAST-MODIFIED:20250507T014620Z
UID:2289-1749286800-1749294000@kymotomag.com
SUMMARY:Lexington Cars & Coffee
DESCRIPTION:
URL:https://kymotomag.com/event/lexington-cars-coffee-3/
LOCATION:Southland Church\, 2349 Richmond Road\, Lexington\, KY\, 40502\, United States
CATEGORIES:Cars & Coffee
ATTACH;FMTTYPE=image/gif:https://kymotomag.com/wp-content/uploads/2023/12/Cars_Coffee.gif
END:VEVENT
BEGIN:VEVENT
DTSTART;TZID=America/Kentucky/Louisville:20250607T080000
DTEND;TZID=America/Kentucky/Louisville:20250607T110000
DTSTAMP:20260422T131353
CREATED:20250605T004138Z
LAST-MODIFIED:20250605T004427Z
UID:2700-1749283200-1749294000@kymotomag.com
SUMMARY:Cave City Cars & Coffee
DESCRIPTION:
URL:https://kymotomag.com/event/cave-city-cars-coffee/
LOCATION:Cave City\, KY\, United States
ATTACH;FMTTYPE=image/jpeg:https://kymotomag.com/wp-content/uploads/2025/06/cave-city.jpg
END:VEVENT
END:VCALENDAR