BEGIN:VCALENDAR
VERSION:2.0
PRODID:-//Kentucky Motorsports Magazine / KYMOTOMAG - ECPv6.15.20//NONSGML v1.0//EN
CALSCALE:GREGORIAN
METHOD:PUBLISH
X-WR-CALNAME:Kentucky Motorsports Magazine / KYMOTOMAG
X-ORIGINAL-URL:https://kymotomag.com
X-WR-CALDESC:Events for Kentucky Motorsports Magazine / KYMOTOMAG
REFRESH-INTERVAL;VALUE=DURATION:PT1H
X-Robots-Tag:noindex
X-PUBLISHED-TTL:PT1H
BEGIN:VTIMEZONE
TZID:America/Kentucky/Louisville
BEGIN:DAYLIGHT
TZOFFSETFROM:-0500
TZOFFSETTO:-0400
TZNAME:EDT
DTSTART:20240310T070000
END:DAYLIGHT
BEGIN:STANDARD
TZOFFSETFROM:-0400
TZOFFSETTO:-0500
TZNAME:EST
DTSTART:20241103T060000
END:STANDARD
BEGIN:DAYLIGHT
TZOFFSETFROM:-0500
TZOFFSETTO:-0400
TZNAME:EDT
DTSTART:20250309T070000
END:DAYLIGHT
BEGIN:STANDARD
TZOFFSETFROM:-0400
TZOFFSETTO:-0500
TZNAME:EST
DTSTART:20251102T060000
END:STANDARD
BEGIN:DAYLIGHT
TZOFFSETFROM:-0500
TZOFFSETTO:-0400
TZNAME:EDT
DTSTART:20260308T070000
END:DAYLIGHT
BEGIN:STANDARD
TZOFFSETFROM:-0400
TZOFFSETTO:-0500
TZNAME:EST
DTSTART:20261101T060000
END:STANDARD
END:VTIMEZONE
BEGIN:VEVENT
DTSTART;VALUE=DATE:20250426
DTEND;VALUE=DATE:20250427
DTSTAMP:20260423T153252
CREATED:20241021T013935Z
LAST-MODIFIED:20241021T013935Z
UID:1867-1745625600-1745711999@kymotomag.com
SUMMARY:FREE Top Gun Cruise In
DESCRIPTION:
URL:https://kymotomag.com/event/free-top-gun-cruise-in/
LOCATION:Harlan Automotive\, 2500 Wayne Sullivan Drive\, Paducah\, KY\, 42003\, United States
ATTACH;FMTTYPE=image/jpeg:https://kymotomag.com/wp-content/uploads/2023/12/download.jpg
END:VEVENT
BEGIN:VEVENT
DTSTART;VALUE=DATE:20250425
DTEND;VALUE=DATE:20250427
DTSTAMP:20260423T153252
CREATED:20250104T172303Z
LAST-MODIFIED:20250104T172348Z
UID:1966-1745539200-1745711999@kymotomag.com
SUMMARY:Bowtie Nationals
DESCRIPTION:Event Registration includes admission for one Chevrolet/GM vehicle and two (2) adults for Friday and Saturday.\nAll registrations are $80 until March 30\, 2025. Registrations after that will be done at the track and are $90 for your vehicle & two adults. Spectator admission is $25 per day\, 12 and under free. Event is rain or shine\, no refunds\, no pets. \n• Bowtie Nationals® is an all GM car & truck event ONLY. NO or Carolina “SQUATTED” TRUCKS. GM bodied vehicles only.\n• Handicap scooters are allowed. For handicap scooter rental reservations at the Indy event please contact Scooter Time 423-569-1933 or online reservations here: https://www.scootertimerentalsinc.com/reservations and mention Bowtie Nationals. We STRONGLY SUGGEST you reserve your scooter. NO golf carts\, motorcycles\, scooters\, skateboards or bikes.\n• No Dogs. SERVICE ANIMALS ONLY.\n• NO golf carts\, scooters\, ATVs\, bikes\, etc. are allowed in the SHOW AREA\, they are allowed in the drag race area. ONLY HANDICAPPED SCOOTERS ARE ALLOWED. You can bring your own handicapped scooter\, or they are available for rent at the track for rent\, reservations are recommended.\n• Secure Show Car Trailer Parking is available free of charge.\n• EZ Up tents are allowed in the show area\, you are liable for any damage.\n• Show parking is first come\, first serve. Vehicles are allowed to be dropped off Thursday at the track\, and can be left at the track overnight on Thursday and Friday.\n• Show vehicles are allowed small soft coolers\, no alcohol or glass.\n• Drones are not allowed.\n• No show vehicles are to be driven on the vendor midway during the show\, all deliveries or purchase pick ups must be done after show hours. We have staff golf carts for parts runs throughout the show.\n• Kids 12 and under are free. Daily spectator passes are $25/day.\n• Tow vehicles must have registration hanger in window at all times and cannot park in the show. Tow vehicles and trailers cannot be driven into the show\, this includes vendors.\n• Show Vehicles – Trailers can be unloaded starting Thursday. Show vehicles can then be driven back to the hotel\, left in your trailer\, or parked in show parking and left overnight at the venue. Most attendees drive their show vehicle in and out each day\, back and forth to their hotel. If you leave your show vehicle overnight at the venue\, you will have to park your tow vehicle in special tow vehicle parking on days of the show. The facility is locked down overnight with security\, and no-one is allowed in or out. Our staff is the last to leave and first to arrive (see schedule for those times). Overnight camping inside the venue is not permitted. You are allowed to come and go throughout the day with your show vehicle during the event.
URL:https://kymotomag.com/event/bowtie-nationals/
LOCATION:Beech Bend Raceway Park\, 798 Beech Bend Road\, Richardsville\, KY\, 42101\, United States
ATTACH;FMTTYPE=image/jpeg:https://kymotomag.com/wp-content/uploads/2025/01/Bow_Tie_Nationals-1.jpg
END:VEVENT
BEGIN:VEVENT
DTSTART;VALUE=DATE:20250425
DTEND;VALUE=DATE:20250427
DTSTAMP:20260423T153252
CREATED:20241021T005819Z
LAST-MODIFIED:20241021T010022Z
UID:1844-1745539200-1745711999@kymotomag.com
SUMMARY:McCreary Gravel Rally
DESCRIPTION:
URL:https://kymotomag.com/event/mccreary-gravel-rally/
LOCATION:Whitley City\, Whitley City\, 42653\, United States
CATEGORIES:Off-Road
ATTACH;FMTTYPE=image/png:https://kymotomag.com/wp-content/uploads/2024/10/NASA_Raly_Sport.png
END:VEVENT
BEGIN:VEVENT
DTSTART;VALUE=DATE:20250404
DTEND;VALUE=DATE:20250405
DTSTAMP:20260423T153252
CREATED:20241021T013720Z
LAST-MODIFIED:20250104T164637Z
UID:1862-1743724800-1743811199@kymotomag.com
SUMMARY:Liberty Friday Night Cruisers Car Show
DESCRIPTION:Liberty Friday Night Cruisers comes to downtown Liberty around the Courthouse Square every first Friday of April-October! Vendors and cars will be covering the streets from 6-9p EST.
URL:https://kymotomag.com/event/liberty-friday-night-cruisers-car-show/
LOCATION:Downtown Liberty\, 137 Courthouse Square\, Liberty\, 42539\, United States
ATTACH;FMTTYPE=image/png:https://kymotomag.com/wp-content/uploads/2024/10/Liberty-Friday-Night-Cruise.png
END:VEVENT
BEGIN:VEVENT
DTSTART;VALUE=DATE:20250322
DTEND;VALUE=DATE:20250323
DTSTAMP:20260423T153252
CREATED:20241021T002914Z
LAST-MODIFIED:20241021T002914Z
UID:1825-1742601600-1742687999@kymotomag.com
SUMMARY:Monster Jam
DESCRIPTION:
URL:https://kymotomag.com/event/monster-jam-3/
LOCATION:Freedom Hall\, 937 Phillips Lane\, Louisville\, KY\, 40209\, United States
ATTACH;FMTTYPE=image/png:https://kymotomag.com/wp-content/uploads/2023/11/Monster-Jam-Logo-2.png
END:VEVENT
BEGIN:VEVENT
DTSTART;VALUE=DATE:20250315
DTEND;VALUE=DATE:20250316
DTSTAMP:20260423T153252
CREATED:20250104T162232Z
LAST-MODIFIED:20250104T162232Z
UID:1924-1741996800-1742083199@kymotomag.com
SUMMARY:River City Rippers March Kick-Off Open Meet
DESCRIPTION:We start the year in the same place we end it each year…in Paristown!  Come enjoy some good food\, good music and lets pack the streets with cars and trucks from around the city.  Bring your friends and bring out what you have been working on all winter!  See you in Paristown March 15th.
URL:https://kymotomag.com/event/river-city-rippers-march-kick-off-open-meet/
LOCATION:Paristown\, Paristown\, 40204\, United States
ATTACH;FMTTYPE=image/jpeg:https://kymotomag.com/wp-content/uploads/2025/01/RCR-March-Meet.jpg
END:VEVENT
BEGIN:VEVENT
DTSTART;VALUE=DATE:20250308
DTEND;VALUE=DATE:20250310
DTSTAMP:20260423T153252
CREATED:20241021T013155Z
LAST-MODIFIED:20241021T013155Z
UID:1860-1741392000-1741564799@kymotomag.com
SUMMARY:Kyana Swap Meet
DESCRIPTION:The Largest Indoor Automobile Swap Meet in the U.S.\nOver 300\,000 square feet under roof. 58th Year. Every Show Sold Out Since 1984.
URL:https://kymotomag.com/event/kyana-swap-meet/
LOCATION:Kentucky Expo Center\, 937 Phillips Lane\, Louisville\, KY\, 40209\, United States
ATTACH;FMTTYPE=image/png:https://kymotomag.com/wp-content/uploads/2023/11/kyana-swap-meet-logo.png
END:VEVENT
BEGIN:VEVENT
DTSTART;VALUE=DATE:20250201
DTEND;VALUE=DATE:20250202
DTSTAMP:20260423T153252
CREATED:20241021T012113Z
LAST-MODIFIED:20241021T012113Z
UID:1857-1738368000-1738454399@kymotomag.com
SUMMARY:Monster Truck Wars
DESCRIPTION:America’s WILDEST Monster Truck Show\, the most affordable family fun event returns to the Kentucky Horse Park!
URL:https://kymotomag.com/event/monster-truck-wars/
LOCATION:Alltech Arena\, 4089 Iron Works Pike\, Lexington\, KY\, 40511\, United States
ATTACH;FMTTYPE=image/jpeg:https://kymotomag.com/wp-content/uploads/2024/10/Monster-Truck-Wars-logo-scaled-1.jpg
END:VEVENT
BEGIN:VEVENT
DTSTART;VALUE=DATE:20250111
DTEND;VALUE=DATE:20250112
DTSTAMP:20260423T153252
CREATED:20250104T171239Z
LAST-MODIFIED:20250104T171528Z
UID:1957-1736553600-1736639999@kymotomag.com
SUMMARY:40th Annual Model A Winter Swap Meet
DESCRIPTION:
URL:https://kymotomag.com/event/40th-annual-model-a-winter-swap-meet/
LOCATION:Paroquet Springs Conference Center\, 395 Paroquet Springs Drive\, Shepherdsville\, 40165\, United States
ATTACH;FMTTYPE=image/jpeg:https://kymotomag.com/wp-content/uploads/2025/01/Model_A_Winter_Swap.jpg
END:VEVENT
BEGIN:VEVENT
DTSTART;VALUE=DATE:20250110
DTEND;VALUE=DATE:20250113
DTSTAMP:20260423T153252
CREATED:20241021T011809Z
LAST-MODIFIED:20241021T011809Z
UID:1855-1736467200-1736726399@kymotomag.com
SUMMARY:TriState MX
DESCRIPTION:Get ready Kentucky! Tristate MX returns to the Alltech Arena January 10th – 12th\, 2025! Tickets are sold at the door.
URL:https://kymotomag.com/event/tristate-mx/
LOCATION:Alltech Arena\, 4089 Iron Works Pike\, Lexington\, KY\, 40511\, United States
ATTACH;FMTTYPE=image/webp:https://kymotomag.com/wp-content/uploads/2023/11/Tristate-MX-Logo.webp
END:VEVENT
BEGIN:VEVENT
DTSTART;VALUE=DATE:20250110
DTEND;VALUE=DATE:20250112
DTSTAMP:20260423T153252
CREATED:20250104T163222Z
LAST-MODIFIED:20250104T163222Z
UID:1932-1736467200-1736639999@kymotomag.com
SUMMARY:Warren County Antique Tractor & Engine Club Indoor Show
DESCRIPTION:Join the Warren County Antique Tractor & Engine Club for their Indoor Winter Show on January 10th & 11th\, 2025!
URL:https://kymotomag.com/event/warren-county-antique-tractor-engine-club-indoor-show/
LOCATION:LD Brown Ag Expo Center\, 406 Elrod Road\, Bowling Green\, 42104\, United States
ATTACH;FMTTYPE=image/jpeg:https://kymotomag.com/wp-content/uploads/2025/01/Warren-County-Tractor-Show.jpg
END:VEVENT
BEGIN:VEVENT
DTSTART;VALUE=DATE:20250102
DTEND;VALUE=DATE:20250105
DTSTAMP:20260423T153252
CREATED:20241021T011641Z
LAST-MODIFIED:20241021T011641Z
UID:1852-1735776000-1736035199@kymotomag.com
SUMMARY:TNT Truck & Tractor Pull
DESCRIPTION:TNT Truck and Tractor Pull is excited for the 13th Annual Kentucky Invitational to be held January 2nd-4th\, 2025 in the Alltech Arena! \nTNT Truck and Tractor Pull will have multiple classes in three different sessions for an exciting weekend of pulling\, including the Saturday night finals.
URL:https://kymotomag.com/event/tnt-truck-tractor-pull/
LOCATION:Kentucky Horse Park\, 4089 Iron Works Pike\, Lexington\, KY\, 40511\, United States
ATTACH;FMTTYPE=image/jpeg:https://kymotomag.com/wp-content/uploads/2024/10/TNT.jpg
END:VEVENT
END:VCALENDAR