BEGIN:VCALENDAR
VERSION:2.0
PRODID:-//Kentucky Motorsports Magazine / KYMOTOMAG - ECPv6.15.20//NONSGML v1.0//EN
CALSCALE:GREGORIAN
METHOD:PUBLISH
X-WR-CALNAME:Kentucky Motorsports Magazine / KYMOTOMAG
X-ORIGINAL-URL:https://kymotomag.com
X-WR-CALDESC:Events for Kentucky Motorsports Magazine / KYMOTOMAG
REFRESH-INTERVAL;VALUE=DURATION:PT1H
X-Robots-Tag:noindex
X-PUBLISHED-TTL:PT1H
BEGIN:VTIMEZONE
TZID:America/Kentucky/Louisville
BEGIN:DAYLIGHT
TZOFFSETFROM:-0500
TZOFFSETTO:-0400
TZNAME:EDT
DTSTART:20240310T070000
END:DAYLIGHT
BEGIN:STANDARD
TZOFFSETFROM:-0400
TZOFFSETTO:-0500
TZNAME:EST
DTSTART:20241103T060000
END:STANDARD
BEGIN:DAYLIGHT
TZOFFSETFROM:-0500
TZOFFSETTO:-0400
TZNAME:EDT
DTSTART:20250309T070000
END:DAYLIGHT
BEGIN:STANDARD
TZOFFSETFROM:-0400
TZOFFSETTO:-0500
TZNAME:EST
DTSTART:20251102T060000
END:STANDARD
BEGIN:DAYLIGHT
TZOFFSETFROM:-0500
TZOFFSETTO:-0400
TZNAME:EDT
DTSTART:20260308T070000
END:DAYLIGHT
BEGIN:STANDARD
TZOFFSETFROM:-0400
TZOFFSETTO:-0500
TZNAME:EST
DTSTART:20261101T060000
END:STANDARD
END:VTIMEZONE
BEGIN:VEVENT
DTSTART;TZID=America/Kentucky/Louisville:20250601T110000
DTEND;TZID=America/Kentucky/Louisville:20250601T140000
DTSTAMP:20260423T105315
CREATED:20250531T225220Z
LAST-MODIFIED:20250531T225220Z
UID:2660-1748775600-1748786400@kymotomag.com
SUMMARY:Josh Harris Car Show
DESCRIPTION:The Josh Harris Car Show will take place on Sunday\, June 1\, 2025\, in Nicholasville\, Kentucky. Attendees are invited to play and take photos with Drake’s car. The event\, featuring swag giveaways while supplies last\, will run from 11 AM to 2 PM at Drake’s Brannon Crossing. Join the fun and explore unique automotive attractions.
URL:https://kymotomag.com/event/josh-harris-car-show/
LOCATION:Nicholasville\, KY\, Nicholasville\, United States
ATTACH;FMTTYPE=image/jpeg:https://kymotomag.com/wp-content/uploads/2025/05/josh-harris-car-show-KY-2025-06-01.jpg
END:VEVENT
BEGIN:VEVENT
DTSTART;TZID=America/Kentucky/Louisville:20250531T150000
DTEND;TZID=America/Kentucky/Louisville:20250531T190000
DTSTAMP:20260423T105315
CREATED:20250521T235212Z
LAST-MODIFIED:20250521T235212Z
UID:2495-1748703600-1748718000@kymotomag.com
SUMMARY:6th Annual Hustonville Car Show
DESCRIPTION:
URL:https://kymotomag.com/event/6th-annual-hustonville-car-show/
LOCATION:Hustonville\, KY\, United States
ATTACH;FMTTYPE=image/png:https://kymotomag.com/wp-content/uploads/2025/05/Houstonville.png
END:VEVENT
BEGIN:VEVENT
DTSTART;TZID=America/Kentucky/Louisville:20250531T090000
DTEND;TZID=America/Kentucky/Louisville:20250531T150000
DTSTAMP:20260423T105315
CREATED:20250521T234707Z
LAST-MODIFIED:20250521T234707Z
UID:2492-1748682000-1748703600@kymotomag.com
SUMMARY:Caudill Archery Car Show Fundraiser
DESCRIPTION:
URL:https://kymotomag.com/event/caudill-archery-car-show-fundraiser/
LOCATION:Richmond\, KY
ATTACH;FMTTYPE=image/png:https://kymotomag.com/wp-content/uploads/2025/05/Archery.png
END:VEVENT
BEGIN:VEVENT
DTSTART;TZID=America/Kentucky/Louisville:20250531T090000
DTEND;TZID=America/Kentucky/Louisville:20250531T150000
DTSTAMP:20260423T105315
CREATED:20250502T185403Z
LAST-MODIFIED:20250502T185403Z
UID:2056-1748682000-1748703600@kymotomag.com
SUMMARY:2nd Annual Regal Rexnord Car Show
DESCRIPTION:
URL:https://kymotomag.com/event/2nd-annual-regal-rexnord-car-show/
LOCATION:Emerson Power\, 101 Sealmaster Lane\, Morehead\, 40351\, United States
ATTACH;FMTTYPE=image/jpeg:https://kymotomag.com/wp-content/uploads/2025/05/05_2025_Regal_Rexnord.jpg
END:VEVENT
BEGIN:VEVENT
DTSTART;TZID=America/Kentucky/Louisville:20250531T090000
DTEND;TZID=America/Kentucky/Louisville:20250531T150000
DTSTAMP:20260423T105315
CREATED:20250502T185054Z
LAST-MODIFIED:20250502T185054Z
UID:2053-1748682000-1748703600@kymotomag.com
SUMMARY:Rolling Thunder 3rd Annual Bike & Car Show
DESCRIPTION:
URL:https://kymotomag.com/event/rolling-thunder-3rd-annual-bike-car-show/
LOCATION:Frederick Douglass HS\, 2000 Winchester Road\, Lexington\, 40509\, United States
ATTACH;FMTTYPE=image/jpeg:https://kymotomag.com/wp-content/uploads/2025/05/05_2025_Rolling_Thunder.jpg
END:VEVENT
BEGIN:VEVENT
DTSTART;TZID=America/Kentucky/Louisville:20250531T090000
DTEND;TZID=America/Kentucky/Louisville:20250531T140000
DTSTAMP:20260423T105315
CREATED:20250503T181834Z
LAST-MODIFIED:20250503T181834Z
UID:2187-1748682000-1748700000@kymotomag.com
SUMMARY:Black Rock Mafia 5th Annual Car Show
DESCRIPTION:
URL:https://kymotomag.com/event/black-rock-mafia-5th-annual-car-show/
LOCATION:Grayson County Fairgrounds\, 1414 Brandenburg Road\, Leitchfield\, United States
ATTACH;FMTTYPE=image/jpeg:https://kymotomag.com/wp-content/uploads/2025/05/05_31_2025_Black_Rock_Mafia.jpg
END:VEVENT
BEGIN:VEVENT
DTSTART;VALUE=DATE:20250531
DTEND;VALUE=DATE:20250601
DTSTAMP:20260423T105315
CREATED:20250503T190657Z
LAST-MODIFIED:20250503T190657Z
UID:2234-1748649600-1748735999@kymotomag.com
SUMMARY:Cecilia Baptist Church Car Show
DESCRIPTION:
URL:https://kymotomag.com/event/cecilia-baptist-church-car-show/
LOCATION:Cecilia Baptist Church\, 416 E Main Street\, Cecilia\, United States
ATTACH;FMTTYPE=image/jpeg:https://kymotomag.com/wp-content/uploads/2025/05/05_31_2025_Cecilia_Car_Show.jpg
END:VEVENT
BEGIN:VEVENT
DTSTART;VALUE=DATE:20250531
DTEND;VALUE=DATE:20250601
DTSTAMP:20260423T105315
CREATED:20250503T180128Z
LAST-MODIFIED:20250503T180128Z
UID:2172-1748649600-1748735999@kymotomag.com
SUMMARY:Post 87 BBQ and Bikes
DESCRIPTION:
URL:https://kymotomag.com/event/post-87-bbq-and-bikes/
LOCATION:Creekfront Park\, 250 Toonieville Road\, Hodgenville\, 42748\, United States
CATEGORIES:Motorcycle
ATTACH;FMTTYPE=image/jpeg:https://kymotomag.com/wp-content/uploads/2025/05/05_31_2025_Post_87.jpg
END:VEVENT
BEGIN:VEVENT
DTSTART;VALUE=DATE:20250531
DTEND;VALUE=DATE:20250601
DTSTAMP:20260423T105315
CREATED:20240225T172332Z
LAST-MODIFIED:20250529T185953Z
UID:1302-1748649600-1748735999@kymotomag.com
SUMMARY:KSP 2nd Annual Car Show
DESCRIPTION:Mark your calendars for the KSP Car Show on May 31 here at the Kentucky Horse Park. This promises to be an event where car enthusiasts and supporters come together to enjoy a display of some of the finest automobiles around. You don’t have to enter a car to join in on the fun! Proceeds raised will go towards supporting the KY Trooper Outreach program\, which includes initiatives such as Trooper Teddy\, Cram the Cruiser\, Safety Town\, and more.
URL:https://kymotomag.com/event/ksp-2nd-annual-car-show/
LOCATION:Kentucky Horse Park\, 4089 Iron Works Pike\, Lexington\, KY\, 40511\, United States
ATTACH;FMTTYPE=image/jpeg:https://kymotomag.com/wp-content/uploads/2024/02/KSP_Car_Show.jpg
END:VEVENT
BEGIN:VEVENT
DTSTART;TZID=America/Kentucky/Louisville:20250530T170000
DTEND;TZID=America/Kentucky/Louisville:20250530T210000
DTSTAMP:20260423T105315
CREATED:20250508T203904Z
LAST-MODIFIED:20250508T203904Z
UID:2308-1748624400-1748638800@kymotomag.com
SUMMARY:Cruise-In at The Fountain
DESCRIPTION:
URL:https://kymotomag.com/event/cruise-in-at-the-fountain/
LOCATION:Winchester\, KY\, Winchester\, United States
CATEGORIES:Cruise-In
ATTACH;FMTTYPE=image/jpeg:https://kymotomag.com/wp-content/uploads/2025/05/05_30_2025_Fountain.jpg
END:VEVENT
BEGIN:VEVENT
DTSTART;TZID=America/Kentucky/Louisville:20250509T170000
DTEND;TZID=America/Kentucky/Louisville:20250509T203000
DTSTAMP:20260423T105315
CREATED:20250503T141312Z
LAST-MODIFIED:20250503T141438Z
UID:2091-1746810000-1746822600@kymotomag.com
SUMMARY:Southland Shopping Center Cruise Night
DESCRIPTION:Located in the Southland Shopping Center\, 396 and 398 Southland Drive\, Lexington\, KY 40503 (In front of GoodYear Tires and Critchfield Meats)….from 5:00 until Dark…and Hosted by Rodders\, Inc.\n\nGoodYear and Critchfield Both Ask the Cruisers to Park by the Southland Drive side of the Parking Lot as to Allow Customers to Park in Front of the Buildings.\n\nThis is an Informal Meet and Greet cruise. A Variety of Restaurants Close…Plenty of Parking. Come Out to See Old Friends and Make New Ones.
URL:https://kymotomag.com/event/southland-shopping-center-cruise-night/
LOCATION:Southland Shopping Center\, 396 Southland Drive\, Lexington\, United States
CATEGORIES:Cruise Night
ATTACH;FMTTYPE=image/jpeg:https://kymotomag.com/wp-content/uploads/2025/05/Cruise-Night.jpg
END:VEVENT
BEGIN:VEVENT
DTSTART;TZID=America/Kentucky/Louisville:20250525T120000
DTEND;TZID=America/Kentucky/Louisville:20250525T180000
DTSTAMP:20260423T105315
CREATED:20250503T174429Z
LAST-MODIFIED:20250503T174429Z
UID:2160-1748174400-1748196000@kymotomag.com
SUMMARY:Whiskey City Cruisers
DESCRIPTION:Located at THE NEW LOCATION…Buzick’s Lumber and Home Center\, 1330 John Rowan Blvd\, Bardstown\, KY\,40004 from 12-6.\n\nThis is the Whiskey City Cruisers…33rd Year of Cruising !!!……. Every 4th Sunday April through October\n\nFree and Open to ALL Makes and Models of Cars and Trucks…. Bring’em Out !!!….Rain Cancels the Event…Check your Radar.\n\nFor more Information\, please Find them on FaceBook at Whiskey City Cruisers.
URL:https://kymotomag.com/event/whiskey-city-cruisers/
LOCATION:Buzick’s Lumber\, 1330 John Rowan Blvd\, Bardstown\, 40004\, United States
END:VEVENT
BEGIN:VEVENT
DTSTART;VALUE=DATE:20250525
DTEND;VALUE=DATE:20250526
DTSTAMP:20260423T105315
CREATED:20250503T173752Z
LAST-MODIFIED:20250513T005932Z
UID:2158-1748131200-1748217599@kymotomag.com
SUMMARY:Beatersville Car and Bike Show 2025
DESCRIPTION:Beatersville Car and Bike Show will take place this year on Sunday\, May 25th\, 2025. Once again on the streets of the Warehouse District at 15th and Main Street in Louisville\, Kentucky with bands performing inside at Portal\, 1512 Lytle Street.
URL:https://kymotomag.com/event/somernites-cruise-2/
LOCATION:Portal Louisville\, 1512 Portland Avenue\, Louisville\, 40203\, United States
ATTACH;FMTTYPE=image/png:https://kymotomag.com/wp-content/uploads/2023/11/Beatersville_Logo.png
END:VEVENT
BEGIN:VEVENT
DTSTART;TZID=America/Kentucky/Louisville:20250510T180000
DTEND;TZID=America/Kentucky/Louisville:20250510T200000
DTSTAMP:20260423T105315
CREATED:20250503T144048Z
LAST-MODIFIED:20250503T144149Z
UID:2109-1746900000-1746907200@kymotomag.com
SUMMARY:Wheels and Reels Cruise Night
DESCRIPTION:Located at the Movie Tavern\, 150 Langley Drive..(Brannon Crossing)\, Nicholasville\, KY\, 40356 from 6-8 PM and Hosted by Kickin’ Grass Landscapes.\n\nThis is the All New \, Night Car Show….Now meeting on the 2nd Saturday of Month… April through October.\nThis is a People’s Choice Awards.\nThis is also a Free Event with Give-a-ways each Month …and…. Food and Bar inside the Movie Tavern.
URL:https://kymotomag.com/event/wheels-and-reels-cruise-night/
LOCATION:Movie Tavern\, 150 Langley Drive\, Nicholasville\, 40356\, United States
CATEGORIES:Cruise Night
ATTACH;FMTTYPE=image/jpeg:https://kymotomag.com/wp-content/uploads/2025/05/Wheels_Reels_Cruise.jpg
END:VEVENT
BEGIN:VEVENT
DTSTART;TZID=America/Kentucky/Louisville:20250524T170000
DTEND;TZID=America/Kentucky/Louisville:20250524T210000
DTSTAMP:20260423T105315
CREATED:20250521T224028Z
LAST-MODIFIED:20250521T225709Z
UID:2458-1748106000-1748120400@kymotomag.com
SUMMARY:Classic Car\, Truck\, & Bike Show Saturday Night Car Cruise
DESCRIPTION:
URL:https://kymotomag.com/event/classic-car-truck-bike-show-saturday-night-car-cruise/
LOCATION:Beattyville\, KY\, United States
ATTACH;FMTTYPE=image/jpeg:https://kymotomag.com/wp-content/uploads/2025/05/beattyville.jpg
END:VEVENT
BEGIN:VEVENT
DTSTART;TZID=America/Kentucky/Louisville:20250524T170000
DTEND;TZID=America/Kentucky/Louisville:20250524T210000
DTSTAMP:20260423T105315
CREATED:20250508T203348Z
LAST-MODIFIED:20250508T203348Z
UID:2305-1748106000-1748120400@kymotomag.com
SUMMARY:Four Leaf Studios Bike Night
DESCRIPTION:
URL:https://kymotomag.com/event/four-leaf-studios-bike-night/
LOCATION:Richmond\, KY
CATEGORIES:Motorcycle
ATTACH;FMTTYPE=image/jpeg:https://kymotomag.com/wp-content/uploads/2025/05/4Leaf_Bike_Night.jpg
END:VEVENT
BEGIN:VEVENT
DTSTART;TZID=America/Kentucky/Louisville:20250510T170000
DTEND;TZID=America/Kentucky/Louisville:20250510T200000
DTSTAMP:20260423T105315
CREATED:20250503T143059Z
LAST-MODIFIED:20250503T143059Z
UID:2101-1746896400-1746907200@kymotomag.com
SUMMARY:Old Bridge General Store Cruise Night
DESCRIPTION:
URL:https://kymotomag.com/event/old-bridge-general-store-cruise-night/
LOCATION:Old Bridge General Store\, 101 Dory Drive\, Salvisa\, United States
CATEGORIES:Cruise Night
ATTACH;FMTTYPE=image/jpeg:https://kymotomag.com/wp-content/uploads/2025/05/Cruise-Night.jpg
END:VEVENT
BEGIN:VEVENT
DTSTART;TZID=America/Kentucky/Louisville:20250524T160000
DTEND;TZID=America/Kentucky/Louisville:20250524T200000
DTSTAMP:20260423T105315
CREATED:20250521T234126Z
LAST-MODIFIED:20250618T024836Z
UID:2488-1748102400-1748116800@kymotomag.com
SUMMARY:Lake Town Cruisers
DESCRIPTION:
URL:https://kymotomag.com/event/lake-town-cruisers/
LOCATION:Taylorsville\, KY\, United States
ATTACH;FMTTYPE=image/png:https://kymotomag.com/wp-content/uploads/2025/05/Taylorsville.png
END:VEVENT
BEGIN:VEVENT
DTSTART;TZID=America/Kentucky/Louisville:20250524T160000
DTEND;TZID=America/Kentucky/Louisville:20250524T200000
DTSTAMP:20260423T105315
CREATED:20250521T233510Z
LAST-MODIFIED:20250521T233510Z
UID:2484-1748102400-1748116800@kymotomag.com
SUMMARY:Driving Miss Sable Car Show
DESCRIPTION:
URL:https://kymotomag.com/event/driving-miss-sable-car-show/
LOCATION:Albany\, KY\, United States
ATTACH;FMTTYPE=image/png:https://kymotomag.com/wp-content/uploads/2025/05/Miss-Sable.png
END:VEVENT
BEGIN:VEVENT
DTSTART;TZID=America/Kentucky/Louisville:20250524T140000
DTEND;TZID=America/Kentucky/Louisville:20250524T170000
DTSTAMP:20260423T105315
CREATED:20250521T232412Z
LAST-MODIFIED:20250521T232412Z
UID:2477-1748095200-1748106000@kymotomag.com
SUMMARY:Spring Classic Car Cruise-In
DESCRIPTION:FREE EVENT! For cars and spectators!One of the biggest and best cruise-ins in Western Kentucky!Live Music from 2 – 5 PM\, food vendor\, beautiful cars\, shaded areas for gathering.First 50 cars through the gate receives a special gift.
URL:https://kymotomag.com/event/spring-classic-car-cruise-in/
LOCATION:Grand Rivers\, KY\, United States
ATTACH;FMTTYPE=image/png:https://kymotomag.com/wp-content/uploads/2025/05/Grand-Rivers.png
END:VEVENT
BEGIN:VEVENT
DTSTART;TZID=America/Kentucky/Louisville:20250524T100000
DTEND;TZID=America/Kentucky/Louisville:20250524T160000
DTSTAMP:20260423T105315
CREATED:20250503T172922Z
LAST-MODIFIED:20250503T172922Z
UID:2155-1748080800-1748102400@kymotomag.com
SUMMARY:Ol' Iron Rundown
DESCRIPTION:1987 and older custom car and truck show. Food\, Live Music\, Beer\, Pin up Contest and more!
URL:https://kymotomag.com/event/ol-iron-rundown-2/
LOCATION:Auto Kustoms\, 123 S Chiles St\, Harrodsburg\, 40330\, United States
ATTACH;FMTTYPE=image/jpeg:https://kymotomag.com/wp-content/uploads/2025/05/05_24_2025_Ol_Iron.jpg
END:VEVENT
BEGIN:VEVENT
DTSTART;TZID=America/Kentucky/Louisville:20250524T090000
DTEND;TZID=America/Kentucky/Louisville:20250524T130000
DTSTAMP:20260423T105315
CREATED:20250522T001659Z
LAST-MODIFIED:20250522T001659Z
UID:2503-1748077200-1748091600@kymotomag.com
SUMMARY:The Venue at Robert's Family Farm 5th Annual Car Show
DESCRIPTION:
URL:https://kymotomag.com/event/the-venue-at-roberts-family-farm-5th-annual-car-show/
LOCATION:Guston\, KY\, United States
ATTACH;FMTTYPE=image/png:https://kymotomag.com/wp-content/uploads/2025/05/Screenshot-2025-05-21-201342.png
END:VEVENT
BEGIN:VEVENT
DTSTART;TZID=America/Kentucky/Louisville:20250524T080000
DTEND;TZID=America/Kentucky/Louisville:20250524T160000
DTSTAMP:20260423T105315
CREATED:20250502T185554Z
LAST-MODIFIED:20250502T185554Z
UID:2060-1748073600-1748102400@kymotomag.com
SUMMARY:2nd Annual Hero's Charity Car Show
DESCRIPTION:
URL:https://kymotomag.com/event/2nd-annual-heros-charity-car-show/
LOCATION:Trimble County Park\, 3114 US 421\, Bedford\, 40006\, United States
ATTACH;FMTTYPE=image/jpeg:https://kymotomag.com/wp-content/uploads/2025/05/05_2025_Heros_Charity.jpg
END:VEVENT
BEGIN:VEVENT
DTSTART;VALUE=DATE:20250524
DTEND;VALUE=DATE:20250525
DTSTAMP:20260423T105315
CREATED:20250104T165619Z
LAST-MODIFIED:20250104T165619Z
UID:1948-1748044800-1748131199@kymotomag.com
SUMMARY:Ol’ Iron Rundown
DESCRIPTION:1987 and older custom car and truck show. Food\, Live Music\, Beer\, Pin up Contest and more!
URL:https://kymotomag.com/event/ol-iron-rundown/
ATTACH;FMTTYPE=image/jpeg:https://kymotomag.com/wp-content/uploads/2025/01/ol_Iron.jpg
END:VEVENT
BEGIN:VEVENT
DTSTART;TZID=America/Kentucky/Louisville:20250523T173000
DTEND;TZID=America/Kentucky/Louisville:20250523T210000
DTSTAMP:20260423T105315
CREATED:20250521T230259Z
LAST-MODIFIED:20250521T230540Z
UID:2464-1748021400-1748034000@kymotomag.com
SUMMARY:Cruise In Car/Truck Meet Up
DESCRIPTION:
URL:https://kymotomag.com/event/cruise-in-car-truck-meet-up/
LOCATION:Jackson\, KY\, United States
ATTACH;FMTTYPE=image/png:https://kymotomag.com/wp-content/uploads/2025/05/jack.png
END:VEVENT
BEGIN:VEVENT
DTSTART;TZID=America/Kentucky/Louisville:20250523T170000
DTEND;TZID=America/Kentucky/Louisville:20250523T210000
DTSTAMP:20260423T105315
CREATED:20250517T010543Z
LAST-MODIFIED:20250517T010930Z
UID:2450-1748019600-1748034000@kymotomag.com
SUMMARY:Friday Night Thunder
DESCRIPTION:
URL:https://kymotomag.com/event/friday-night-thunder/
LOCATION:Somerset\, KY
ATTACH;FMTTYPE=image/jpeg:https://kymotomag.com/wp-content/uploads/2025/05/Friday-1.jpg
END:VEVENT
BEGIN:VEVENT
DTSTART;TZID=America/Kentucky/Louisville:20250509T170000
DTEND;TZID=America/Kentucky/Louisville:20250509T210000
DTSTAMP:20260423T105315
CREATED:20250503T140740Z
LAST-MODIFIED:20250503T140740Z
UID:2086-1746810000-1746824400@kymotomag.com
SUMMARY:Hardee's Cruise Night
DESCRIPTION:
URL:https://kymotomag.com/event/hardees-cruise-night/
LOCATION:Hardee’s – Nicholasville\, 903 S Main Street\, Nicholasville\, 40356\, United States
CATEGORIES:Cruise Night
ATTACH;FMTTYPE=image/jpeg:https://kymotomag.com/wp-content/uploads/2025/05/Hardees_Cruise_Night.jpg
END:VEVENT
BEGIN:VEVENT
DTSTART;TZID=America/Kentucky/Louisville:20250509T170000
DTEND;TZID=America/Kentucky/Louisville:20250509T203000
DTSTAMP:20260423T105315
CREATED:20250503T141312Z
LAST-MODIFIED:20250503T141438Z
UID:2091-1746810000-1746822600@kymotomag.com
SUMMARY:Southland Shopping Center Cruise Night
DESCRIPTION:Located in the Southland Shopping Center\, 396 and 398 Southland Drive\, Lexington\, KY 40503 (In front of GoodYear Tires and Critchfield Meats)….from 5:00 until Dark…and Hosted by Rodders\, Inc.\n\nGoodYear and Critchfield Both Ask the Cruisers to Park by the Southland Drive side of the Parking Lot as to Allow Customers to Park in Front of the Buildings.\n\nThis is an Informal Meet and Greet cruise. A Variety of Restaurants Close…Plenty of Parking. Come Out to See Old Friends and Make New Ones.
URL:https://kymotomag.com/event/southland-shopping-center-cruise-night/
LOCATION:Southland Shopping Center\, 396 Southland Drive\, Lexington\, United States
CATEGORIES:Cruise Night
ATTACH;FMTTYPE=image/jpeg:https://kymotomag.com/wp-content/uploads/2025/05/Cruise-Night.jpg
END:VEVENT
BEGIN:VEVENT
DTSTART;TZID=America/Kentucky/Louisville:20250509T170000
DTEND;TZID=America/Kentucky/Louisville:20250509T200000
DTSTAMP:20260423T105315
CREATED:20250503T142652Z
LAST-MODIFIED:20250507T013446Z
UID:2096-1746810000-1746820800@kymotomag.com
SUMMARY:Burgers Shakes Cruise Night
DESCRIPTION:
URL:https://kymotomag.com/event/burgers-shakes-cruise-night/
LOCATION:Burgers Shakes\, 219 East New Circle Road\, Lexington\, United States
CATEGORIES:Cruise Night
ATTACH;FMTTYPE=image/jpeg:https://kymotomag.com/wp-content/uploads/2025/05/2025_Burgers_Shakes_Cruise_Night.jpg
END:VEVENT
BEGIN:VEVENT
DTSTART;VALUE=DATE:20250523
DTEND;VALUE=DATE:20250525
DTSTAMP:20260423T105315
CREATED:20250427T004254Z
LAST-MODIFIED:20250427T005536Z
UID:2009-1747958400-1748131199@kymotomag.com
SUMMARY:Somernites Cruise
DESCRIPTION:FRIDAY MAY 23 \n“Burnside Meet & Greet”\nPresented by City of Burnside\n(Friday 10am-2pm)\nCole Park\, 7929 S. Highway 27\, Burnside\, KY 42519 — next to Burnside City Hall) \n“Rattlesnake Run”\n(Friday 2pm; leave from Burnside Meet & Greet)\n\nFriday Night Thunder\n(Friday 5pm-9pm)\nSomerset Mall\, US Hwy. 27 Light #23 \nSATURDAY\, MAY 24 \nFun Run – To be announced\n(Saturday 8am Breakfast; 8:30am-? Fun Run)\nHardee’s South on Hwy. 27\, Somerset.\nBreakfast is provided for participants from 8-8:30am. Fun Run leaves at 8:30. \nSomernites Cruise — Main Event\n(Saturday 12pm-6pm)\nFountain Square in Downtown Somerset KY\n“Camaro/Chevelle/Nova” Showcase (New Month!!)\n“First Generation Monte Carlo” Regional Meet\n8th Annual “Circle the Wagons” display (station wagons)\n”Pace Cars” special display
URL:https://kymotomag.com/event/somernites-cruise/
LOCATION:Downtown Somerset\, 100 Public Square\, Somerset\, KY\, 42501\, United States
ATTACH;FMTTYPE=image/png:https://kymotomag.com/wp-content/uploads/2025/04/Somernites2025Logo.png
END:VEVENT
END:VCALENDAR