BEGIN:VCALENDAR
VERSION:2.0
PRODID:-//Kentucky Motorsports Magazine / KYMOTOMAG - ECPv6.15.20//NONSGML v1.0//EN
CALSCALE:GREGORIAN
METHOD:PUBLISH
X-WR-CALNAME:Kentucky Motorsports Magazine / KYMOTOMAG
X-ORIGINAL-URL:https://kymotomag.com
X-WR-CALDESC:Events for Kentucky Motorsports Magazine / KYMOTOMAG
REFRESH-INTERVAL;VALUE=DURATION:PT1H
X-Robots-Tag:noindex
X-PUBLISHED-TTL:PT1H
BEGIN:VTIMEZONE
TZID:America/Kentucky/Louisville
BEGIN:DAYLIGHT
TZOFFSETFROM:-0500
TZOFFSETTO:-0400
TZNAME:EDT
DTSTART:20240310T070000
END:DAYLIGHT
BEGIN:STANDARD
TZOFFSETFROM:-0400
TZOFFSETTO:-0500
TZNAME:EST
DTSTART:20241103T060000
END:STANDARD
BEGIN:DAYLIGHT
TZOFFSETFROM:-0500
TZOFFSETTO:-0400
TZNAME:EDT
DTSTART:20250309T070000
END:DAYLIGHT
BEGIN:STANDARD
TZOFFSETFROM:-0400
TZOFFSETTO:-0500
TZNAME:EST
DTSTART:20251102T060000
END:STANDARD
BEGIN:DAYLIGHT
TZOFFSETFROM:-0500
TZOFFSETTO:-0400
TZNAME:EDT
DTSTART:20260308T070000
END:DAYLIGHT
BEGIN:STANDARD
TZOFFSETFROM:-0400
TZOFFSETTO:-0500
TZNAME:EST
DTSTART:20261101T060000
END:STANDARD
END:VTIMEZONE
BEGIN:VEVENT
DTSTART;TZID=America/Kentucky/Louisville:20250510T170000
DTEND;TZID=America/Kentucky/Louisville:20250510T200000
DTSTAMP:20260423T092653
CREATED:20250503T143059Z
LAST-MODIFIED:20250503T143059Z
UID:2101-1746896400-1746907200@kymotomag.com
SUMMARY:Old Bridge General Store Cruise Night
DESCRIPTION:
URL:https://kymotomag.com/event/old-bridge-general-store-cruise-night/
LOCATION:Old Bridge General Store\, 101 Dory Drive\, Salvisa\, United States
CATEGORIES:Cruise Night
ATTACH;FMTTYPE=image/jpeg:https://kymotomag.com/wp-content/uploads/2025/05/Cruise-Night.jpg
END:VEVENT
BEGIN:VEVENT
DTSTART;TZID=America/Kentucky/Louisville:20250607T160000
DTEND;TZID=America/Kentucky/Louisville:20250607T190000
DTSTAMP:20260423T092653
CREATED:20250607T002852Z
LAST-MODIFIED:20250607T002852Z
UID:2798-1749312000-1749322800@kymotomag.com
SUMMARY:Jenkins Cruise In
DESCRIPTION:Jenkins Cruise In this Saturday June 7th at the city park in Jenkins\, KY beginning at 4:00pm. All makes and models welcome. A special commemorative burnout planned for 7:00pm. If your vehicle is street legal and can turn the tires over\, event organizers encourage you to join in!Free for participants and spectators.
URL:https://kymotomag.com/event/jenkins-cruise-in/
LOCATION:Jenkins\, KY\, United States
ATTACH;FMTTYPE=image/jpeg:https://kymotomag.com/wp-content/uploads/2025/06/jenkins.jpg
END:VEVENT
BEGIN:VEVENT
DTSTART;TZID=America/Kentucky/Louisville:20250720T080000
DTEND;TZID=America/Kentucky/Louisville:20250720T080000
DTSTAMP:20260423T092653
CREATED:20250503T185547Z
LAST-MODIFIED:20250504T195132Z
UID:2220-1752998400-1752998400@kymotomag.com
SUMMARY:Lone Wolf Cruisers - Shoney's Cruise-In
DESCRIPTION:
URL:https://kymotomag.com/event/lone-wolf-cruisers-shoneys-cruise-in-2/
LOCATION:Shoney’s – Henderson\, 2452 US-41\, Henderson\, United States
ATTACH;FMTTYPE=image/jpeg:https://kymotomag.com/wp-content/uploads/2025/05/Shoneys_Cruisein.jpg
END:VEVENT
BEGIN:VEVENT
DTSTART;TZID=America/Kentucky/Louisville:20250607T100000
DTEND;TZID=America/Kentucky/Louisville:20250607T160000
DTSTAMP:20260423T092653
CREATED:20250511T025758Z
LAST-MODIFIED:20250511T025758Z
UID:2379-1749290400-1749312000@kymotomag.com
SUMMARY:The 1st Annual Faith Family Cars Cruise
DESCRIPTION:
URL:https://kymotomag.com/event/the-1st-annual-faith-family-cars-cruise/
LOCATION:Lebanon JCT\, KY\, United States
ATTACH;FMTTYPE=image/jpeg:https://kymotomag.com/wp-content/uploads/2025/05/faith-family-cars.jpg
END:VEVENT
BEGIN:VEVENT
DTSTART;TZID=America/Kentucky/Louisville:20250607T100000
DTEND;TZID=America/Kentucky/Louisville:20250607T150000
DTSTAMP:20260423T092653
CREATED:20250605T013629Z
LAST-MODIFIED:20250605T013629Z
UID:2745-1749290400-1749308400@kymotomag.com
SUMMARY:Rooster Run General Store Open Car Show
DESCRIPTION:
URL:https://kymotomag.com/event/rooster-run-general-store-open-car-show/
LOCATION:Cox’s Creek\, KY\, United States
ATTACH;FMTTYPE=image/jpeg:https://kymotomag.com/wp-content/uploads/2025/06/cox.jpg
END:VEVENT
BEGIN:VEVENT
DTSTART;TZID=America/Kentucky/Louisville:20250607T100000
DTEND;TZID=America/Kentucky/Louisville:20250607T150000
DTSTAMP:20260423T092653
CREATED:20250503T181149Z
LAST-MODIFIED:20250503T181149Z
UID:2180-1749290400-1749308400@kymotomag.com
SUMMARY:Rooster Run Open Car Show
DESCRIPTION:
URL:https://kymotomag.com/event/rooster-run-open-car-show/
LOCATION:Rooster Run General Store\, 6515 New Shepherdsville Road\, Cox's Creek\, 40013\, United States
ATTACH;FMTTYPE=image/jpeg:https://kymotomag.com/wp-content/uploads/2025/05/06_07_2025_Rooster_Run.jpg
END:VEVENT
BEGIN:VEVENT
DTSTART;TZID=America/Kentucky/Louisville:20250607T100000
DTEND;TZID=America/Kentucky/Louisville:20250607T140000
DTSTAMP:20260423T092653
CREATED:20250531T211853Z
LAST-MODIFIED:20250531T211853Z
UID:2647-1749290400-1749304800@kymotomag.com
SUMMARY:Josh Brown Car Show
DESCRIPTION:Supporting His Fight Against a Glioma Brain Tumor
URL:https://kymotomag.com/event/josh-brown-car-show/
LOCATION:Hodgenville\, KY\, United States
ATTACH;FMTTYPE=image/png:https://kymotomag.com/wp-content/uploads/2025/05/josh-brown.png
END:VEVENT
BEGIN:VEVENT
DTSTART;TZID=America/Kentucky/Louisville:20250607T100000
DTEND;TZID=America/Kentucky/Louisville:20250607T140000
DTSTAMP:20260423T092653
CREATED:20250531T010356Z
LAST-MODIFIED:20250531T010356Z
UID:2583-1749290400-1749304800@kymotomag.com
SUMMARY:Grace On The Hill Annual Car Show
DESCRIPTION:
URL:https://kymotomag.com/event/grace-on-the-hill-annual-car-show/
LOCATION:Corbin\, KY\, Corbin\, United States
ATTACH;FMTTYPE=image/jpeg:https://kymotomag.com/wp-content/uploads/2025/05/grace-on-the-hill.jpg
END:VEVENT
BEGIN:VEVENT
DTSTART;TZID=America/Kentucky/Louisville:20250607T100000
DTEND;TZID=America/Kentucky/Louisville:20250607T130000
DTSTAMP:20260423T092653
CREATED:20250531T005820Z
LAST-MODIFIED:20250531T005820Z
UID:2579-1749290400-1749301200@kymotomag.com
SUMMARY:Bill Godby Memorial Cruise-In
DESCRIPTION:
URL:https://kymotomag.com/event/bill-godby-memorial-cruise-in/
LOCATION:Midway\, KY\, United States
ATTACH;FMTTYPE=image/png:https://kymotomag.com/wp-content/uploads/2025/05/bill-godby.png
END:VEVENT
BEGIN:VEVENT
DTSTART;TZID=America/Kentucky/Louisville:20250607T090000
DTEND;TZID=America/Kentucky/Louisville:20250607T150000
DTSTAMP:20260423T092653
CREATED:20250511T023701Z
LAST-MODIFIED:20250511T033325Z
UID:2376-1749286800-1749308400@kymotomag.com
SUMMARY:48TH RIVER TIN STREET RODS CHARITY CAR SHOW
DESCRIPTION:
URL:https://kymotomag.com/event/48th-river-tin-street-rods-charity-car-show/
LOCATION:Paducah\, KY\, United States
ATTACH;FMTTYPE=image/png:https://kymotomag.com/wp-content/uploads/2025/05/48th-River-Tin-Street-Rods.png
END:VEVENT
BEGIN:VEVENT
DTSTART;TZID=America/Kentucky/Louisville:20250607T090000
DTEND;TZID=America/Kentucky/Louisville:20250607T140000
DTSTAMP:20260423T092653
CREATED:20250510T212230Z
LAST-MODIFIED:20250510T212319Z
UID:2351-1749286800-1749304800@kymotomag.com
SUMMARY:Volks Valley Rally 2025 Car Show
DESCRIPTION:Join the Kentucky Music Hall of Fame and Central Kentucky Volkswagen Car Club for their annual Volks Valley Rally on Saturday\, June 7th.  This event continues to grow each year in the field beside the Kentucky Music Hall of Fame.  It is $25 to register – pre-registration guarantees a tshirt.  Free to attend the show as a spectator.  There will be dj music and food trucks. Then that evening there will be the Kentucky Blues Music Festival. Make it a full day of fun and music for the whole family!
URL:https://kymotomag.com/event/volks-valley-rally-2025-car-show/
LOCATION:Kentucky Music Hall of Fame\, 2590 Richmond Street\, Mt. Vernon\, 40456\, United States
ATTACH;FMTTYPE=image/jpeg:https://kymotomag.com/wp-content/uploads/2025/05/06_07_2025_VW_Show.jpg
END:VEVENT
BEGIN:VEVENT
DTSTART;TZID=America/Kentucky/Louisville:20250607T090000
DTEND;TZID=America/Kentucky/Louisville:20250607T130000
DTSTAMP:20260423T092653
CREATED:20250531T012713Z
LAST-MODIFIED:20250531T012713Z
UID:2590-1749286800-1749301200@kymotomag.com
SUMMARY:Albany Masonic Lodge 206 Car Show & Cruise
DESCRIPTION:
URL:https://kymotomag.com/event/albany-masonic-lodge-206-car-show-cruise/
LOCATION:Albany\, KY\, United States
ATTACH;FMTTYPE=image/jpeg:https://kymotomag.com/wp-content/uploads/2025/05/Albany-1.jpg
END:VEVENT
BEGIN:VEVENT
DTSTART;TZID=America/Kentucky/Louisville:20250607T090000
DTEND;TZID=America/Kentucky/Louisville:20250607T120000
DTSTAMP:20260423T092653
CREATED:20250514T005816Z
LAST-MODIFIED:20250514T005816Z
UID:2419-1749286800-1749297600@kymotomag.com
SUMMARY:Lakeside Park-Crestview Hills Police Charity Car Show
DESCRIPTION:
URL:https://kymotomag.com/event/lakeside-park-crestview-hills-police-charity-car-show/
LOCATION:Crestview Hills\, KY\, United States
ATTACH;FMTTYPE=image/jpeg:https://kymotomag.com/wp-content/uploads/2025/05/Lakeside-Park.jpg
END:VEVENT
BEGIN:VEVENT
DTSTART;TZID=America/Kentucky/Louisville:20250607T090000
DTEND;TZID=America/Kentucky/Louisville:20250607T110000
DTSTAMP:20260423T092653
CREATED:20250607T005007Z
LAST-MODIFIED:20250607T005007Z
UID:2808-1749286800-1749294000@kymotomag.com
SUMMARY:Lex Ky Cars and Coffee
DESCRIPTION:
URL:https://kymotomag.com/event/lex-ky-cars-and-coffee/
LOCATION:Crossroads Church\, 4128 Todds Road\, Lexington\, 40509\, United States
ATTACH;FMTTYPE=image/jpeg:https://kymotomag.com/wp-content/uploads/2025/06/Crossroads.jpg
END:VEVENT
BEGIN:VEVENT
DTSTART;TZID=America/Kentucky/Louisville:20250607T090000
DTEND;TZID=America/Kentucky/Louisville:20250607T110000
DTSTAMP:20260423T092653
CREATED:20250507T014844Z
LAST-MODIFIED:20250507T014844Z
UID:2292-1749286800-1749294000@kymotomag.com
SUMMARY:First Saturday Cars & Coffee
DESCRIPTION:For over a decade this first Saturday monthly event has been the go to for all gear heads in Central KY. This event is a family friendly\, safe gathering with all makes and models of vehicles welcome. Come out between the hours of 9:00 and 11:00am on the first Saturday of every month to the Blue Grass Regional Marketplace located at 4561 Iron Works Pike\, Lexington\, KY
URL:https://kymotomag.com/event/first-saturday-cars-coffee/
LOCATION:Bluegrass Stockyards\, 4561 Iron Works Pike\, Lexington\, KY\, 40511\, United States
ATTACH;FMTTYPE=image/webp:https://kymotomag.com/wp-content/uploads/2024/01/BG-Cars-and-Coffee.webp
END:VEVENT
BEGIN:VEVENT
DTSTART;TZID=America/Kentucky/Louisville:20250607T090000
DTEND;TZID=America/Kentucky/Louisville:20250607T110000
DTSTAMP:20260423T092653
CREATED:20250507T014620Z
LAST-MODIFIED:20250507T014620Z
UID:2289-1749286800-1749294000@kymotomag.com
SUMMARY:Lexington Cars & Coffee
DESCRIPTION:
URL:https://kymotomag.com/event/lexington-cars-coffee-3/
LOCATION:Southland Church\, 2349 Richmond Road\, Lexington\, KY\, 40502\, United States
CATEGORIES:Cars & Coffee
ATTACH;FMTTYPE=image/gif:https://kymotomag.com/wp-content/uploads/2023/12/Cars_Coffee.gif
END:VEVENT
BEGIN:VEVENT
DTSTART;TZID=America/Kentucky/Louisville:20250720T080000
DTEND;TZID=America/Kentucky/Louisville:20250720T080000
DTSTAMP:20260423T092653
CREATED:20250503T185547Z
LAST-MODIFIED:20250504T195132Z
UID:2220-1752998400-1752998400@kymotomag.com
SUMMARY:Lone Wolf Cruisers - Shoney's Cruise-In
DESCRIPTION:
URL:https://kymotomag.com/event/lone-wolf-cruisers-shoneys-cruise-in-2/
LOCATION:Shoney’s – Henderson\, 2452 US-41\, Henderson\, United States
ATTACH;FMTTYPE=image/jpeg:https://kymotomag.com/wp-content/uploads/2025/05/Shoneys_Cruisein.jpg
END:VEVENT
BEGIN:VEVENT
DTSTART;TZID=America/Kentucky/Louisville:20250607T080000
DTEND;TZID=America/Kentucky/Louisville:20250607T110000
DTSTAMP:20260423T092653
CREATED:20250605T004138Z
LAST-MODIFIED:20250605T004427Z
UID:2700-1749283200-1749294000@kymotomag.com
SUMMARY:Cave City Cars & Coffee
DESCRIPTION:
URL:https://kymotomag.com/event/cave-city-cars-coffee/
LOCATION:Cave City\, KY\, United States
ATTACH;FMTTYPE=image/jpeg:https://kymotomag.com/wp-content/uploads/2025/06/cave-city.jpg
END:VEVENT
BEGIN:VEVENT
DTSTART;VALUE=DATE:20250607
DTEND;VALUE=DATE:20250608
DTSTAMP:20260423T092653
CREATED:20250503T180802Z
LAST-MODIFIED:20250503T180802Z
UID:2176-1749254400-1749340799@kymotomag.com
SUMMARY:5th Annual Scroungers Car Club Cruise-In
DESCRIPTION:Scroungers Car Club 5th annual cruise in. Come clout and help us celebrate Dry Ridge Auto Parts 45th anniversary and see some cool rides.Come the Green Goblin truck from the movie Maximum Overdrive along with Pat Miller that played Joe.We will also have the Dragula from the TV show The Munster.Food trucks and vendors Hot wheels racing for the kids.Lots of great door prizes to be handed out
URL:https://kymotomag.com/event/5th-annual-scroungers-car-club-cruise-in/
LOCATION:Piddle Park\, Dry Ridge\, United States
ATTACH;FMTTYPE=image/jpeg:https://kymotomag.com/wp-content/uploads/2025/05/06_07_2025_Scroungers.jpg
END:VEVENT
BEGIN:VEVENT
DTSTART;TZID=America/Kentucky/Louisville:20250606T170000
DTEND;TZID=America/Kentucky/Louisville:20250608T090000
DTSTAMP:20260423T092653
CREATED:20250524T152248Z
LAST-MODIFIED:20250524T152248Z
UID:2516-1749229200-1749373200@kymotomag.com
SUMMARY:THE BLUEGRASS 3 WHEEL KLASSIC
DESCRIPTION:2 day 3 wheel enthusiast event in Owensboro\, KY! All 3 Wheelers are welcome.Vendors\, prizes\, Armour Custom Works Slingshot Olympics and Sound Competition.
URL:https://kymotomag.com/event/the-bluegrass-3-wheel-klassic/
LOCATION:OWENSBORO\, KY
ATTACH;FMTTYPE=image/jpeg:https://kymotomag.com/wp-content/uploads/2025/05/3-wheel.jpg
END:VEVENT
BEGIN:VEVENT
DTSTART;TZID=America/Kentucky/Louisville:20250509T170000
DTEND;TZID=America/Kentucky/Louisville:20250509T203000
DTSTAMP:20260423T092653
CREATED:20250503T141312Z
LAST-MODIFIED:20250503T141438Z
UID:2091-1746810000-1746822600@kymotomag.com
SUMMARY:Southland Shopping Center Cruise Night
DESCRIPTION:Located in the Southland Shopping Center\, 396 and 398 Southland Drive\, Lexington\, KY 40503 (In front of GoodYear Tires and Critchfield Meats)….from 5:00 until Dark…and Hosted by Rodders\, Inc.\n\nGoodYear and Critchfield Both Ask the Cruisers to Park by the Southland Drive side of the Parking Lot as to Allow Customers to Park in Front of the Buildings.\n\nThis is an Informal Meet and Greet cruise. A Variety of Restaurants Close…Plenty of Parking. Come Out to See Old Friends and Make New Ones.
URL:https://kymotomag.com/event/southland-shopping-center-cruise-night/
LOCATION:Southland Shopping Center\, 396 Southland Drive\, Lexington\, United States
CATEGORIES:Cruise Night
ATTACH;FMTTYPE=image/jpeg:https://kymotomag.com/wp-content/uploads/2025/05/Cruise-Night.jpg
END:VEVENT
BEGIN:VEVENT
DTSTART;TZID=America/Kentucky/Louisville:20250509T170000
DTEND;TZID=America/Kentucky/Louisville:20250509T200000
DTSTAMP:20260423T092653
CREATED:20250503T142652Z
LAST-MODIFIED:20250507T013446Z
UID:2096-1746810000-1746820800@kymotomag.com
SUMMARY:Burgers Shakes Cruise Night
DESCRIPTION:
URL:https://kymotomag.com/event/burgers-shakes-cruise-night/
LOCATION:Burgers Shakes\, 219 East New Circle Road\, Lexington\, United States
CATEGORIES:Cruise Night
ATTACH;FMTTYPE=image/jpeg:https://kymotomag.com/wp-content/uploads/2025/05/2025_Burgers_Shakes_Cruise_Night.jpg
END:VEVENT
BEGIN:VEVENT
DTSTART;VALUE=DATE:20250606
DTEND;VALUE=DATE:20250609
DTSTAMP:20260423T092653
CREATED:20250503T185900Z
LAST-MODIFIED:20250531T014934Z
UID:2224-1749168000-1749427199@kymotomag.com
SUMMARY:River City Bike Expo
DESCRIPTION:
URL:https://kymotomag.com/event/river-city-bike-expo-2/
LOCATION:Owensboro Convention Center\, 501 West 2nd Street\, Owensboro\, KY\, 42301\, United States
CATEGORIES:Motorcycle
ATTACH;FMTTYPE=image/png:https://kymotomag.com/wp-content/uploads/2025/05/river-city.png
END:VEVENT
BEGIN:VEVENT
DTSTART;VALUE=DATE:20250606
DTEND;VALUE=DATE:20250608
DTSTAMP:20260423T092653
CREATED:20250531T012033Z
LAST-MODIFIED:20250531T012033Z
UID:2586-1749168000-1749340799@kymotomag.com
SUMMARY:The Great Appalachian Road Run
DESCRIPTION:Day 1 Schedule\n\n\nStart Point: Dragonslayer Welcome Center\, Harlan County\, Lynch\, KY\nTime: 10:00 AM\nKick off the event with Cars and Coffee at the Dragonslayer Welcome Center. Browse the swag\, explore the center\, and capture plenty of photos/videos to commemorate the start of the journey.\nFrom here\, we tackle the legendary Dragon Slayer Hwy 160—a route boasting over 225 curves that will test your skills and thrill your senses!\n\n\nCheckpoint 1: Bigfoot Statue at Flag Rock Recreation Area (Norton\, VA)\nAfter conquering the Dragon Slayer Hwy 160\, our next stop is Flag Rock Recreation Area.\nMeet the famous “Woodbooger” Bigfoot statue\, enjoy the stunning views\, and snap a proof pic!\nDrive “The Knob\,” following in the tracks of SCCA hill climb racers as we ascend and descend the course.\nLunch Break: Norton\, VA\nThe City of Norton\, Virginia\, offers a variety of dining options\, local businesses\, bars\, and services to recharge for the second leg of the day. Enjoy the hospitality of this charming Appalachian town!\n\n\nCheckpoint 2: Breaks Interstate Park\nRoute: After lunch\, gas up and take a short highway drive before diving back into scenic backroads through Pound\, Clintwood\, Clinchco\, and Haysi.\nArrive at Breaks Interstate Park\, a picturesque destination straddling Southwest Virginia and Southeast Kentucky.\nTake time to explore the park’s many photo ops\, resort amenities\, and natural beauty.\n\n\nCheckpoint 3: Pine Mountain US 119 “The Slingshot”\nJourney through the historic coal towns of Elkhorn and Jenkins\, KY\, before arriving at the Pine Mountain Grill and Gifts checkpoint at the base of US 119 in the City of Whitesburg\, Letcher County. Multiple Gas stations nearby. Fuel up if you need to and let’s hit the The Slingshot.\nThe Slingshot is a flagship route with technical curves\, smooth blacktop\, and exhilarating stretches that will challenge the connection between man and machine.\n\n\nCheckpoint 4: The General Store at Pine Mountain Crossing\nLocated at the opposite end of The Slingshot\, this charming store marks the next stop on our route. In this uniquely Appalachian store\, you’re sure to find things you’ve never seen before. If you’re hungry\, they make a mean sandwich—anything from Bologna (a KY classic) to burgers\, they’ve got you covered.\n\n\nOptional Adventure: Little Shepherd Trail to Kingdom Come State Park\nFor those who want more after The Slingshot\, head back to the trail entrance at the top of Pine Mountain and explore Little Shepherd Trail.\nThis one-lane road winds through dense woods and leads to Kingdom Come State Park in Cumberland\, KY.\nFinal Checkpoint: Kingdom Come State Park\nHighlights include stunning overlooks\, a serene lake\, hiking and biking trails\, paddleboats\, horseback riding\, mini-golf\, and fishing.\n\n\n*Special Activity: Bring your fishing poles! A prize will be awarded for the largest fish caught from the lake!*\n\n\n*Day 2*\nCheckpoint 1: Maco’s Mountain Resort / Julian Carroll Airport — Jackson\, KY\n\n\nWelcome to one of the wildest pit stops on the Appalachian Road Run! We’ve locked down a private mountain-top airstrip just for you—Julian Carroll Airport. This isn’t your average stretch of asphalt. With over a half mile of straightaway\, it’s made for full-throttle speed runs and arm-drop drag races. No traffic. No limits. Just you\, your machine\, and the wind screaming past at over 100 mph.\nAnd when the adrenaline settles? Maco’s Mountain Resort is right next door with luxury cabins tucked into the mountainside. It’s a perfect mix of grit and comfort—raw speed by day\, 5-star mountain relaxation by night. Eastern Kentucky doesn’t get much better than this. Bring your A-game\, bring your crew\, and most of all—bring your sense of adventure. After this\, it will be time for lunch! The neighboring towns of Jackson\, and Clay City offer a wide array of food and drink options. Pull out that phone find what you’re craving and head out!\n\n\nCheckpoint 2: Buckhorn Lake State Resort Park — Breathitt\, KY\n\n\nReady to trade horsepower for peace of mind—just for a bit? Buckhorn Lake State Resort Park is your escape checkpoint. The drive in alone is a scenic treat\, winding through quiet hills that seem to slow time down. This spot is tailor-made for nature lovers\, weekend warriors\, and anyone who needs to breathe a little deeper.\nTucked into the Appalachian hills\, the park offers lodge rooms\, cozy cottages\, a lakeside restaurant\, and miles of hiking trails. Sip coffee on your balcony overlooking the water\, or post up at the Lodge’s overlook for a sunrise that hits different.\nHistory buffs—don’t miss the handcrafted replicas of Bowlingtown\, the old mountain community now resting beneath the lake’s surface. And if you’re here in summer\, bring your swim gear: the sandy beach and pool are calling.\nLooking to move? Hike the trails\, shoot some hoops\, try your hand at mini golf or horseshoes—or grab a rod and reel for some top-notch mountain fishing. And when hunger kicks in\, the Bowlingtown Country Kitchen has you covered from biscuits at breakfast to comfort food dinners.\nThis checkpoint’s all about slowing down and soaking it up—Appalachian style.\n\n\nCheckpoint 3: The Eye of the Dragon\, Red river Gorge\, Nada Tunnel\n\n\nOn this 27 mile loop you will experience some of Appalachia’s most breathtaking scenery such as the Red River Gorge\, a canyon system located on the Red River and a true geological treasure.\nThe Nada Tunnel\, a 900-foot long tunnel built in 1910 for coal hauling\, is now paved and is a unique gateway to the Gorge. Part of the regions unique geological features is Kentuckys world Famous Natural bridge. Formed over millions of years\, this sandstone arch stretches more than 75 feet in length\, and is over 65 feet high. With so much to offer\, this route is truly a must see for anyone who loves nature and history.
URL:https://kymotomag.com/event/the-great-appalachian-road-run/
LOCATION:Lynch\, KY\, United States
ATTACH;FMTTYPE=image/png:https://kymotomag.com/wp-content/uploads/2025/05/appalachia.png
END:VEVENT
BEGIN:VEVENT
DTSTART;VALUE=DATE:20250606
DTEND;VALUE=DATE:20250608
DTSTAMP:20260423T092653
CREATED:20250508T204130Z
LAST-MODIFIED:20250508T204130Z
UID:2312-1749168000-1749340799@kymotomag.com
SUMMARY:Bourbon and Moonshine Cruise-In
DESCRIPTION:We will have a 2 day event beginning on June 6th 5pm-8pm and June 7th 12pm-8pm.\nCome see some nice rides! Car Guys for life will be hosting the Cruise-In\nThe following Distillery’s will be joining us:Wright Brothers1620 DistilleryPauley HollowDueling BarrelsBackwoods Moonshine\nYou can grab you a bit to eat from Bite Box Food Truck\, Soul Food\, or the Cheescake Lady while listening to live music and browsing craft vendors.
URL:https://kymotomag.com/event/bourbon-and-moonshine-cruise-in/
LOCATION:Prestonsburg\, KY\, Prestonsburg\, United States
CATEGORIES:Cruise-In
ATTACH;FMTTYPE=image/jpeg:https://kymotomag.com/wp-content/uploads/2025/05/06_Bourbon_Moonshine.jpg
END:VEVENT
BEGIN:VEVENT
DTSTART;VALUE=DATE:20250404
DTEND;VALUE=DATE:20250405
DTSTAMP:20260423T092653
CREATED:20241021T013720Z
LAST-MODIFIED:20250104T164637Z
UID:1862-1743724800-1743811199@kymotomag.com
SUMMARY:Liberty Friday Night Cruisers Car Show
DESCRIPTION:Liberty Friday Night Cruisers comes to downtown Liberty around the Courthouse Square every first Friday of April-October! Vendors and cars will be covering the streets from 6-9p EST.
URL:https://kymotomag.com/event/liberty-friday-night-cruisers-car-show/
LOCATION:Downtown Liberty\, 137 Courthouse Square\, Liberty\, 42539\, United States
ATTACH;FMTTYPE=image/png:https://kymotomag.com/wp-content/uploads/2024/10/Liberty-Friday-Night-Cruise.png
END:VEVENT
BEGIN:VEVENT
DTSTART;TZID=America/Kentucky/Louisville:20250605T180000
DTEND;TZID=America/Kentucky/Louisville:20250605T210000
DTSTAMP:20260423T092653
CREATED:20250531T014550Z
LAST-MODIFIED:20250531T014550Z
UID:2602-1749146400-1749157200@kymotomag.com
SUMMARY:River City Bike Expo
DESCRIPTION:Well\, We are kickin the weekend off early! Thursday June 5th 2025 on Veterans Blvd. Downtown Owensboro KY. 6pm-9pm\n\n\nVeterans Blvd will be CLOSED from Frederica St. to Allen St. Bike Parking & Displays!\n\n\nGoodwood will be the host restaurant! “Food & Beverage” Served There\, Patio Seating\, Bikes\, Slingshots & Trikes welcome!\n\n\nAll To Kick-Off River City Bike Expo / RIVER CITY BIKE EXPO By Pinup Baggers& The Bluegrass 3 wheel Klassic by Armour Customs!\n\n\nBluegrass Biker News /Motorsports/Music/Events Is Excited For A Big Weekend With These Events Along With Flat Track Races & The Nicky Hayden- The Kentucky Kid Foundation Ride On Sunday The 8th!
URL:https://kymotomag.com/event/river-city-bike-expo-3/
ATTACH;FMTTYPE=image/png:https://kymotomag.com/wp-content/uploads/2025/05/goodwood.png
END:VEVENT
BEGIN:VEVENT
DTSTART;TZID=America/Kentucky/Louisville:20250605T150000
DTEND;TZID=America/Kentucky/Louisville:20250605T180000
DTSTAMP:20260423T092653
CREATED:20250521T230959Z
LAST-MODIFIED:20250521T230959Z
UID:2469-1749135600-1749146400@kymotomag.com
SUMMARY:Vintage Car Cruise-In
DESCRIPTION:
URL:https://kymotomag.com/event/vintage-car-cruise-in/
LOCATION:Bowling Green\, KY\, United States
ATTACH;FMTTYPE=image/jpeg:https://kymotomag.com/wp-content/uploads/2025/05/Duncan.jpg
END:VEVENT
BEGIN:VEVENT
DTSTART;TZID=America/Kentucky/Louisville:20250601T160000
DTEND;TZID=America/Kentucky/Louisville:20250601T180000
DTSTAMP:20260423T092653
CREATED:20250531T231323Z
LAST-MODIFIED:20250531T231323Z
UID:2668-1748793600-1748800800@kymotomag.com
SUMMARY:KP Customs Customer Appreciation Car Show
DESCRIPTION:
URL:https://kymotomag.com/event/kp-customs-customer-appreciation-car-show/
LOCATION:Bowling Green\, KY\, United States
ATTACH;FMTTYPE=image/jpeg:https://kymotomag.com/wp-content/uploads/2025/05/kp-customs.jpg
END:VEVENT
BEGIN:VEVENT
DTSTART;TZID=America/Kentucky/Louisville:20250601T140000
DTEND;TZID=America/Kentucky/Louisville:20250601T180000
DTSTAMP:20260423T092653
CREATED:20250531T203234Z
LAST-MODIFIED:20250531T203234Z
UID:2621-1748786400-1748800800@kymotomag.com
SUMMARY:Jessamine 9U Gold Car Show
DESCRIPTION:
URL:https://kymotomag.com/event/jessamine-9u-gold-car-show/
LOCATION:Nicholasville\, KY\, Nicholasville\, United States
ATTACH;FMTTYPE=image/png:https://kymotomag.com/wp-content/uploads/2025/05/jessamine-9u.png
END:VEVENT
END:VCALENDAR