BEGIN:VCALENDAR
VERSION:2.0
PRODID:-//Kentucky Motorsports Magazine / KYMOTOMAG - ECPv6.15.20//NONSGML v1.0//EN
CALSCALE:GREGORIAN
METHOD:PUBLISH
X-WR-CALNAME:Kentucky Motorsports Magazine / KYMOTOMAG
X-ORIGINAL-URL:https://kymotomag.com
X-WR-CALDESC:Events for Kentucky Motorsports Magazine / KYMOTOMAG
REFRESH-INTERVAL;VALUE=DURATION:PT1H
X-Robots-Tag:noindex
X-PUBLISHED-TTL:PT1H
BEGIN:VTIMEZONE
TZID:America/Kentucky/Louisville
BEGIN:DAYLIGHT
TZOFFSETFROM:-0500
TZOFFSETTO:-0400
TZNAME:EDT
DTSTART:20240310T070000
END:DAYLIGHT
BEGIN:STANDARD
TZOFFSETFROM:-0400
TZOFFSETTO:-0500
TZNAME:EST
DTSTART:20241103T060000
END:STANDARD
BEGIN:DAYLIGHT
TZOFFSETFROM:-0500
TZOFFSETTO:-0400
TZNAME:EDT
DTSTART:20250309T070000
END:DAYLIGHT
BEGIN:STANDARD
TZOFFSETFROM:-0400
TZOFFSETTO:-0500
TZNAME:EST
DTSTART:20251102T060000
END:STANDARD
BEGIN:DAYLIGHT
TZOFFSETFROM:-0500
TZOFFSETTO:-0400
TZNAME:EDT
DTSTART:20260308T070000
END:DAYLIGHT
BEGIN:STANDARD
TZOFFSETFROM:-0400
TZOFFSETTO:-0500
TZNAME:EST
DTSTART:20261101T060000
END:STANDARD
END:VTIMEZONE
BEGIN:VEVENT
DTSTART;TZID=America/Kentucky/Louisville:20250627T190000
DTEND;TZID=America/Kentucky/Louisville:20250627T230000
DTSTAMP:20260423T041640
CREATED:20250626T221223Z
LAST-MODIFIED:20250626T221223Z
UID:3332-1751050800-1751065200@kymotomag.com
SUMMARY:Kismet Motorsports Time Trial Mud Racing
DESCRIPTION:TIME TRIAL MUD RACING! \n\n\n THIS FRIDAY JUNE 27\, 2025 – CLARK COUNTY FAIR  \n\n\nBring the family and come on out for a Mud Sling’N good time.\n\n\n Registration starts at 4:30pm\n RACING starts at 7:00pm
URL:https://kymotomag.com/event/kismet-motorsports-time-trial-mud-racing/
LOCATION:Clark County Fairgrounds\, 4980 Ironworks Rd\, Winchester\, 40391\, United States
ATTACH;FMTTYPE=image/jpeg:https://kymotomag.com/wp-content/uploads/2025/06/Clark-co.jpg
END:VEVENT
BEGIN:VEVENT
DTSTART;TZID=America/Kentucky/Louisville:20250627T170000
DTEND;TZID=America/Kentucky/Louisville:20250627T210000
DTSTAMP:20260423T041640
CREATED:20250619T225531Z
LAST-MODIFIED:20250619T225531Z
UID:3180-1751043600-1751058000@kymotomag.com
SUMMARY:Maserati Mingle
DESCRIPTION:Enjoy an evening of hand-picked\, rare\, and exotic vehicles on display.General Admission is FREE and open to the public.Food and Drinks available from local businesses located at The Summit.Proceeds benefitUK Healthcare Kentucky Children’s Hospital.
URL:https://kymotomag.com/event/maserati-mingle/
LOCATION:The Summit at Fritz Farm\, Lexington\, United States
ATTACH;FMTTYPE=image/jpeg:https://kymotomag.com/wp-content/uploads/2025/06/maserati-mingle.jpg
END:VEVENT
BEGIN:VEVENT
DTSTART;TZID=America/Kentucky/Louisville:20250613T170000
DTEND;TZID=America/Kentucky/Louisville:20250613T210000
DTSTAMP:20260423T041640
CREATED:20250602T114423Z
LAST-MODIFIED:20250602T114424Z
UID:2694-1749834000-1749848400@kymotomag.com
SUMMARY:Hardee's Cruise Night
DESCRIPTION:
URL:https://kymotomag.com/event/hardees-cruise-night-2/
LOCATION:Hardee’s – Nicholasville\, 903 S Main Street\, Nicholasville\, 40356\, United States
CATEGORIES:Cruise Night
ATTACH;FMTTYPE=image/jpeg:https://kymotomag.com/wp-content/uploads/2025/05/Hardees_Cruise_Night.jpg
END:VEVENT
BEGIN:VEVENT
DTSTART;TZID=America/Kentucky/Louisville:20250509T170000
DTEND;TZID=America/Kentucky/Louisville:20250509T203000
DTSTAMP:20260423T041640
CREATED:20250503T141312Z
LAST-MODIFIED:20250503T141438Z
UID:2091-1746810000-1746822600@kymotomag.com
SUMMARY:Southland Shopping Center Cruise Night
DESCRIPTION:Located in the Southland Shopping Center\, 396 and 398 Southland Drive\, Lexington\, KY 40503 (In front of GoodYear Tires and Critchfield Meats)….from 5:00 until Dark…and Hosted by Rodders\, Inc.\n\nGoodYear and Critchfield Both Ask the Cruisers to Park by the Southland Drive side of the Parking Lot as to Allow Customers to Park in Front of the Buildings.\n\nThis is an Informal Meet and Greet cruise. A Variety of Restaurants Close…Plenty of Parking. Come Out to See Old Friends and Make New Ones.
URL:https://kymotomag.com/event/southland-shopping-center-cruise-night/
LOCATION:Southland Shopping Center\, 396 Southland Drive\, Lexington\, United States
CATEGORIES:Cruise Night
ATTACH;FMTTYPE=image/jpeg:https://kymotomag.com/wp-content/uploads/2025/05/Cruise-Night.jpg
END:VEVENT
BEGIN:VEVENT
DTSTART;TZID=America/Kentucky/Louisville:20250627T170000
DTEND;TZID=America/Kentucky/Louisville:20250627T200000
DTSTAMP:20260423T041640
CREATED:20250611T002117Z
LAST-MODIFIED:20250611T002118Z
UID:2934-1751043600-1751054400@kymotomag.com
SUMMARY:Burgers Shakes Cruise Night
DESCRIPTION:
URL:https://kymotomag.com/event/burgers-shakes-cruise-night-2/
LOCATION:Burgers Shakes\, 219 East New Circle Road\, Lexington\, United States
CATEGORIES:Cruise Night
ATTACH;FMTTYPE=image/jpeg:https://kymotomag.com/wp-content/uploads/2025/05/2025_Burgers_Shakes_Cruise_Night.jpg
END:VEVENT
BEGIN:VEVENT
DTSTART;VALUE=DATE:20250627
DTEND;VALUE=DATE:20250630
DTSTAMP:20260423T041640
CREATED:20250617T021108Z
LAST-MODIFIED:20250617T021108Z
UID:3105-1750982400-1751241599@kymotomag.com
SUMMARY:#TenGatBG Big Bucks Racing
DESCRIPTION:
URL:https://kymotomag.com/event/tengatbg-big-bucks-racing/
LOCATION:Beech Bend Raceway Park\, 798 Beech Bend Road\, Richardsville\, KY\, 42101\, United States
ATTACH;FMTTYPE=image/jpeg:https://kymotomag.com/wp-content/uploads/2025/06/TenG@BG.jpg
END:VEVENT
BEGIN:VEVENT
DTSTART;VALUE=DATE:20250627
DTEND;VALUE=DATE:20250629
DTSTAMP:20260423T041640
CREATED:20250624T015709Z
LAST-MODIFIED:20250624T015709Z
UID:3257-1750982400-1751155199@kymotomag.com
SUMMARY:Somernites Cruise with "Mopar Mania" & the epic & Historic "General Lee Jump"!!
DESCRIPTION:It’s finally here!!!! The epic “General Lee Jump” of Fountain Square presented by the Don Franklin Somerset Family of Dealerships plus our “Mopar Maina” showcase presented by Don Franklin Chrysler Dodge Jeep Ram Fiat and a special AMC Display!! WOW!!! This month’s show is loaded!!!!\nIn addition\, we are excited to announce that we will have special guests John Schneider “Bo Duke” and Byron Cherry “Coy Duke” along with a great display of “Dukes of Hazzard” vehicles!!! Fans will be able to get a picture and/or autograph with John and Byron (there will be a small fee so come prepared).\nThe epic jump of the General Lee over the Fountain Square performed by the Northeast Ohio Dukes and Raymond Kohn will be at approximately 7pm!! Thank you to our presenting sponsor the Don Franklin Somerset Family of Dealerships and our associate sponsors Coca-Cola of Somerset\, G&L Refrigeration\, Citizens National Bank along with Pulaski Co Government\, the City of Somerset\, Somerset Tourist & Convention Commission and the Somerset-Pulaski Co Convention & Visitors Bureau!!!\nAs always\, ALL classic/collectible vehicles are welcome each and every month!!\nCome join us for a great weekend of classic/collector cars\, trucks and hot rods!!\nOur Official Host Hotel for the June 27-28 Cruise Weekend is the Courtyard Marriott of Somerset at 606-679-0090.\nFor a complete schedule of our June 28th event\, or future shows\, go to www.somernitescruise.com. We hope to see you there!
URL:https://kymotomag.com/event/somernites-cruise-with-mopar-mania-the-epic-historic-general-lee-jump/
LOCATION:Somerset\, KY
ATTACH;FMTTYPE=image/jpeg:https://kymotomag.com/wp-content/uploads/2025/06/Somernites.jpg
END:VEVENT
BEGIN:VEVENT
DTSTART;VALUE=DATE:20250613
DTEND;VALUE=DATE:20250614
DTSTAMP:20260423T041640
CREATED:20250611T190533Z
LAST-MODIFIED:20250611T190829Z
UID:2977-1749772800-1749859199@kymotomag.com
SUMMARY:Friday Bike Night at Vintage 99 Motorcycle Museum
DESCRIPTION:Join us for the first Bike Night of the 2025 season at Vintage 99 in proud partnership with Bluegrass Harley-Davidson. Whether you ride a vintage beauty or a modern legend\, this evening is all about celebrating the spirit of the open road.\nEnjoy an evening of cold drinks\, live music\, cornhole\, and camaraderie among fellow motorcycle enthusiasts. It’s the perfect time to reunite with your riding community\, show off your bikes\, and kick off the season in style.\nDrink specials will be flowing all night\, and the atmosphere will be fueled by throttle\, friendship\, and unmistakable Harley-Davidson pride.\nAll makes and models welcome.\nDoors open at 6pm!\n\n10205r Taylorsville Rd.\, Jeffersontown\, KY 40299
URL:https://kymotomag.com/event/friday-bike-night-at-vintage-99-motorcycle-museum/
LOCATION:Jeffersontown\, KY\, United States
CATEGORIES:Cruise Night,Motorcycle
ATTACH;FMTTYPE=image/jpeg:https://kymotomag.com/wp-content/uploads/2025/06/Vintage_99.jpg
END:VEVENT
BEGIN:VEVENT
DTSTART;TZID=America/Kentucky/Louisville:20250522T180000
DTEND;TZID=America/Kentucky/Louisville:20250522T200000
DTSTAMP:20260423T041640
CREATED:20250522T000614Z
LAST-MODIFIED:20250618T024516Z
UID:2499-1747936800-1747944000@kymotomag.com
SUMMARY:Gears & Beers Cruise-In
DESCRIPTION:Start your engines\, Harlan — it’s Cruise-In season!The Gears & Beers Cruise-In will return on Thursday\, May 22nd from 6PM–8PM on 1st Street in front of the courthouse! \nFrom classic cars to hot rods\, rat rods to imports — if it’s got wheels\, it’s welcome!  FREE Entry Cash Door Prizes Food & drinks at Harlan County Beer Company Live music\, corn hole\, fun atmosphere\, and plenty of photo ops Remember: for every Gears & Beers Cruise-In you attend\, you’ll be entered to win $1\,000 at the final event in October. The more you cruise\, the better your chances to cash in!  Happens every 4th Thursday — don’t miss this ride through downtown!
URL:https://kymotomag.com/event/gears-beers-cruise-in/
LOCATION:Harlan\, KY\, United States
ATTACH;FMTTYPE=image/png:https://kymotomag.com/wp-content/uploads/2025/05/Geers-and-Beers.png
END:VEVENT
BEGIN:VEVENT
DTSTART;TZID=America/Kentucky/Louisville:20250625T170000
DTEND;TZID=America/Kentucky/Louisville:20250625T200000
DTSTAMP:20260423T041640
CREATED:20250625T231210Z
LAST-MODIFIED:20250625T231346Z
UID:3297-1750870800-1750881600@kymotomag.com
SUMMARY:El Toro Weekly Cruise In
DESCRIPTION:
URL:https://kymotomag.com/event/el-toro-weekly-cruise-in/
LOCATION:Walton\, KY\, United States
ATTACH;FMTTYPE=image/jpeg:https://kymotomag.com/wp-content/uploads/2025/06/El-Toro.jpg
END:VEVENT
BEGIN:VEVENT
DTSTART;TZID=America/Kentucky/Louisville:20250624T173000
DTEND;TZID=America/Kentucky/Louisville:20250624T203000
DTSTAMP:20260423T041640
CREATED:20250601T145810Z
LAST-MODIFIED:20250601T145810Z
UID:2685-1750786200-1750797000@kymotomag.com
SUMMARY:CRUISIN AT THE ALLEY
DESCRIPTION:
URL:https://kymotomag.com/event/cruisin-at-the-alley/
LOCATION:Richmond\, KY
ATTACH;FMTTYPE=image/jpeg:https://kymotomag.com/wp-content/uploads/2025/06/alley.jpg
END:VEVENT
BEGIN:VEVENT
DTSTART;VALUE=DATE:20250624
DTEND;VALUE=DATE:20250627
DTSTAMP:20260423T041640
CREATED:20241021T004325Z
LAST-MODIFIED:20241021T004608Z
UID:1837-1750723200-1750982399@kymotomag.com
SUMMARY:The Great Race
DESCRIPTION:The Great Race will be traveling through the state of Kentucky and stopping at Owensboro\, Elizabethtown\, Frankfort and Ashland between June 24 – June 26.  See event website for additional details.
URL:https://kymotomag.com/event/the-great-race-2/
LOCATION:See website for location details
ATTACH;FMTTYPE=image/png:https://kymotomag.com/wp-content/uploads/2024/10/GR-2025-LOGO.png
END:VEVENT
BEGIN:VEVENT
DTSTART;TZID=America/Kentucky/Louisville:20250622T150000
DTEND;TZID=America/Kentucky/Louisville:20250622T170000
DTSTAMP:20260423T041640
CREATED:20250607T012253Z
LAST-MODIFIED:20250607T012253Z
UID:2827-1750604400-1750611600@kymotomag.com
SUMMARY:Sanders Ridge Classic Car Show
DESCRIPTION:
URL:https://kymotomag.com/event/sanders-ridge-classic-car-show/
LOCATION:Mount Washington\, United States
ATTACH;FMTTYPE=image/jpeg:https://kymotomag.com/wp-content/uploads/2025/06/classic-1.jpg
END:VEVENT
BEGIN:VEVENT
DTSTART;TZID=America/Kentucky/Louisville:20250525T120000
DTEND;TZID=America/Kentucky/Louisville:20250525T180000
DTSTAMP:20260423T041640
CREATED:20250503T174429Z
LAST-MODIFIED:20250503T174429Z
UID:2160-1748174400-1748196000@kymotomag.com
SUMMARY:Whiskey City Cruisers
DESCRIPTION:Located at THE NEW LOCATION…Buzick’s Lumber and Home Center\, 1330 John Rowan Blvd\, Bardstown\, KY\,40004 from 12-6.\n\nThis is the Whiskey City Cruisers…33rd Year of Cruising !!!……. Every 4th Sunday April through October\n\nFree and Open to ALL Makes and Models of Cars and Trucks…. Bring’em Out !!!….Rain Cancels the Event…Check your Radar.\n\nFor more Information\, please Find them on FaceBook at Whiskey City Cruisers.
URL:https://kymotomag.com/event/whiskey-city-cruisers/
LOCATION:Buzick’s Lumber\, 1330 John Rowan Blvd\, Bardstown\, 40004\, United States
END:VEVENT
BEGIN:VEVENT
DTSTART;TZID=America/Kentucky/Louisville:20250510T180000
DTEND;TZID=America/Kentucky/Louisville:20250510T200000
DTSTAMP:20260423T041640
CREATED:20250503T144048Z
LAST-MODIFIED:20250503T144149Z
UID:2109-1746900000-1746907200@kymotomag.com
SUMMARY:Wheels and Reels Cruise Night
DESCRIPTION:Located at the Movie Tavern\, 150 Langley Drive..(Brannon Crossing)\, Nicholasville\, KY\, 40356 from 6-8 PM and Hosted by Kickin’ Grass Landscapes.\n\nThis is the All New \, Night Car Show….Now meeting on the 2nd Saturday of Month… April through October.\nThis is a People’s Choice Awards.\nThis is also a Free Event with Give-a-ways each Month …and…. Food and Bar inside the Movie Tavern.
URL:https://kymotomag.com/event/wheels-and-reels-cruise-night/
LOCATION:Movie Tavern\, 150 Langley Drive\, Nicholasville\, 40356\, United States
CATEGORIES:Cruise Night
ATTACH;FMTTYPE=image/jpeg:https://kymotomag.com/wp-content/uploads/2025/05/Wheels_Reels_Cruise.jpg
END:VEVENT
BEGIN:VEVENT
DTSTART;TZID=America/Kentucky/Louisville:20250510T170000
DTEND;TZID=America/Kentucky/Louisville:20250510T200000
DTSTAMP:20260423T041641
CREATED:20250503T143059Z
LAST-MODIFIED:20250503T143059Z
UID:2101-1746896400-1746907200@kymotomag.com
SUMMARY:Old Bridge General Store Cruise Night
DESCRIPTION:
URL:https://kymotomag.com/event/old-bridge-general-store-cruise-night/
LOCATION:Old Bridge General Store\, 101 Dory Drive\, Salvisa\, United States
CATEGORIES:Cruise Night
ATTACH;FMTTYPE=image/jpeg:https://kymotomag.com/wp-content/uploads/2025/05/Cruise-Night.jpg
END:VEVENT
BEGIN:VEVENT
DTSTART;TZID=America/Kentucky/Louisville:20250517T160000
DTEND;TZID=America/Kentucky/Louisville:20250517T200000
DTSTAMP:20260423T041641
CREATED:20250517T003431Z
LAST-MODIFIED:20250517T011432Z
UID:2438-1747497600-1747512000@kymotomag.com
SUMMARY:Bud's Tavern Open Car Cruise
DESCRIPTION:
URL:https://kymotomag.com/event/buds-tavern-open-car-cruise/
LOCATION:Jeffersontown\, KY\, United States
ATTACH;FMTTYPE=image/jpeg:https://kymotomag.com/wp-content/uploads/2025/05/buds.jpeg
END:VEVENT
BEGIN:VEVENT
DTSTART;TZID=America/Kentucky/Louisville:20250621T150000
DTEND;TZID=America/Kentucky/Louisville:20250621T190000
DTSTAMP:20260423T041641
CREATED:20250619T220010Z
LAST-MODIFIED:20250619T220030Z
UID:3163-1750518000-1750532400@kymotomag.com
SUMMARY:Cruisin' the Crater
DESCRIPTION:
URL:https://kymotomag.com/event/cruisin-the-crater/
LOCATION:City of Middlesboro\, United States
ATTACH;FMTTYPE=image/png:https://kymotomag.com/wp-content/uploads/2025/06/Crater.png
END:VEVENT
BEGIN:VEVENT
DTSTART;TZID=America/Kentucky/Louisville:20250621T130000
DTEND;TZID=America/Kentucky/Louisville:20250621T170000
DTSTAMP:20260423T041641
CREATED:20250619T232935Z
LAST-MODIFIED:20250619T232935Z
UID:3184-1750510800-1750525200@kymotomag.com
SUMMARY:The Springs Cruise In
DESCRIPTION:
URL:https://kymotomag.com/event/the-springs-cruise-in/
LOCATION:Russell Springs\, KY\, United States
ATTACH;FMTTYPE=image/png:https://kymotomag.com/wp-content/uploads/2025/06/Springs.png
END:VEVENT
BEGIN:VEVENT
DTSTART;TZID=America/Kentucky/Louisville:20250621T130000
DTEND;TZID=America/Kentucky/Louisville:20250621T170000
DTSTAMP:20260423T041641
CREATED:20250619T214510Z
LAST-MODIFIED:20250619T214510Z
UID:3156-1750510800-1750525200@kymotomag.com
SUMMARY:LCC Cheer Team Auto Show
DESCRIPTION:
URL:https://kymotomag.com/event/lcc-cheer-team-auto-show/
LOCATION:Letcher County Central High School\, 515 Cougar Dr\, Whitesburg\, 41858\, United States
ATTACH;FMTTYPE=image/png:https://kymotomag.com/wp-content/uploads/2025/06/LCC.png
END:VEVENT
BEGIN:VEVENT
DTSTART;TZID=America/Kentucky/Louisville:20250621T130000
DTEND;TZID=America/Kentucky/Louisville:20250621T170000
DTSTAMP:20260423T041641
CREATED:20250619T213341Z
LAST-MODIFIED:20250619T213341Z
UID:3148-1750510800-1750525200@kymotomag.com
SUMMARY:NAMI Butler County's 2nd Annual Car Show
DESCRIPTION:
URL:https://kymotomag.com/event/nami-butler-countys-2nd-annual-car-show/
LOCATION:Firehouse Pizza\, 116 E Ohio Street\, Morgantown\, United States
ATTACH;FMTTYPE=image/png:https://kymotomag.com/wp-content/uploads/2025/06/Butler.png
END:VEVENT
BEGIN:VEVENT
DTSTART;TZID=America/Kentucky/Louisville:20250621T130000
DTEND;TZID=America/Kentucky/Louisville:20250621T170000
DTSTAMP:20260423T041641
CREATED:20250601T143500Z
LAST-MODIFIED:20250601T143500Z
UID:2677-1750510800-1750525200@kymotomag.com
SUMMARY:SIMPSONVILLE BAPTIST CHURCH CAR CRUISE
DESCRIPTION:
URL:https://kymotomag.com/event/simpsonville-baptist-church-car-cruise/
LOCATION:Simpsonville\, KY\, United States
ATTACH;FMTTYPE=image/png:https://kymotomag.com/wp-content/uploads/2025/06/SIMPSONVILLE.png
END:VEVENT
BEGIN:VEVENT
DTSTART;TZID=America/Kentucky/Louisville:20250621T110000
DTEND;TZID=America/Kentucky/Louisville:20250621T150000
DTSTAMP:20260423T041641
CREATED:20250617T011443Z
LAST-MODIFIED:20250617T011443Z
UID:3065-1750503600-1750518000@kymotomag.com
SUMMARY:Central KY Jeep Auto Show
DESCRIPTION:Nicholasville CDJR — the newest addition to the MAP Automotive Group family — is hosting the KY Jeep Auto Show this Saturday\, June 21st from 11 AM to 3 PM!\n\n\nWhether you own a Jeep Wrangler or Gladiator and want to compete\, or just want to enjoy food trucks\, live music\, raffles\, and great community vibes — this free event is open to everyone!\n\n\nEven better? All donations will be matched by Nicholasville CDJR and given to the Jessamine County Humane Society \n\n\n 101 Elizabeth Street\, Nicholasville\, KY
URL:https://kymotomag.com/event/central-ky-jeep-auto-show/
LOCATION:Nicholasville\, KY\, Nicholasville\, United States
ATTACH;FMTTYPE=image/jpeg:https://kymotomag.com/wp-content/uploads/2025/06/Nich_Jeep.jpg
END:VEVENT
BEGIN:VEVENT
DTSTART;TZID=America/Kentucky/Louisville:20250621T100000
DTEND;TZID=America/Kentucky/Louisville:20250621T170000
DTSTAMP:20260423T041641
CREATED:20250601T142717Z
LAST-MODIFIED:20250601T142717Z
UID:2674-1750500000-1750525200@kymotomag.com
SUMMARY:THOSE DUDES PICNIC
DESCRIPTION:FREEEEE ENTRY!!!\n\n\nThis car show will be at\n\n\nCOX park on rivier rd!\nLouisville ky\n\n\nJune 21st\n\n\n10am-6pm\n\n\nFood trucks\n\n\nBounce houses and juggle gyms for the kids\n\n\nLive dj\n\n\nHydraulic competition\n\n\nFood trucks and venders for All!!\n\n\nHot rods\, street rods\, corvettes\, jeeps\, bikes\, everything is welcome!!
URL:https://kymotomag.com/event/those-dudes-picnic/
LOCATION:Louisville\, KY\, United States
ATTACH;FMTTYPE=image/jpeg:https://kymotomag.com/wp-content/uploads/2025/06/hop.jpg
END:VEVENT
BEGIN:VEVENT
DTSTART;TZID=America/Kentucky/Louisville:20250621T100000
DTEND;TZID=America/Kentucky/Louisville:20250621T150000
DTSTAMP:20260423T041641
CREATED:20250617T012145Z
LAST-MODIFIED:20250617T012145Z
UID:3075-1750500000-1750518000@kymotomag.com
SUMMARY:Rough Cut Jeep Club Show & Shine
DESCRIPTION:
URL:https://kymotomag.com/event/rough-cut-jeep-club-show-shine/
LOCATION:Louisville\, KY\, United States
ATTACH;FMTTYPE=image/jpeg:https://kymotomag.com/wp-content/uploads/2025/06/Show_Shine.jpg
END:VEVENT
BEGIN:VEVENT
DTSTART;TZID=America/Kentucky/Louisville:20250621T100000
DTEND;TZID=America/Kentucky/Louisville:20250621T140000
DTSTAMP:20260423T041641
CREATED:20250619T212334Z
LAST-MODIFIED:20250619T212513Z
UID:3144-1750500000-1750514400@kymotomag.com
SUMMARY:Cumberland River Cruise-In
DESCRIPTION:
URL:https://kymotomag.com/event/cumberland-river-cruise-in/
LOCATION:Williamsburg\, KY\, United States
ATTACH;FMTTYPE=image/png:https://kymotomag.com/wp-content/uploads/2025/06/Cumberland.png
END:VEVENT
BEGIN:VEVENT
DTSTART;TZID=America/Kentucky/Louisville:20250621T100000
DTEND;TZID=America/Kentucky/Louisville:20250621T140000
DTSTAMP:20260423T041641
CREATED:20250610T023153Z
LAST-MODIFIED:20250610T023153Z
UID:2895-1750500000-1750514400@kymotomag.com
SUMMARY:Nicholasville Police Car Show
DESCRIPTION:Our (newly) annual Car Show will be June 21st at West Jessamine High School. \nAs we prepare for this event\, we would like to include food vendors as well as vendors in the automotive industry. \nIf interested in participating\, please contact Officer Billy King here at our offices or at billy.king@nicholasville.org.
URL:https://kymotomag.com/event/nicholasville-police-car-show/
LOCATION:Nicholasville\, KY\, Nicholasville\, United States
ATTACH;FMTTYPE=image/jpeg:https://kymotomag.com/wp-content/uploads/2025/06/Nicholasville_Police-1.jpg
END:VEVENT
BEGIN:VEVENT
DTSTART;TZID=America/Kentucky/Louisville:20250621T093000
DTEND;TZID=America/Kentucky/Louisville:20250621T140000
DTSTAMP:20260423T041641
CREATED:20250615T030039Z
LAST-MODIFIED:20250615T030039Z
UID:3060-1750498200-1750514400@kymotomag.com
SUMMARY:Rolling Thunder KY5 2nd Annual Wreath Run
DESCRIPTION:
URL:https://kymotomag.com/event/rolling-thunder-ky5-2nd-annual-wreath-run/
LOCATION:Man O War Harley Davidson\, 2073 Bryant Rd\, Lexington\, 40509\, United States
ATTACH;FMTTYPE=image/jpeg:https://kymotomag.com/wp-content/uploads/2025/06/wreaths.jpg
END:VEVENT
BEGIN:VEVENT
DTSTART;TZID=America/Kentucky/Louisville:20250621T090000
DTEND;TZID=America/Kentucky/Louisville:20250621T150000
DTSTAMP:20260423T041641
CREATED:20250531T013126Z
LAST-MODIFIED:20250531T013126Z
UID:2594-1750496400-1750518000@kymotomag.com
SUMMARY:In The Heart Car Show
DESCRIPTION:
URL:https://kymotomag.com/event/in-the-heart-car-show/
LOCATION:Munfordville\, KY\, United States
ATTACH;FMTTYPE=image/png:https://kymotomag.com/wp-content/uploads/2025/05/hart.png
END:VEVENT
BEGIN:VEVENT
DTSTART;TZID=America/Kentucky/Louisville:20250621T090000
DTEND;TZID=America/Kentucky/Louisville:20250621T140000
DTSTAMP:20260423T041641
CREATED:20250618T021318Z
LAST-MODIFIED:20250618T021318Z
UID:3122-1750496400-1750514400@kymotomag.com
SUMMARY:Franklin Community Church Car & Motorcycle Show
DESCRIPTION:
URL:https://kymotomag.com/event/franklin-community-church-car-motorcycle-show/
LOCATION:Franklin Community Church\, 822 Blackjack Rd\, Franklin\, United States
ATTACH;FMTTYPE=image/jpeg:https://kymotomag.com/wp-content/uploads/2025/06/Franklin.jpg
END:VEVENT
END:VCALENDAR