BEGIN:VCALENDAR
VERSION:2.0
PRODID:-//Kentucky Motorsports Magazine / KYMOTOMAG - ECPv6.15.20//NONSGML v1.0//EN
CALSCALE:GREGORIAN
METHOD:PUBLISH
X-WR-CALNAME:Kentucky Motorsports Magazine / KYMOTOMAG
X-ORIGINAL-URL:https://kymotomag.com
X-WR-CALDESC:Events for Kentucky Motorsports Magazine / KYMOTOMAG
REFRESH-INTERVAL;VALUE=DURATION:PT1H
X-Robots-Tag:noindex
X-PUBLISHED-TTL:PT1H
BEGIN:VTIMEZONE
TZID:America/Kentucky/Louisville
BEGIN:DAYLIGHT
TZOFFSETFROM:-0500
TZOFFSETTO:-0400
TZNAME:EDT
DTSTART:20240310T070000
END:DAYLIGHT
BEGIN:STANDARD
TZOFFSETFROM:-0400
TZOFFSETTO:-0500
TZNAME:EST
DTSTART:20241103T060000
END:STANDARD
BEGIN:DAYLIGHT
TZOFFSETFROM:-0500
TZOFFSETTO:-0400
TZNAME:EDT
DTSTART:20250309T070000
END:DAYLIGHT
BEGIN:STANDARD
TZOFFSETFROM:-0400
TZOFFSETTO:-0500
TZNAME:EST
DTSTART:20251102T060000
END:STANDARD
BEGIN:DAYLIGHT
TZOFFSETFROM:-0500
TZOFFSETTO:-0400
TZNAME:EDT
DTSTART:20260308T070000
END:DAYLIGHT
BEGIN:STANDARD
TZOFFSETFROM:-0400
TZOFFSETTO:-0500
TZNAME:EST
DTSTART:20261101T060000
END:STANDARD
END:VTIMEZONE
BEGIN:VEVENT
DTSTART;TZID=America/Kentucky/Louisville:20250720T120000
DTEND;TZID=America/Kentucky/Louisville:20250720T180000
DTSTAMP:20260422T230627
CREATED:20250712T011716Z
LAST-MODIFIED:20250712T011716Z
UID:3474-1753012800-1753034400@kymotomag.com
SUMMARY:OVERDALE 1ST ANNUAL CAR SHOW FUNDRAISER
DESCRIPTION:
URL:https://kymotomag.com/event/overdale-1st-annual-car-show-fundraiser/
LOCATION:Sheperdsville\, KY\, United States
ATTACH;FMTTYPE=image/png:https://kymotomag.com/wp-content/uploads/2025/07/overdale.png
END:VEVENT
BEGIN:VEVENT
DTSTART;TZID=America/Kentucky/Louisville:20250719T180000
DTEND;TZID=America/Kentucky/Louisville:20250719T210000
DTSTAMP:20260422T230627
CREATED:20250716T000749Z
LAST-MODIFIED:20250716T000749Z
UID:3496-1752948000-1752958800@kymotomag.com
SUMMARY:Paintsville KY Cruise'n
DESCRIPTION:Location: \nCitizens National Bank \n620 Broadway \nPaintsville\, KY 41240 \nEvent ends at dark
URL:https://kymotomag.com/event/paintsville-ky-cruisen/
LOCATION:Paintsville\, KY\, Paintsville\, United States
ATTACH;FMTTYPE=image/jpeg:https://kymotomag.com/wp-content/uploads/2025/07/Gearheads.jpg
END:VEVENT
BEGIN:VEVENT
DTSTART;TZID=America/Kentucky/Louisville:20250510T180000
DTEND;TZID=America/Kentucky/Louisville:20250510T200000
DTSTAMP:20260422T230627
CREATED:20250503T144048Z
LAST-MODIFIED:20250503T144149Z
UID:2109-1746900000-1746907200@kymotomag.com
SUMMARY:Wheels and Reels Cruise Night
DESCRIPTION:Located at the Movie Tavern\, 150 Langley Drive..(Brannon Crossing)\, Nicholasville\, KY\, 40356 from 6-8 PM and Hosted by Kickin’ Grass Landscapes.\n\nThis is the All New \, Night Car Show….Now meeting on the 2nd Saturday of Month… April through October.\nThis is a People’s Choice Awards.\nThis is also a Free Event with Give-a-ways each Month …and…. Food and Bar inside the Movie Tavern.
URL:https://kymotomag.com/event/wheels-and-reels-cruise-night/
LOCATION:Movie Tavern\, 150 Langley Drive\, Nicholasville\, 40356\, United States
CATEGORIES:Cruise Night
ATTACH;FMTTYPE=image/jpeg:https://kymotomag.com/wp-content/uploads/2025/05/Wheels_Reels_Cruise.jpg
END:VEVENT
BEGIN:VEVENT
DTSTART;TZID=America/Kentucky/Louisville:20250719T170000
DTEND;TZID=America/Kentucky/Louisville:20250719T210000
DTSTAMP:20260422T230627
CREATED:20250630T010605Z
LAST-MODIFIED:20250630T010605Z
UID:3378-1752944400-1752958800@kymotomag.com
SUMMARY:Cruising The Square
DESCRIPTION:Food Vendors confirmed so far for the cruise are=\nWicked Wieners \nHouse of Rich\nSerenity’s BBQ\nPJ’s Swirl & Twirll\nHooligan Burger\nEl Taco Gallo is now confirmed too !!!!!\nLet’s goooooooooo!!!!!!
URL:https://kymotomag.com/event/cruising-the-square/
LOCATION:Greensburg\, KY\, United States
ATTACH;FMTTYPE=image/jpeg:https://kymotomag.com/wp-content/uploads/2025/06/the-square.jpg
END:VEVENT
BEGIN:VEVENT
DTSTART;TZID=America/Kentucky/Louisville:20250510T170000
DTEND;TZID=America/Kentucky/Louisville:20250510T200000
DTSTAMP:20260422T230627
CREATED:20250503T143059Z
LAST-MODIFIED:20250503T143059Z
UID:2101-1746896400-1746907200@kymotomag.com
SUMMARY:Old Bridge General Store Cruise Night
DESCRIPTION:
URL:https://kymotomag.com/event/old-bridge-general-store-cruise-night/
LOCATION:Old Bridge General Store\, 101 Dory Drive\, Salvisa\, United States
CATEGORIES:Cruise Night
ATTACH;FMTTYPE=image/jpeg:https://kymotomag.com/wp-content/uploads/2025/05/Cruise-Night.jpg
END:VEVENT
BEGIN:VEVENT
DTSTART;TZID=America/Kentucky/Louisville:20250517T160000
DTEND;TZID=America/Kentucky/Louisville:20250517T200000
DTSTAMP:20260422T230627
CREATED:20250517T003431Z
LAST-MODIFIED:20250517T011432Z
UID:2438-1747497600-1747512000@kymotomag.com
SUMMARY:Bud's Tavern Open Car Cruise
DESCRIPTION:
URL:https://kymotomag.com/event/buds-tavern-open-car-cruise/
LOCATION:Jeffersontown\, KY\, United States
ATTACH;FMTTYPE=image/jpeg:https://kymotomag.com/wp-content/uploads/2025/05/buds.jpeg
END:VEVENT
BEGIN:VEVENT
DTSTART;TZID=America/Kentucky/Louisville:20250719T150000
DTEND;TZID=America/Kentucky/Louisville:20250719T190000
DTSTAMP:20260422T230627
CREATED:20250716T000240Z
LAST-MODIFIED:20250716T000240Z
UID:3493-1752937200-1752951600@kymotomag.com
SUMMARY:Cruisin' the Crater July Car Show
DESCRIPTION:Cruisin’ the Crater invites all custom\, classic\, muscle car\, & hot rod owners to our 3rd show of the season in downtown Middlesboro\, KY!\nWhat to expect…\nSaturday Show & Shine hours are 3PM to 7PM\nRAIN OR SHINE\n*$50 drawing each show-20 winners-drawing held at 6:30PM*Juke Box Bingo with $100 cash out prize*50/50 winners\n\nThe show will be held in downtown Middlesboro KY on Cumberland Ave\nCome and enjoy Gary’s Sound Machine & check out some of our local businesses on Cumberland Ave!\nAdmission is always FREE!
URL:https://kymotomag.com/event/cruisin-the-crater-july-car-show/
LOCATION:Middlesboro\, KY\, United States
ATTACH;FMTTYPE=image/jpeg:https://kymotomag.com/wp-content/uploads/2025/07/cater.jpg
END:VEVENT
BEGIN:VEVENT
DTSTART;TZID=America/Kentucky/Louisville:20250621T130000
DTEND;TZID=America/Kentucky/Louisville:20250621T170000
DTSTAMP:20260422T230627
CREATED:20250619T232935Z
LAST-MODIFIED:20250619T232935Z
UID:3184-1750510800-1750525200@kymotomag.com
SUMMARY:The Springs Cruise In
DESCRIPTION:
URL:https://kymotomag.com/event/the-springs-cruise-in/
LOCATION:Russell Springs\, KY\, United States
ATTACH;FMTTYPE=image/png:https://kymotomag.com/wp-content/uploads/2025/06/Springs.png
END:VEVENT
BEGIN:VEVENT
DTSTART;TZID=America/Kentucky/Louisville:20250719T120000
DTEND;TZID=America/Kentucky/Louisville:20250719T210000
DTSTAMP:20260422T230627
CREATED:20250617T011753Z
LAST-MODIFIED:20250617T011753Z
UID:3069-1752926400-1752958800@kymotomag.com
SUMMARY:Boys and Girls Haven Auto Show and Summer Fest
DESCRIPTION:
URL:https://kymotomag.com/event/boys-and-girls-haven-auto-show-and-summer-fest/
LOCATION:Louisville\, KY\, United States
ATTACH;FMTTYPE=image/jpeg:https://kymotomag.com/wp-content/uploads/2025/06/Boys_Girls_Haven.jpg
END:VEVENT
BEGIN:VEVENT
DTSTART;TZID=America/Kentucky/Louisville:20250719T090000
DTEND;TZID=America/Kentucky/Louisville:20250719T150000
DTSTAMP:20260422T230627
CREATED:20250625T014525Z
LAST-MODIFIED:20250625T014525Z
UID:3274-1752915600-1752937200@kymotomag.com
SUMMARY:ST. MICHAEL COMMUNITY KNIGHTS CAR SHOW
DESCRIPTION:
URL:https://kymotomag.com/event/st-michael-community-knights-car-show/
LOCATION:Louisville\, KY\, United States
ATTACH;FMTTYPE=image/jpeg:https://kymotomag.com/wp-content/uploads/2025/06/knights.jpg
END:VEVENT
BEGIN:VEVENT
DTSTART;TZID=America/Kentucky/Louisville:20250719T080000
DTEND;TZID=America/Kentucky/Louisville:20250719T120000
DTSTAMP:20260422T230627
CREATED:20250706T150950Z
LAST-MODIFIED:20250706T151044Z
UID:3447-1752912000-1752926400@kymotomag.com
SUMMARY:3rd Annual Cruise In At Earlington City Park
DESCRIPTION:
URL:https://kymotomag.com/event/3rd-annual-cruise-in-at-earlington-lake/
LOCATION:Madisonville\, KY\, United States
ATTACH;FMTTYPE=image/jpeg:https://kymotomag.com/wp-content/uploads/2025/07/Earlington.jpg
END:VEVENT
BEGIN:VEVENT
DTSTART;VALUE=DATE:20250517
DTEND;VALUE=DATE:20250518
DTSTAMP:20260422T230627
CREATED:20250501T161027Z
LAST-MODIFIED:20250502T192207Z
UID:2029-1747440000-1747526399@kymotomag.com
SUMMARY:Drag the Gut
DESCRIPTION:
URL:https://kymotomag.com/event/drag-the-gut/
LOCATION:Plumber & Steamfitter Local\, 1127 Broadway Street\, Paducah\, 42001\, United States
CATEGORIES:Cruise Night
ATTACH;FMTTYPE=image/jpeg:https://kymotomag.com/wp-content/uploads/2025/05/Third-Friday-Of-The-Month-Paducah-KY.jpg
END:VEVENT
BEGIN:VEVENT
DTSTART;VALUE=DATE:20250719
DTEND;VALUE=DATE:20250720
DTSTAMP:20260422T230627
CREATED:20250104T163838Z
LAST-MODIFIED:20250104T163838Z
UID:1938-1752883200-1752969599@kymotomag.com
SUMMARY:Keeneland Concours d’Elegance
DESCRIPTION:On the third weekend of July\, the annual Keeneland Concours d’Elegance will again be held on the beautiful grounds of Kentucky’s renowned Keeneland Race Course in Lexington\, Kentucky. We will be showcasing the finest collector vehicles in the country from antiques to future classics. Automobiles and other unique types of vehicles will be judged for their historical accuracy\, presentation\, and cleanliness. Each class winner and runner-up will receive an award. \nIn addition to the Concours vehicles\, the Car Club Paddock has become an important element of our Concours\, as each club proudly displays their cars for spectators to enjoy. Last year’s Paddock boasted over 14 different car clubs and approximately 425 members. If you are a member of a Car Club or are interested in participating\, visit the Car Club Paddock page. \nThe Keeneland Entertainment Center will be the sight of our unique silent auction. More information and items available are posted on the Silent Auction page. \nBe sure to visit the Artists section of our website for more information regarding the nationally acclaimed artists who will be attending the Concours and displaying their art in the Keene Barn on the Day of the Show. \nFood\, fashion\, and music add to the festive atmosphere of the day!
URL:https://kymotomag.com/event/keeneland-concours-delegance/
LOCATION:Keeneland\, 4201 Versailles Road\, Lexington\, KY\, 40510\, United States
ATTACH;FMTTYPE=image/jpeg:https://kymotomag.com/wp-content/uploads/2025/01/Keenland-Concours.jpg
END:VEVENT
BEGIN:VEVENT
DTSTART;TZID=America/Kentucky/Louisville:20250718T183000
DTEND;TZID=America/Kentucky/Louisville:20250718T220000
DTSTAMP:20260422T230627
CREATED:20250610T011817Z
LAST-MODIFIED:20250610T011817Z
UID:2890-1752863400-1752876000@kymotomag.com
SUMMARY:Hangar Bash
DESCRIPTION:Keeneland Concours d’Elegance& Blue Grass Motorsportwith support fromR.J. Corman Railroad Groupinvite you to attend theHANGAR BASHFriday\, July 18\, 2025 6:30 PM – 10:00 PMR.J. Corman Hangar #2101 RJ Corman DriveNicholasville\, KY 40356Enjoy an evening of vintage aircraft\, exotic automobiles\, music\, cocktails\,hors d’oeuvres and silent auction.Attire: Bond Cocktail Attire Suggested$125.00 per personYOU ONLY LIVE ONCE…SO DON’T MISS THIS
URL:https://kymotomag.com/event/hangar-bash/
LOCATION:R.J. Corman Hangar #2\, 101 RJ Corman Drive\, Nicholasville\, KY\, 40356\, United States
ATTACH;FMTTYPE=image/jpeg:https://kymotomag.com/wp-content/uploads/2025/06/rj.jpg
END:VEVENT
BEGIN:VEVENT
DTSTART;TZID=America/Kentucky/Louisville:20250620T180000
DTEND;TZID=America/Kentucky/Louisville:20250620T200000
DTSTAMP:20260422T230627
CREATED:20250619T221613Z
LAST-MODIFIED:20250619T221613Z
UID:3167-1750442400-1750449600@kymotomag.com
SUMMARY:Graveyard Relics Presents Cruisin on Main 2025
DESCRIPTION:
URL:https://kymotomag.com/event/graveyard-relics-presents-cruisin-on-main-2025/
LOCATION:Campbellsville\, KY\, United States
ATTACH;FMTTYPE=image/jpeg:https://kymotomag.com/wp-content/uploads/2025/06/Graveyard.jpg
END:VEVENT
BEGIN:VEVENT
DTSTART;TZID=America/Kentucky/Louisville:20250620T170000
DTEND;TZID=America/Kentucky/Louisville:20250620T210000
DTSTAMP:20260422T230627
CREATED:20250521T231659Z
LAST-MODIFIED:20250615T011246Z
UID:2473-1750438800-1750453200@kymotomag.com
SUMMARY:Shepherdsville Cruise-In
DESCRIPTION:
URL:https://kymotomag.com/event/shepherdsville-cruise-in-7/
LOCATION:Shepherdsville\, KY\, United States
ATTACH;FMTTYPE=image/jpeg:https://kymotomag.com/wp-content/uploads/2025/05/Shepherdsville-1.jpg
END:VEVENT
BEGIN:VEVENT
DTSTART;TZID=America/Kentucky/Louisville:20250620T170000
DTEND;TZID=America/Kentucky/Louisville:20250620T203000
DTSTAMP:20260422T230627
CREATED:20250619T222823Z
LAST-MODIFIED:20250619T222823Z
UID:3171-1750438800-1750451400@kymotomag.com
SUMMARY:The Gate City Cruise-In
DESCRIPTION:
URL:https://kymotomag.com/event/the-gate-city-cruise-in/
LOCATION:Catlettsburg\, KY
ATTACH;FMTTYPE=image/jpeg:https://kymotomag.com/wp-content/uploads/2025/06/Catlettsburg.jpg
END:VEVENT
BEGIN:VEVENT
DTSTART;TZID=America/Kentucky/Louisville:20250509T170000
DTEND;TZID=America/Kentucky/Louisville:20250509T203000
DTSTAMP:20260422T230627
CREATED:20250503T141312Z
LAST-MODIFIED:20250503T141438Z
UID:2091-1746810000-1746822600@kymotomag.com
SUMMARY:Southland Shopping Center Cruise Night
DESCRIPTION:Located in the Southland Shopping Center\, 396 and 398 Southland Drive\, Lexington\, KY 40503 (In front of GoodYear Tires and Critchfield Meats)….from 5:00 until Dark…and Hosted by Rodders\, Inc.\n\nGoodYear and Critchfield Both Ask the Cruisers to Park by the Southland Drive side of the Parking Lot as to Allow Customers to Park in Front of the Buildings.\n\nThis is an Informal Meet and Greet cruise. A Variety of Restaurants Close…Plenty of Parking. Come Out to See Old Friends and Make New Ones.
URL:https://kymotomag.com/event/southland-shopping-center-cruise-night/
LOCATION:Southland Shopping Center\, 396 Southland Drive\, Lexington\, United States
CATEGORIES:Cruise Night
ATTACH;FMTTYPE=image/jpeg:https://kymotomag.com/wp-content/uploads/2025/05/Cruise-Night.jpg
END:VEVENT
BEGIN:VEVENT
DTSTART;TZID=America/Kentucky/Louisville:20250516T170000
DTEND;TZID=America/Kentucky/Louisville:20250516T200000
DTSTAMP:20260422T230627
CREATED:20250503T150334Z
LAST-MODIFIED:20250503T150334Z
UID:2132-1747414800-1747425600@kymotomag.com
SUMMARY:Stanford Wilderness Road Car Cruise-In
DESCRIPTION:Located in Beautiful Downtown\, 102 East Main Street\, Stanford\, KY\, 40484 from 5:00 – 8:00PM. Hosted by the Masons of the Lincoln Lodge #60 F& A.M.\n\n\nThe Stanford Wilderness Road Car Cruise-In will be held in Downtown Stanford\, KY on the 3rd Friday of each month\, April through October.\n\nEveryone is Welcome. Dash plaques for the First 50 Registered.  Food available for Purchase.\n\nFor more information please contact Joe Gilliland\, bk11@roadrunner.com or call at 606 510-3865
URL:https://kymotomag.com/event/stanford-wilderness-road-car-cruise-in/
LOCATION:Downtown Stanford\, 102 East main Street\, Stanford\, United States
CATEGORIES:Cruise Night
ATTACH;FMTTYPE=image/jpeg:https://kymotomag.com/wp-content/uploads/2025/05/Stanford_Wilderness_Cruisein.jpg
END:VEVENT
BEGIN:VEVENT
DTSTART;VALUE=DATE:20250718
DTEND;VALUE=DATE:20250721
DTSTAMP:20260422T230627
CREATED:20241021T003912Z
LAST-MODIFIED:20241021T011020Z
UID:1835-1752796800-1753055999@kymotomag.com
SUMMARY:Sturgis Kentucky Bike Rally
DESCRIPTION:The Annual Sturgis Kentucky Bike Rally is an Old School Biker Rally and is back bigger and better than ever for 2025! \nThe Kentucky Bike Rally is held the third weekend of July each year on the grounds of the Union County Expo Center. All motorcycles are welcome. Attractions include 100 plus vendors\, lots of food\, live bands\, dirt drag racing\, bike shows\, raffles\, poker run\, and field events.
URL:https://kymotomag.com/event/sturgis-kentucky-bike-rally-2/
LOCATION:Union County Fairgrounds\, 125 Pryor Blvd\, Sturgis\, KY\, 42459\, United States
CATEGORIES:Motorcycle
ATTACH;FMTTYPE=image/jpeg:https://kymotomag.com/wp-content/uploads/2023/11/Sturgis_KY_Logo.jpg
END:VEVENT
BEGIN:VEVENT
DTSTART;VALUE=DATE:20250613
DTEND;VALUE=DATE:20250614
DTSTAMP:20260422T230627
CREATED:20250611T190533Z
LAST-MODIFIED:20250611T190829Z
UID:2977-1749772800-1749859199@kymotomag.com
SUMMARY:Friday Bike Night at Vintage 99 Motorcycle Museum
DESCRIPTION:Join us for the first Bike Night of the 2025 season at Vintage 99 in proud partnership with Bluegrass Harley-Davidson. Whether you ride a vintage beauty or a modern legend\, this evening is all about celebrating the spirit of the open road.\nEnjoy an evening of cold drinks\, live music\, cornhole\, and camaraderie among fellow motorcycle enthusiasts. It’s the perfect time to reunite with your riding community\, show off your bikes\, and kick off the season in style.\nDrink specials will be flowing all night\, and the atmosphere will be fueled by throttle\, friendship\, and unmistakable Harley-Davidson pride.\nAll makes and models welcome.\nDoors open at 6pm!\n\n10205r Taylorsville Rd.\, Jeffersontown\, KY 40299
URL:https://kymotomag.com/event/friday-bike-night-at-vintage-99-motorcycle-museum/
LOCATION:Jeffersontown\, KY\, United States
CATEGORIES:Cruise Night,Motorcycle
ATTACH;FMTTYPE=image/jpeg:https://kymotomag.com/wp-content/uploads/2025/06/Vintage_99.jpg
END:VEVENT
BEGIN:VEVENT
DTSTART;TZID=America/Kentucky/Louisville:20250625T170000
DTEND;TZID=America/Kentucky/Louisville:20250625T200000
DTSTAMP:20260422T230627
CREATED:20250625T231210Z
LAST-MODIFIED:20250625T231346Z
UID:3297-1750870800-1750881600@kymotomag.com
SUMMARY:El Toro Weekly Cruise In
DESCRIPTION:
URL:https://kymotomag.com/event/el-toro-weekly-cruise-in/
LOCATION:Walton\, KY\, United States
ATTACH;FMTTYPE=image/jpeg:https://kymotomag.com/wp-content/uploads/2025/06/El-Toro.jpg
END:VEVENT
BEGIN:VEVENT
DTSTART;TZID=America/Kentucky/Louisville:20250520T180000
DTEND;TZID=America/Kentucky/Louisville:20250520T200000
DTSTAMP:20260422T230627
CREATED:20250503T152419Z
LAST-MODIFIED:20250503T152419Z
UID:2150-1747764000-1747771200@kymotomag.com
SUMMARY:Steak 'n Shake of Richmond Cruise Night
DESCRIPTION:Located at the Steak and Shake of Richmond\, 2001 Colby Taylor Drive\, Richmond\, KY\, 40475 from 6-8  with D.J. David Brewer.\n\nJoin us Every 3rd Tuesday of the Month April through October..plus 40% Off of a $10 Purchase for All the Cruise-In Entries.
URL:https://kymotomag.com/event/steak-n-shake-of-richmond-cruise-night/
LOCATION:Stake n Shake – Richmond\, 2001 Colby Taylor Drive\, Richmond\, 40475\, United States
CATEGORIES:Cruise Night
ATTACH;FMTTYPE=image/jpeg:https://kymotomag.com/wp-content/uploads/2025/05/Steak_Shake_Richmond_Cruise_Night.jpg
END:VEVENT
BEGIN:VEVENT
DTSTART;TZID=America/Kentucky/Louisville:20250713T130000
DTEND;TZID=America/Kentucky/Louisville:20250713T160000
DTSTAMP:20260422T230627
CREATED:20250619T210120Z
LAST-MODIFIED:20250619T210120Z
UID:3132-1752411600-1752422400@kymotomag.com
SUMMARY:Jessi's Journey Benefit Car Show
DESCRIPTION:
URL:https://kymotomag.com/event/jessis-journey-benefit-car-show/
LOCATION:Russellville\, KY\, Russellville\, United States
ATTACH;FMTTYPE=image/jpeg:https://kymotomag.com/wp-content/uploads/2025/06/Russellville.jpg
END:VEVENT
BEGIN:VEVENT
DTSTART;TZID=America/Kentucky/Louisville:20250713T120000
DTEND;TZID=America/Kentucky/Louisville:20250713T150000
DTSTAMP:20260422T230627
CREATED:20250531T214449Z
LAST-MODIFIED:20250531T214449Z
UID:2656-1752408000-1752418800@kymotomag.com
SUMMARY:Chasing Dreams 1st Annual Car Show
DESCRIPTION:
URL:https://kymotomag.com/event/chasing-dreams-1st-annual-car-show/
LOCATION:Stanford\, KY\, United States
ATTACH;FMTTYPE=image/jpeg:https://kymotomag.com/wp-content/uploads/2025/05/Chasing-Dreams.jpg
END:VEVENT
BEGIN:VEVENT
DTSTART;TZID=America/Kentucky/Louisville:20250614T170000
DTEND;TZID=America/Kentucky/Louisville:20250614T210000
DTSTAMP:20260422T230627
CREATED:20250610T234430Z
LAST-MODIFIED:20250610T235248Z
UID:2912-1749920400-1749934800@kymotomag.com
SUMMARY:2025 "I Love Tacos" Cruise Season
DESCRIPTION:
URL:https://kymotomag.com/event/2025-i-love-tacos-cruise-season/
LOCATION:Louisville\, KY\, United States
ATTACH;FMTTYPE=image/jpeg:https://kymotomag.com/wp-content/uploads/2025/06/cadillac.jpg
END:VEVENT
BEGIN:VEVENT
DTSTART;TZID=America/Kentucky/Louisville:20250614T170000
DTEND;TZID=America/Kentucky/Louisville:20250614T203000
DTSTAMP:20260422T230627
CREATED:20250611T185733Z
LAST-MODIFIED:20250611T185928Z
UID:2972-1749920400-1749933000@kymotomag.com
SUMMARY:Eminence Cruise Night
DESCRIPTION:Monthly event on the second Saturday of the month. \nCVS\n4894 N Main St\,\nEminence\, KY 40019
URL:https://kymotomag.com/event/eminence-cruise-night-2/
LOCATION:Eminence\, KY\, United States
CATEGORIES:Cruise Night
ATTACH;FMTTYPE=image/png:https://kymotomag.com/wp-content/uploads/2025/06/Eminence_Cruise_Night.png
END:VEVENT
BEGIN:VEVENT
DTSTART;TZID=America/Kentucky/Louisville:20250510T170000
DTEND;TZID=America/Kentucky/Louisville:20250510T200000
DTSTAMP:20260422T230627
CREATED:20250508T202914Z
LAST-MODIFIED:20250508T202914Z
UID:2300-1746896400-1746907200@kymotomag.com
SUMMARY:Summer Nights Cruise-In
DESCRIPTION:
URL:https://kymotomag.com/event/summer-nights-cruise-in/
LOCATION:Russellville\, KY\, Russellville\, United States
CATEGORIES:Cruise-In
ATTACH;FMTTYPE=image/jpeg:https://kymotomag.com/wp-content/uploads/2025/05/Summer_Nights_Russellville.jpg
END:VEVENT
BEGIN:VEVENT
DTSTART;TZID=America/Kentucky/Louisville:20250712T163000
DTEND;TZID=America/Kentucky/Louisville:20250712T193000
DTSTAMP:20260422T230627
CREATED:20250712T005834Z
LAST-MODIFIED:20250712T005855Z
UID:3466-1752337800-1752348600@kymotomag.com
SUMMARY:Free Community Car Show
DESCRIPTION:Location: \nLafayette Church of The Nazarene \n264 Lafayette Pkwy \nLexington\, KY
URL:https://kymotomag.com/event/free-community-car-show/
LOCATION:Lexington\, KY\, United States
ATTACH;FMTTYPE=image/png:https://kymotomag.com/wp-content/uploads/2025/07/Free-Community.png
END:VEVENT
BEGIN:VEVENT
DTSTART;TZID=America/Kentucky/Louisville:20250712T163000
DTEND;TZID=America/Kentucky/Louisville:20250712T193000
DTSTAMP:20260422T230627
CREATED:20250625T230535Z
LAST-MODIFIED:20250625T230535Z
UID:3293-1752337800-1752348600@kymotomag.com
SUMMARY:1st Annual Car Show
DESCRIPTION:
URL:https://kymotomag.com/event/1st-annual-car-show/
LOCATION:Lafayette Church of the Nazarene\, 264 Lafayette Parkway\, Lexington\, 40503\, United States
ATTACH;FMTTYPE=image/png:https://kymotomag.com/wp-content/uploads/2025/06/Baird.png
END:VEVENT
END:VCALENDAR