BEGIN:VCALENDAR
VERSION:2.0
PRODID:-//Kentucky Motorsports Magazine / KYMOTOMAG - ECPv6.15.20//NONSGML v1.0//EN
CALSCALE:GREGORIAN
METHOD:PUBLISH
X-WR-CALNAME:Kentucky Motorsports Magazine / KYMOTOMAG
X-ORIGINAL-URL:https://kymotomag.com
X-WR-CALDESC:Events for Kentucky Motorsports Magazine / KYMOTOMAG
REFRESH-INTERVAL;VALUE=DURATION:PT1H
X-Robots-Tag:noindex
X-PUBLISHED-TTL:PT1H
BEGIN:VTIMEZONE
TZID:America/Kentucky/Louisville
BEGIN:DAYLIGHT
TZOFFSETFROM:-0500
TZOFFSETTO:-0400
TZNAME:EDT
DTSTART:20240310T070000
END:DAYLIGHT
BEGIN:STANDARD
TZOFFSETFROM:-0400
TZOFFSETTO:-0500
TZNAME:EST
DTSTART:20241103T060000
END:STANDARD
BEGIN:DAYLIGHT
TZOFFSETFROM:-0500
TZOFFSETTO:-0400
TZNAME:EDT
DTSTART:20250309T070000
END:DAYLIGHT
BEGIN:STANDARD
TZOFFSETFROM:-0400
TZOFFSETTO:-0500
TZNAME:EST
DTSTART:20251102T060000
END:STANDARD
BEGIN:DAYLIGHT
TZOFFSETFROM:-0500
TZOFFSETTO:-0400
TZNAME:EDT
DTSTART:20260308T070000
END:DAYLIGHT
BEGIN:STANDARD
TZOFFSETFROM:-0400
TZOFFSETTO:-0500
TZNAME:EST
DTSTART:20261101T060000
END:STANDARD
END:VTIMEZONE
BEGIN:VEVENT
DTSTART;VALUE=DATE:20250731
DTEND;VALUE=DATE:20250801
DTSTAMP:20260422T211612
CREATED:20241020T234458Z
LAST-MODIFIED:20250730T005156Z
UID:1817-1753920000-1754006399@kymotomag.com
SUMMARY:Street Rod Nationals
DESCRIPTION:
URL:https://kymotomag.com/event/street-rod-nationals-2/
LOCATION:Kentucky Expo Center\, 937 Phillips Lane\, Louisville\, KY\, 40209\, United States
ATTACH;FMTTYPE=image/jpeg:https://kymotomag.com/wp-content/uploads/2024/10/SRN.jpg
END:VEVENT
BEGIN:VEVENT
DTSTART;TZID=America/Kentucky/Louisville:20250625T170000
DTEND;TZID=America/Kentucky/Louisville:20250625T200000
DTSTAMP:20260422T211612
CREATED:20250625T231210Z
LAST-MODIFIED:20250625T231346Z
UID:3297-1750870800-1750881600@kymotomag.com
SUMMARY:El Toro Weekly Cruise In
DESCRIPTION:
URL:https://kymotomag.com/event/el-toro-weekly-cruise-in/
LOCATION:Walton\, KY\, United States
ATTACH;FMTTYPE=image/jpeg:https://kymotomag.com/wp-content/uploads/2025/06/El-Toro.jpg
END:VEVENT
BEGIN:VEVENT
DTSTART;TZID=America/Kentucky/Louisville:20250624T173000
DTEND;TZID=America/Kentucky/Louisville:20250624T203000
DTSTAMP:20260422T211612
CREATED:20250601T145810Z
LAST-MODIFIED:20250601T145810Z
UID:2685-1750786200-1750797000@kymotomag.com
SUMMARY:CRUISIN AT THE ALLEY
DESCRIPTION:
URL:https://kymotomag.com/event/cruisin-at-the-alley/
LOCATION:Richmond\, KY
ATTACH;FMTTYPE=image/jpeg:https://kymotomag.com/wp-content/uploads/2025/06/alley.jpg
END:VEVENT
BEGIN:VEVENT
DTSTART;TZID=America/Kentucky/Louisville:20250729T160000
DTEND;TZID=America/Kentucky/Louisville:20250729T210000
DTSTAMP:20260422T211612
CREATED:20250728T001638Z
LAST-MODIFIED:20250728T001638Z
UID:3613-1753804800-1753822800@kymotomag.com
SUMMARY:Hot Rod Week at Mike Linnig's
DESCRIPTION:
URL:https://kymotomag.com/event/hot-rod-week-at-mike-linnigs/
LOCATION:Louisville\, KY\, United States
ATTACH;FMTTYPE=image/jpeg:https://kymotomag.com/wp-content/uploads/2025/07/Mike_Linnigs.jpg
END:VEVENT
BEGIN:VEVENT
DTSTART;TZID=America/Kentucky/Louisville:20250727T130000
DTEND;TZID=America/Kentucky/Louisville:20250727T160000
DTSTAMP:20260422T211612
CREATED:20250619T214029Z
LAST-MODIFIED:20250619T214029Z
UID:3152-1753621200-1753632000@kymotomag.com
SUMMARY:Fort Campbell American Legion Post 233 Cruise In
DESCRIPTION:
URL:https://kymotomag.com/event/fort-campbell-american-legion-post-233-cruise-in/
LOCATION:Oak Grove\, KY\, United States
ATTACH;FMTTYPE=image/png:https://kymotomag.com/wp-content/uploads/2025/06/FT-Campbell.png
END:VEVENT
BEGIN:VEVENT
DTSTART;TZID=America/Kentucky/Louisville:20250525T120000
DTEND;TZID=America/Kentucky/Louisville:20250525T180000
DTSTAMP:20260422T211612
CREATED:20250503T174429Z
LAST-MODIFIED:20250503T174429Z
UID:2160-1748174400-1748196000@kymotomag.com
SUMMARY:Whiskey City Cruisers
DESCRIPTION:Located at THE NEW LOCATION…Buzick’s Lumber and Home Center\, 1330 John Rowan Blvd\, Bardstown\, KY\,40004 from 12-6.\n\nThis is the Whiskey City Cruisers…33rd Year of Cruising !!!……. Every 4th Sunday April through October\n\nFree and Open to ALL Makes and Models of Cars and Trucks…. Bring’em Out !!!….Rain Cancels the Event…Check your Radar.\n\nFor more Information\, please Find them on FaceBook at Whiskey City Cruisers.
URL:https://kymotomag.com/event/whiskey-city-cruisers/
LOCATION:Buzick’s Lumber\, 1330 John Rowan Blvd\, Bardstown\, 40004\, United States
END:VEVENT
BEGIN:VEVENT
DTSTART;TZID=America/Kentucky/Louisville:20250727T120000
DTEND;TZID=America/Kentucky/Louisville:20250727T160000
DTSTAMP:20260422T211613
CREATED:20250726T141318Z
LAST-MODIFIED:20250726T141318Z
UID:3582-1753617600-1753632000@kymotomag.com
SUMMARY:Wheels By The Water
DESCRIPTION:Location: \nCox Park \n3730 River Road \nLouisville\, KY
URL:https://kymotomag.com/event/wheels-by-the-water/
LOCATION:Louisville\, KY\, United States
ATTACH;FMTTYPE=image/png:https://kymotomag.com/wp-content/uploads/2025/07/WATER.png
END:VEVENT
BEGIN:VEVENT
DTSTART;TZID=America/Kentucky/Louisville:20250727T080000
DTEND;TZID=America/Kentucky/Louisville:20250727T110000
DTSTAMP:20260422T211613
CREATED:20250619T211335Z
LAST-MODIFIED:20250619T211450Z
UID:3138-1753603200-1753614000@kymotomag.com
SUMMARY:Caffeine & Gasoline Cruise at The B.A. Colonial
DESCRIPTION:Kick off Street Rod Nats week with our breakfast car cruise!\nSunday July 27th. Parking starting at 8:00a and we’ll have the breakfast buffet ready at 8:30a.\nBreakfast buffet will be $15 per person. Our full bar will be open!\nWe’ll have to-go boxes on the buffet so it will be easy if you want to eat out in the parking lot or choose to sit in the restaurant and eat.\nSince it will be early on a Sunday morning\, we will have the restaurant paring lot for show parking and can overflow to the Republic Bank parking lot across the street if needed.\nCome out\, have a great breakfast\, and kick off street rod week with us!
URL:https://kymotomag.com/event/caffeine-gasoline-cruise-at-the-b-a-colonial/
LOCATION:The B.A. Colonial\, 818 W Kenwood Dr\, Louisville\, 40214\, United States
ATTACH;FMTTYPE=image/jpeg:https://kymotomag.com/wp-content/uploads/2025/06/caff.jpg
END:VEVENT
BEGIN:VEVENT
DTSTART;VALUE=DATE:20250727
DTEND;VALUE=DATE:20250728
DTSTAMP:20260422T211613
CREATED:20250626T011247Z
LAST-MODIFIED:20250626T011358Z
UID:3319-1753574400-1753660799@kymotomag.com
SUMMARY:Clay County Cruisers " Cruzin' in the Streets"
DESCRIPTION:
URL:https://kymotomag.com/event/clay-county-cruisers-cruzin-in-the-streets/
LOCATION:Downtown Manchester\, 202 Main Street\, Manchester\, KY\, 40962\, United States
ATTACH;FMTTYPE=image/jpeg:https://kymotomag.com/wp-content/uploads/2025/06/Manchester.jpg
END:VEVENT
BEGIN:VEVENT
DTSTART;TZID=America/Kentucky/Louisville:20250524T170000
DTEND;TZID=America/Kentucky/Louisville:20250524T210000
DTSTAMP:20260422T211613
CREATED:20250521T224028Z
LAST-MODIFIED:20250521T225709Z
UID:2458-1748106000-1748120400@kymotomag.com
SUMMARY:Classic Car\, Truck\, & Bike Show Saturday Night Car Cruise
DESCRIPTION:
URL:https://kymotomag.com/event/classic-car-truck-bike-show-saturday-night-car-cruise/
LOCATION:Beattyville\, KY\, United States
ATTACH;FMTTYPE=image/jpeg:https://kymotomag.com/wp-content/uploads/2025/05/beattyville.jpg
END:VEVENT
BEGIN:VEVENT
DTSTART;TZID=America/Kentucky/Louisville:20250628T170000
DTEND;TZID=America/Kentucky/Louisville:20250628T200000
DTSTAMP:20260422T211613
CREATED:20250618T014939Z
LAST-MODIFIED:20250618T015124Z
UID:3114-1751130000-1751140800@kymotomag.com
SUMMARY:Dream Maker Cruise In
DESCRIPTION:
URL:https://kymotomag.com/event/dream-maker-cruise-in/
LOCATION:Dream Maker Realty & Log Homes\, 1901 Camargo Rd\, Mount Sterling\, United States
ATTACH;FMTTYPE=image/png:https://kymotomag.com/wp-content/uploads/2025/06/Dream-Maker.png
END:VEVENT
BEGIN:VEVENT
DTSTART;TZID=America/Kentucky/Louisville:20250524T160000
DTEND;TZID=America/Kentucky/Louisville:20250524T200000
DTSTAMP:20260422T211613
CREATED:20250521T234126Z
LAST-MODIFIED:20250618T024836Z
UID:2488-1748102400-1748116800@kymotomag.com
SUMMARY:Lake Town Cruisers
DESCRIPTION:
URL:https://kymotomag.com/event/lake-town-cruisers/
LOCATION:Taylorsville\, KY\, United States
ATTACH;FMTTYPE=image/png:https://kymotomag.com/wp-content/uploads/2025/05/Taylorsville.png
END:VEVENT
BEGIN:VEVENT
DTSTART;TZID=America/Kentucky/Louisville:20250726T160000
DTEND;TZID=America/Kentucky/Louisville:20250726T190000
DTSTAMP:20260422T211613
CREATED:20250503T184839Z
LAST-MODIFIED:20250503T184839Z
UID:2207-1753545600-1753556400@kymotomag.com
SUMMARY:The Best Car Cruise-In
DESCRIPTION:
URL:https://kymotomag.com/event/the-best-car-cruise-in/
LOCATION:Downtown Shelbyville\, Shelbyville\, United States
CATEGORIES:Cruise-In
ATTACH;FMTTYPE=image/jpeg:https://kymotomag.com/wp-content/uploads/2025/05/07_26_2025_Best_Car_Cruisin.jpg
END:VEVENT
BEGIN:VEVENT
DTSTART;TZID=America/Kentucky/Louisville:20250726T120000
DTEND;TZID=America/Kentucky/Louisville:20250726T170000
DTSTAMP:20260422T211613
CREATED:20250716T001318Z
LAST-MODIFIED:20250716T001318Z
UID:3500-1753531200-1753549200@kymotomag.com
SUMMARY:ECHS Wildcats 3rd Annual Car and Bike Show
DESCRIPTION:Location: \nEdmonson County High School \n220 Wildcats Way \nBrownsville\, KY  42210
URL:https://kymotomag.com/event/echs-wildcats-3rd-annual-car-and-bike-show/
LOCATION:Brownsville\, KY\, United States
ATTACH;FMTTYPE=image/jpeg:https://kymotomag.com/wp-content/uploads/2025/07/edmondson.jpg
END:VEVENT
BEGIN:VEVENT
DTSTART;TZID=America/Kentucky/Louisville:20250726T120000
DTEND;TZID=America/Kentucky/Louisville:20250726T170000
DTSTAMP:20260422T211613
CREATED:20250712T010904Z
LAST-MODIFIED:20250712T010904Z
UID:3471-1753531200-1753549200@kymotomag.com
SUMMARY:Warrior Run & Car Show
DESCRIPTION:
URL:https://kymotomag.com/event/warrior-run-car-show/
LOCATION:Sheperdsville\, KY\, United States
ATTACH;FMTTYPE=image/jpeg:https://kymotomag.com/wp-content/uploads/2025/07/SHEPHERDSVILLE.jpg
END:VEVENT
BEGIN:VEVENT
DTSTART;TZID=America/Kentucky/Louisville:20250726T120000
DTEND;TZID=America/Kentucky/Louisville:20250726T170000
DTSTAMP:20260422T211613
CREATED:20250503T191154Z
LAST-MODIFIED:20250503T191154Z
UID:2238-1753531200-1753549200@kymotomag.com
SUMMARY:Cars in the Commonwealth
DESCRIPTION:
URL:https://kymotomag.com/event/cars-in-the-commonwealth/
LOCATION:Hermitage Farm\, 10500 US-42\, Goshen\, 40026\, United States
ATTACH;FMTTYPE=image/jpeg:https://kymotomag.com/wp-content/uploads/2025/05/07_26_2025_RCR_Cars_Commonwealth.jpg
END:VEVENT
BEGIN:VEVENT
DTSTART;TZID=America/Kentucky/Louisville:20250726T110000
DTEND;TZID=America/Kentucky/Louisville:20250726T130000
DTSTAMP:20260422T211613
CREATED:20250507T012705Z
LAST-MODIFIED:20250507T012705Z
UID:2270-1753527600-1753534800@kymotomag.com
SUMMARY:Annual Fort Knox Exchange Car\, Bike & Truck Show
DESCRIPTION:
URL:https://kymotomag.com/event/annual-fort-knox-exchange-car-bike-truck-show/
LOCATION:Fort Knox\, KY\, Fort Knox\, United States
ATTACH;FMTTYPE=image/jpeg:https://kymotomag.com/wp-content/uploads/2025/05/07_26_2025_Fort_Knox.jpg
END:VEVENT
BEGIN:VEVENT
DTSTART;TZID=America/Kentucky/Louisville:20250726T100000
DTEND;TZID=America/Kentucky/Louisville:20250726T143000
DTSTAMP:20260422T211613
CREATED:20250726T134938Z
LAST-MODIFIED:20250726T134938Z
UID:3572-1753524000-1753540200@kymotomag.com
SUMMARY:Project K-9 Car Show
DESCRIPTION:Time is CST \nLocation: \nBreckinridge Co Fairgrounds \n217 Fairgrounds Rd \nHardinsburg\, KY
URL:https://kymotomag.com/event/project-k-9-car-show/
LOCATION:Hardinsburg\, KY\, United States
ATTACH;FMTTYPE=image/jpeg:https://kymotomag.com/wp-content/uploads/2025/07/k9.jpg
END:VEVENT
BEGIN:VEVENT
DTSTART;TZID=America/Kentucky/Louisville:20250726T090000
DTEND;TZID=America/Kentucky/Louisville:20250726T113000
DTSTAMP:20260422T211613
CREATED:20250726T143418Z
LAST-MODIFIED:20250726T143418Z
UID:3592-1753520400-1753529400@kymotomag.com
SUMMARY:Red River Jockers M/C Live to Ride Cruise In
DESCRIPTION:Cars\, Trucks\, and Bikes \nLocation: \n132 South Queen Street \nMount Sterling\, KY
URL:https://kymotomag.com/event/red-river-jockers-m-c-live-to-ride-cruise-in/
LOCATION:Mount Sterling\, United States
ATTACH;FMTTYPE=image/jpeg:https://kymotomag.com/wp-content/uploads/2025/07/Red-River.jpg
END:VEVENT
BEGIN:VEVENT
DTSTART;TZID=America/Kentucky/Louisville:20250726T080000
DTEND;TZID=America/Kentucky/Louisville:20250726T160000
DTSTAMP:20260422T211613
CREATED:20250723T010145Z
LAST-MODIFIED:20250723T010145Z
UID:3553-1753516800-1753545600@kymotomag.com
SUMMARY:4th Annual Shop Truck Gathering
DESCRIPTION:
URL:https://kymotomag.com/event/4th-annual-shop-truck-gathering/
LOCATION:Cave City\, KY\, United States
ATTACH;FMTTYPE=image/jpeg:https://kymotomag.com/wp-content/uploads/2025/07/07_26_Shop_Truck_Gathering.jpg
END:VEVENT
BEGIN:VEVENT
DTSTART;TZID=America/Kentucky/Louisville:20250726T080000
DTEND;TZID=America/Kentucky/Louisville:20250726T120000
DTSTAMP:20260422T211613
CREATED:20250726T140529Z
LAST-MODIFIED:20250726T140529Z
UID:3579-1753516800-1753531200@kymotomag.com
SUMMARY:1st Annual Car Show
DESCRIPTION:Location: \nBarren County High School \n507 Trojan Trail \nGlasgow\, KY  42141
URL:https://kymotomag.com/event/1st-annual-car-show-2/
LOCATION:Glasgow\, KY\, United States
ATTACH;FMTTYPE=image/jpeg:https://kymotomag.com/wp-content/uploads/2025/07/Barren.jpg
END:VEVENT
BEGIN:VEVENT
DTSTART;VALUE=DATE:20250726
DTEND;VALUE=DATE:20250727
DTSTAMP:20260422T211613
CREATED:20250723T003946Z
LAST-MODIFIED:20250723T003946Z
UID:3540-1753488000-1753574399@kymotomag.com
SUMMARY:Burnout Wars
DESCRIPTION:
URL:https://kymotomag.com/event/burnout-wars/
LOCATION:Burnside\, KY\, Burnside\, United States
ATTACH;FMTTYPE=image/jpeg:https://kymotomag.com/wp-content/uploads/2025/07/Burnout_Wars.jpg
END:VEVENT
BEGIN:VEVENT
DTSTART;VALUE=DATE:20250726
DTEND;VALUE=DATE:20250727
DTSTAMP:20260422T211613
CREATED:20250723T003735Z
LAST-MODIFIED:20250723T003735Z
UID:3537-1753488000-1753574399@kymotomag.com
SUMMARY:Send it Saturday Night
DESCRIPTION:
URL:https://kymotomag.com/event/send-it-saturday-night/
LOCATION:Beech Bend Raceway Park\, 798 Beech Bend Road\, Richardsville\, KY\, 42101\, United States
ATTACH;FMTTYPE=image/jpeg:https://kymotomag.com/wp-content/uploads/2025/07/Send_It.jpg
END:VEVENT
BEGIN:VEVENT
DTSTART;VALUE=DATE:20250726
DTEND;VALUE=DATE:20250727
DTSTAMP:20260422T211613
CREATED:20250507T013124Z
LAST-MODIFIED:20250507T013124Z
UID:2274-1753488000-1753574399@kymotomag.com
SUMMARY:Cynthiana Bike Fest
DESCRIPTION:
URL:https://kymotomag.com/event/cynthiana-bike-fest/
LOCATION:Cynthiana\, KY\, Cynthiana\, United States
ATTACH;FMTTYPE=image/jpeg:https://kymotomag.com/wp-content/uploads/2025/05/07_2025_Cynthiana_Bike_Night-scaled.jpg
END:VEVENT
BEGIN:VEVENT
DTSTART;TZID=America/Kentucky/Louisville:20250613T170000
DTEND;TZID=America/Kentucky/Louisville:20250613T210000
DTSTAMP:20260422T211613
CREATED:20250602T114423Z
LAST-MODIFIED:20250602T114424Z
UID:2694-1749834000-1749848400@kymotomag.com
SUMMARY:Hardee's Cruise Night
DESCRIPTION:
URL:https://kymotomag.com/event/hardees-cruise-night-2/
LOCATION:Hardee’s – Nicholasville\, 903 S Main Street\, Nicholasville\, 40356\, United States
CATEGORIES:Cruise Night
ATTACH;FMTTYPE=image/jpeg:https://kymotomag.com/wp-content/uploads/2025/05/Hardees_Cruise_Night.jpg
END:VEVENT
BEGIN:VEVENT
DTSTART;TZID=America/Kentucky/Louisville:20250509T170000
DTEND;TZID=America/Kentucky/Louisville:20250509T203000
DTSTAMP:20260422T211613
CREATED:20250503T141312Z
LAST-MODIFIED:20250503T141438Z
UID:2091-1746810000-1746822600@kymotomag.com
SUMMARY:Southland Shopping Center Cruise Night
DESCRIPTION:Located in the Southland Shopping Center\, 396 and 398 Southland Drive\, Lexington\, KY 40503 (In front of GoodYear Tires and Critchfield Meats)….from 5:00 until Dark…and Hosted by Rodders\, Inc.\n\nGoodYear and Critchfield Both Ask the Cruisers to Park by the Southland Drive side of the Parking Lot as to Allow Customers to Park in Front of the Buildings.\n\nThis is an Informal Meet and Greet cruise. A Variety of Restaurants Close…Plenty of Parking. Come Out to See Old Friends and Make New Ones.
URL:https://kymotomag.com/event/southland-shopping-center-cruise-night/
LOCATION:Southland Shopping Center\, 396 Southland Drive\, Lexington\, United States
CATEGORIES:Cruise Night
ATTACH;FMTTYPE=image/jpeg:https://kymotomag.com/wp-content/uploads/2025/05/Cruise-Night.jpg
END:VEVENT
BEGIN:VEVENT
DTSTART;TZID=America/Kentucky/Louisville:20250725T170000
DTEND;TZID=America/Kentucky/Louisville:20250725T200000
DTSTAMP:20260422T211613
CREATED:20250611T002312Z
LAST-MODIFIED:20250611T002312Z
UID:2938-1753462800-1753473600@kymotomag.com
SUMMARY:Burgers Shakes Cruise Night
DESCRIPTION:
URL:https://kymotomag.com/event/burgers-shakes-cruise-night-4/
LOCATION:Burgers Shakes\, 219 East New Circle Road\, Lexington\, United States
CATEGORIES:Cruise Night
ATTACH;FMTTYPE=image/jpeg:https://kymotomag.com/wp-content/uploads/2025/05/2025_Burgers_Shakes_Cruise_Night.jpg
END:VEVENT
BEGIN:VEVENT
DTSTART;VALUE=DATE:20250613
DTEND;VALUE=DATE:20250614
DTSTAMP:20260422T211613
CREATED:20250611T190533Z
LAST-MODIFIED:20250611T190829Z
UID:2977-1749772800-1749859199@kymotomag.com
SUMMARY:Friday Bike Night at Vintage 99 Motorcycle Museum
DESCRIPTION:Join us for the first Bike Night of the 2025 season at Vintage 99 in proud partnership with Bluegrass Harley-Davidson. Whether you ride a vintage beauty or a modern legend\, this evening is all about celebrating the spirit of the open road.\nEnjoy an evening of cold drinks\, live music\, cornhole\, and camaraderie among fellow motorcycle enthusiasts. It’s the perfect time to reunite with your riding community\, show off your bikes\, and kick off the season in style.\nDrink specials will be flowing all night\, and the atmosphere will be fueled by throttle\, friendship\, and unmistakable Harley-Davidson pride.\nAll makes and models welcome.\nDoors open at 6pm!\n\n10205r Taylorsville Rd.\, Jeffersontown\, KY 40299
URL:https://kymotomag.com/event/friday-bike-night-at-vintage-99-motorcycle-museum/
LOCATION:Jeffersontown\, KY\, United States
CATEGORIES:Cruise Night,Motorcycle
ATTACH;FMTTYPE=image/jpeg:https://kymotomag.com/wp-content/uploads/2025/06/Vintage_99.jpg
END:VEVENT
BEGIN:VEVENT
DTSTART;TZID=America/Kentucky/Louisville:20250522T180000
DTEND;TZID=America/Kentucky/Louisville:20250522T200000
DTSTAMP:20260422T211613
CREATED:20250522T000614Z
LAST-MODIFIED:20250618T024516Z
UID:2499-1747936800-1747944000@kymotomag.com
SUMMARY:Gears & Beers Cruise-In
DESCRIPTION:Start your engines\, Harlan — it’s Cruise-In season!The Gears & Beers Cruise-In will return on Thursday\, May 22nd from 6PM–8PM on 1st Street in front of the courthouse! \nFrom classic cars to hot rods\, rat rods to imports — if it’s got wheels\, it’s welcome!  FREE Entry Cash Door Prizes Food & drinks at Harlan County Beer Company Live music\, corn hole\, fun atmosphere\, and plenty of photo ops Remember: for every Gears & Beers Cruise-In you attend\, you’ll be entered to win $1\,000 at the final event in October. The more you cruise\, the better your chances to cash in!  Happens every 4th Thursday — don’t miss this ride through downtown!
URL:https://kymotomag.com/event/gears-beers-cruise-in/
LOCATION:Harlan\, KY\, United States
ATTACH;FMTTYPE=image/png:https://kymotomag.com/wp-content/uploads/2025/05/Geers-and-Beers.png
END:VEVENT
BEGIN:VEVENT
DTSTART;VALUE=DATE:20250724
DTEND;VALUE=DATE:20250727
DTSTAMP:20260422T211613
CREATED:20250511T012818Z
LAST-MODIFIED:20250511T012818Z
UID:2364-1753315200-1753574399@kymotomag.com
SUMMARY:Cruisin’ the Heartland
DESCRIPTION:Recognized as one of the top cruise-ins in the nation by Chevy Classics Magazine and the Best Car Show Cruise-in in Kentucky by Kentucky Living Magazine\, join us for CRUISIN’ THE HEARTLAND 2025!
URL:https://kymotomag.com/event/cruisin-the-heartland/
LOCATION:ELIZABETHTOWN\, KY\, United States
ATTACH;FMTTYPE=image/webp:https://kymotomag.com/wp-content/uploads/2025/05/CRUISIN-THE-HEARTLAND.webp
END:VEVENT
END:VCALENDAR