BEGIN:VCALENDAR
VERSION:2.0
PRODID:-//Kentucky Motorsports Magazine / KYMOTOMAG - ECPv6.15.20//NONSGML v1.0//EN
CALSCALE:GREGORIAN
METHOD:PUBLISH
X-ORIGINAL-URL:https://kymotomag.com
X-WR-CALDESC:Events for Kentucky Motorsports Magazine / KYMOTOMAG
REFRESH-INTERVAL;VALUE=DURATION:PT1H
X-Robots-Tag:noindex
X-PUBLISHED-TTL:PT1H
BEGIN:VTIMEZONE
TZID:America/Kentucky/Louisville
BEGIN:DAYLIGHT
TZOFFSETFROM:-0500
TZOFFSETTO:-0400
TZNAME:EDT
DTSTART:20250309T070000
END:DAYLIGHT
BEGIN:STANDARD
TZOFFSETFROM:-0400
TZOFFSETTO:-0500
TZNAME:EST
DTSTART:20251102T060000
END:STANDARD
BEGIN:DAYLIGHT
TZOFFSETFROM:-0500
TZOFFSETTO:-0400
TZNAME:EDT
DTSTART:20260308T070000
END:DAYLIGHT
BEGIN:STANDARD
TZOFFSETFROM:-0400
TZOFFSETTO:-0500
TZNAME:EST
DTSTART:20261101T060000
END:STANDARD
BEGIN:DAYLIGHT
TZOFFSETFROM:-0500
TZOFFSETTO:-0400
TZNAME:EDT
DTSTART:20270314T070000
END:DAYLIGHT
BEGIN:STANDARD
TZOFFSETFROM:-0400
TZOFFSETTO:-0500
TZNAME:EST
DTSTART:20271107T060000
END:STANDARD
END:VTIMEZONE
BEGIN:VEVENT
DTSTART;VALUE=DATE:20260423
DTEND;VALUE=DATE:20260426
DTSTAMP:20260420T001555
CREATED:20250825T014343Z
LAST-MODIFIED:20250825T014343Z
UID:3799-1776902400-1777161599@kymotomag.com
SUMMARY:Michelin National Corvette Museum Bash
DESCRIPTION:Celebrate America’s Sports Car at the 29th Annual Michelin National Corvette Museum Bash! Join fellow enthusiasts for scenic road tours\, expert-led seminars\, and GM tech sessions. Explore the latest exhibits and shine up your ride for the Museum-judged car show. Registration opens February 2026. Stay tuned for details! Questions? Please call our Events Specialist Maci Johnson at (270) 467-8804 or our Events Administrative Assistant Melissia Comer at (270) 777-4556.
URL:https://kymotomag.com/event/michelin-national-corvette-museum-bash/
LOCATION:National Corvette Museum\, 350 Corvette Drive\, Bowling Green\, KY\, 42101\, United States
ATTACH;FMTTYPE=image/png:https://kymotomag.com/wp-content/uploads/2023/11/Corvette_Museum.png
END:VEVENT
BEGIN:VEVENT
DTSTART;VALUE=DATE:20260806
DTEND;VALUE=DATE:20260810
DTSTAMP:20260420T001555
CREATED:20250825T014931Z
LAST-MODIFIED:20250825T014931Z
UID:3804-1785974400-1786319999@kymotomag.com
SUMMARY:57th Annual Street Rod Nationals
DESCRIPTION:
URL:https://kymotomag.com/event/57th-annual-street-rod-nationals/
LOCATION:Kentucky Expo Center\, 937 Phillips Lane\, Louisville\, KY\, 40209\, United States
ATTACH;FMTTYPE=image/jpeg:https://kymotomag.com/wp-content/uploads/2025/08/NSRA.jpg
END:VEVENT
END:VCALENDAR