BEGIN:VCALENDAR
VERSION:2.0
PRODID:-//Kentucky Motorsports Magazine / KYMOTOMAG - ECPv6.15.20//NONSGML v1.0//EN
CALSCALE:GREGORIAN
METHOD:PUBLISH
X-ORIGINAL-URL:https://kymotomag.com
X-WR-CALDESC:Events for Kentucky Motorsports Magazine / KYMOTOMAG
REFRESH-INTERVAL;VALUE=DURATION:PT1H
X-Robots-Tag:noindex
X-PUBLISHED-TTL:PT1H
BEGIN:VTIMEZONE
TZID:America/Kentucky/Louisville
BEGIN:DAYLIGHT
TZOFFSETFROM:-0500
TZOFFSETTO:-0400
TZNAME:EDT
DTSTART:20240310T070000
END:DAYLIGHT
BEGIN:STANDARD
TZOFFSETFROM:-0400
TZOFFSETTO:-0500
TZNAME:EST
DTSTART:20241103T060000
END:STANDARD
BEGIN:DAYLIGHT
TZOFFSETFROM:-0500
TZOFFSETTO:-0400
TZNAME:EDT
DTSTART:20250309T070000
END:DAYLIGHT
BEGIN:STANDARD
TZOFFSETFROM:-0400
TZOFFSETTO:-0500
TZNAME:EST
DTSTART:20251102T060000
END:STANDARD
BEGIN:DAYLIGHT
TZOFFSETFROM:-0500
TZOFFSETTO:-0400
TZNAME:EDT
DTSTART:20260308T070000
END:DAYLIGHT
BEGIN:STANDARD
TZOFFSETFROM:-0400
TZOFFSETTO:-0500
TZNAME:EST
DTSTART:20261101T060000
END:STANDARD
END:VTIMEZONE
BEGIN:VEVENT
DTSTART;VALUE=DATE:20250503
DTEND;VALUE=DATE:20250506
DTSTAMP:20260421T011049
CREATED:20250502T191508Z
LAST-MODIFIED:20250502T191739Z
UID:2080-1746230400-1746489599@kymotomag.com
SUMMARY:Renfro Valley Dual Sport Motorcycle Ride
DESCRIPTION:Renfro Valley Dual Sport Motorcycle Ride will be held on May 3-4\, 2025. Participants will ride approximately 100 miles each day of challenging trails and scenic winding roads through the KY Renfro Valley region\, including the Daniel Boone Forest. We are excited to announce that Concerts 4 A Cause\, a KY 501(c)(3) non-profit\, will host the 2025 annual ride and donate the net proceeds to benefit local charitable organizations\, including the Climax\, Livingston\, and Sand Gap Fire Departments and the Kentucky Music Hall of Fame and Museum. \nRegistering online before the event is highly encouraged. Late registration will be accepted online and on-site at an increased ticket cost. Cash or credit card is accepted for on-site registration. See the event schedule for on-site registration times. This event will be held rain or shine.
URL:https://kymotomag.com/event/renfro-valley-dual-sport-motorcycle-ride/
LOCATION:Kentucky Music Hall of Fame\, 2590 Richmond Street\, Mt. Vernon\, 40456\, United States
CATEGORIES:Motorcycle,Off-Road
ATTACH;FMTTYPE=image/jpeg:https://kymotomag.com/wp-content/uploads/2025/05/05_2025_Renfro_Dual_Sport.jpg
END:VEVENT
BEGIN:VEVENT
DTSTART;TZID=America/Kentucky/Louisville:20250510T090000
DTEND;TZID=America/Kentucky/Louisville:20250510T170000
DTSTAMP:20260421T011049
CREATED:20250503T182105Z
LAST-MODIFIED:20250503T182105Z
UID:2191-1746867600-1746896400@kymotomag.com
SUMMARY:Pancake Breakfast and Motorcycle Ride
DESCRIPTION:
URL:https://kymotomag.com/event/pancake-breakfast-and-motorcycle-ride/
LOCATION:Red Lick VFD Station\, 699 Red Lick Road\, Berea\, United States
CATEGORIES:Motorcycle
ATTACH;FMTTYPE=image/jpeg:https://kymotomag.com/wp-content/uploads/2025/05/05_10_2025_Red_Lick_VFD.jpg
END:VEVENT
BEGIN:VEVENT
DTSTART;VALUE=DATE:20250515
DTEND;VALUE=DATE:20250519
DTSTAMP:20260421T011049
CREATED:20250503T184613Z
LAST-MODIFIED:20250503T184613Z
UID:2203-1747267200-1747612799@kymotomag.com
SUMMARY:2025 European Riders Ralley
DESCRIPTION:European (Motorcycle) Riders Rally\, May 15-18\, 2025 at beautiful Burkesville\, KY. Over $5\,000 value in raffle prizes\, FREE $100 Dunlop rebates\, FREE camping\, great food\, great roads\, fun events\, and many other features make this a unique and affordable adventure on 2 wheels. ALL BIKES ARE WELCOME.
URL:https://kymotomag.com/event/2025-european-riders-ralley/
LOCATION:Burkesville\, KY\, Burkesville\, United States
CATEGORIES:Motorcycle
ATTACH;FMTTYPE=image/jpeg:https://kymotomag.com/wp-content/uploads/2025/05/05_10_2025_European_Riders_Rally.jpg
END:VEVENT
BEGIN:VEVENT
DTSTART;TZID=America/Kentucky/Louisville:20250524T170000
DTEND;TZID=America/Kentucky/Louisville:20250524T210000
DTSTAMP:20260421T011049
CREATED:20250508T203348Z
LAST-MODIFIED:20250508T203348Z
UID:2305-1748106000-1748120400@kymotomag.com
SUMMARY:Four Leaf Studios Bike Night
DESCRIPTION:
URL:https://kymotomag.com/event/four-leaf-studios-bike-night/
LOCATION:Richmond\, KY
CATEGORIES:Motorcycle
ATTACH;FMTTYPE=image/jpeg:https://kymotomag.com/wp-content/uploads/2025/05/4Leaf_Bike_Night.jpg
END:VEVENT
BEGIN:VEVENT
DTSTART;VALUE=DATE:20250531
DTEND;VALUE=DATE:20250601
DTSTAMP:20260421T011049
CREATED:20250503T180128Z
LAST-MODIFIED:20250503T180128Z
UID:2172-1748649600-1748735999@kymotomag.com
SUMMARY:Post 87 BBQ and Bikes
DESCRIPTION:
URL:https://kymotomag.com/event/post-87-bbq-and-bikes/
LOCATION:Creekfront Park\, 250 Toonieville Road\, Hodgenville\, 42748\, United States
CATEGORIES:Motorcycle
ATTACH;FMTTYPE=image/jpeg:https://kymotomag.com/wp-content/uploads/2025/05/05_31_2025_Post_87.jpg
END:VEVENT
END:VCALENDAR