BEGIN:VCALENDAR
VERSION:2.0
PRODID:-//Kentucky Motorsports Magazine / KYMOTOMAG - ECPv6.15.20//NONSGML v1.0//EN
CALSCALE:GREGORIAN
METHOD:PUBLISH
X-WR-CALNAME:Kentucky Motorsports Magazine / KYMOTOMAG
X-ORIGINAL-URL:https://kymotomag.com
X-WR-CALDESC:Events for Kentucky Motorsports Magazine / KYMOTOMAG
REFRESH-INTERVAL;VALUE=DURATION:PT1H
X-Robots-Tag:noindex
X-PUBLISHED-TTL:PT1H
BEGIN:VTIMEZONE
TZID:America/Kentucky/Louisville
BEGIN:DAYLIGHT
TZOFFSETFROM:-0500
TZOFFSETTO:-0400
TZNAME:EDT
DTSTART:20240310T070000
END:DAYLIGHT
BEGIN:STANDARD
TZOFFSETFROM:-0400
TZOFFSETTO:-0500
TZNAME:EST
DTSTART:20241103T060000
END:STANDARD
BEGIN:DAYLIGHT
TZOFFSETFROM:-0500
TZOFFSETTO:-0400
TZNAME:EDT
DTSTART:20250309T070000
END:DAYLIGHT
BEGIN:STANDARD
TZOFFSETFROM:-0400
TZOFFSETTO:-0500
TZNAME:EST
DTSTART:20251102T060000
END:STANDARD
BEGIN:DAYLIGHT
TZOFFSETFROM:-0500
TZOFFSETTO:-0400
TZNAME:EDT
DTSTART:20260308T070000
END:DAYLIGHT
BEGIN:STANDARD
TZOFFSETFROM:-0400
TZOFFSETTO:-0500
TZNAME:EST
DTSTART:20261101T060000
END:STANDARD
END:VTIMEZONE
BEGIN:VEVENT
DTSTART;VALUE=DATE:20250918
DTEND;VALUE=DATE:20250922
DTSTAMP:20260420T081342
CREATED:20250727T235811Z
LAST-MODIFIED:20250727T235811Z
UID:3596-1758153600-1758499199@kymotomag.com
SUMMARY:The Harley Drags
DESCRIPTION:
URL:https://kymotomag.com/event/the-harley-drags/
LOCATION:Beech Bend Raceway Park\, 798 Beech Bend Road\, Richardsville\, KY\, 42101\, United States
CATEGORIES:Drag Racing,Motorcycle
ATTACH;FMTTYPE=image/jpeg:https://kymotomag.com/wp-content/uploads/2025/07/Harley_Drags.jpg
END:VEVENT
BEGIN:VEVENT
DTSTART;VALUE=DATE:20250822
DTEND;VALUE=DATE:20250825
DTSTAMP:20260420T081342
CREATED:20250617T020548Z
LAST-MODIFIED:20250617T020548Z
UID:3099-1755820800-1756079999@kymotomag.com
SUMMARY:Lucas Oil Drag Racing Series
DESCRIPTION:
URL:https://kymotomag.com/event/lucas-oil-drag-racing-series/
LOCATION:Beech Bend Raceway Park\, 798 Beech Bend Road\, Richardsville\, KY\, 42101\, United States
CATEGORIES:Drag Racing
ATTACH;FMTTYPE=image/jpeg:https://kymotomag.com/wp-content/uploads/2025/06/Lucas_Oil.jpg
END:VEVENT
BEGIN:VEVENT
DTSTART;TZID=America/Kentucky/Louisville:20250815T160000
DTEND;TZID=America/Kentucky/Louisville:20250815T230000
DTSTAMP:20260420T081342
CREATED:20250723T003611Z
LAST-MODIFIED:20250723T003611Z
UID:3534-1755273600-1755298800@kymotomag.com
SUMMARY:North VS South Showdown
DESCRIPTION:
URL:https://kymotomag.com/event/north-vs-south-showdown/
LOCATION:Kentucky Dragway\, 718 11th Street\, Clay City\, KY\, 40312\, United States
CATEGORIES:Drag Racing
ATTACH;FMTTYPE=image/jpeg:https://kymotomag.com/wp-content/uploads/2025/07/N_vs_S.jpg
END:VEVENT
END:VCALENDAR